{"text_format":"3","workbook":"xlsx","n_sheets":4,"sheets":["Програм","Програмска активност","Пројекат","Упутство"],"not_rendered":{"defined_names":239,"comments":3},"read":"whole","date_system":"1900"}

{"sheet":"Програм","index":0,"n_rows":125,"n_cols":22,"rows_kept":125,"merged":[[0,0,0,12],[1,0,1,12],[3,0,3,2],[3,3,3,10],[4,0,4,2],[5,0,5,2],[5,3,5,10],[6,0,6,2],[6,3,6,12],[7,0,7,2],[7,3,7,12],[8,0,8,2],[8,3,8,12],[9,0,9,2],[9,3,9,12],[10,0,10,2],[10,3,10,12],[12,0,13,0],[12,1,13,2],[12,3,12,12],[13,3,13,5],[13,11,13,12],[14,0,16,0],[14,1,16,2],[14,3,14,5],[14,11,14,12],[15,3,15,5],[15,11,15,12],[16,3,16,5],[16,11,16,12],[18,0,19,0],[18,1,19,2],[18,3,18,12],[19,3,19,5],[19,11,19,12],[20,0,22,0],[20,1,22,2],[20,3,20,5],[20,11,20,12],[21,3,21,5],[21,11,21,12],[22,3,22,5],[22,11,22,12],[24,0,25,0],[24,1,25,2],[24,3,24,12],[25,3,25,5],[25,11,25,12],[26,0,28,0],[26,1,28,2],[26,3,26,5],[26,11,26,12],[27,3,27,5],[27,11,27,12],[28,3,28,5],[28,11,28,12],[28,14,29,20],[30,0,31,0],[30,1,31,2],[30,3,30,12],[31,3,31,5],[31,11,31,12],[32,0,34,0],[32,1,34,2],[32,3,32,5],[32,11,32,12],[33,3,33,5],[33,11,33,12],[34,3,34,5],[34,11,34,12],[36,0,37,0],[36,1,37,2],[36,3,36,12],[37,3,37,5],[37,11,37,12],[38,0,40,0],[38,1,40,2],[38,3,38,5],[38,11,38,12],[39,3,39,5],[39,11,39,12],[40,3,40,5],[40,11,40,12],[42,0,43,0],[42,1,43,2],[42,3,42,4],[42,5,42,6],[42,7,42,8],[42,9,42,10],[42,11,42,12],[44,1,44,2],[45,1,45,2],[46,1,46,2],[47,1,47,2],[48,1,48,2],[48,14,51,20],[49,1,49,2],[50,1,50,2],[51,1,51,2],[52,1,52,2],[52,14,52,19],[53,1,53,2],[54,1,54,2],[55,1,55,2],[56,1,56,2],[57,1,57,2],[57,14,58,20],[58,1,58,2],[59,1,59,2],[60,1,60,2],[61,1,61,2],[61,14,61,19],[62,1,62,2],[63,1,63,2],[64,1,64,2],[65,1,65,2],[66,1,66,2],[67,1,67,2],[68,1,68,2],[69,1,69,2],[70,1,70,2],[71,1,71,2],[72,1,72,2],[73,1,73,2],[74,1,74,2],[75,1,75,2],[76,1,76,2],[77,1,77,2],[78,1,78,2],[79,1,79,2],[80,1,80,2],[81,1,81,2],[82,1,82,2],[83,1,83,2],[84,1,84,2],[85,1,85,2],[86,1,86,2],[87,1,87,2],[88,1,88,2],[89,1,89,2],[90,1,90,2],[91,1,91,2],[92,1,92,2],[93,1,93,2],[94,1,94,2],[95,1,95,2],[96,0,96,1],[98,1,98,2],[98,3,98,4],[98,5,98,6],[98,7,98,8],[98,9,98,10],[98,11,98,12],[99,1,99,2],[99,3,99,4],[99,5,99,6],[99,7,99,8],[99,9,99,10],[99,11,99,12],[100,1,100,2],[100,3,100,4],[100,5,100,6],[100,7,100,8],[100,9,100,10],[100,11,100,12],[101,1,101,2],[101,3,101,4],[101,5,101,6],[101,7,101,8],[101,9,101,10],[101,11,101,12],[102,1,102,2],[102,3,102,4],[102,5,102,6],[102,7,102,8],[102,9,102,10],[102,11,102,12],[103,1,103,2],[103,3,103,4],[103,5,103,6],[103,7,103,8],[103,9,103,10],[103,11,103,12],[104,1,104,2],[104,3,104,4],[104,5,104,6],[104,7,104,8],[104,9,104,10],[104,11,104,12],[105,1,105,2],[105,3,105,4],[105,5,105,6],[105,7,105,8],[105,9,105,10],[105,11,105,12],[106,1,106,2],[106,3,106,4],[106,5,106,6],[106,7,106,8],[106,9,106,10],[106,11,106,12],[107,1,107,2],[107,3,107,4],[107,5,107,6],[107,7,107,8],[107,9,107,10],[107,11,107,12],[107,14,108,22],[108,1,108,2],[108,3,108,4],[108,5,108,6],[108,7,108,8],[108,9,108,10],[108,11,108,12],[109,1,109,2],[109,3,109,4],[109,5,109,6],[109,7,109,8],[109,9,109,10],[109,11,109,12],[110,1,110,2],[110,3,110,4],[110,5,110,6],[110,7,110,8],[110,9,110,10],[110,11,110,12],[111,1,111,2],[111,3,111,4],[111,5,111,6],[111,7,111,8],[111,9,111,10],[111,11,111,12],[112,1,112,2],[112,3,112,4],[112,5,112,6],[112,7,112,8],[112,9,112,10],[112,11,112,12],[113,1,113,2],[113,3,113,4],[113,5,113,6],[113,7,113,8],[113,9,113,10],[113,11,113,12],[114,1,114,2],[114,3,114,4],[114,5,114,6],[114,7,114,8],[114,9,114,10],[114,11,114,12],[115,1,115,2],[115,3,115,4],[115,5,115,6],[115,7,115,8],[115,9,115,10],[115,11,115,12],[116,0,116,1],[116,3,116,4],[116,5,116,6],[116,7,116,8],[116,9,116,10],[116,11,116,12],[122,10,122,11]]}
["Обрасци за припрему програмског буџета"]
["1. ПРОГРАМ "]
[{"$nulls":21},{"$f":"VLOOKUP($D$4,Упутство!$B$38:$C$52,2,FALSE)","v":{"$error":"#N/A"}}]
["Назив програма:",{"$nulls":20},{"$f":"VLOOKUP($D$5,Упутство!$A$76:$B$90,2,FALSE)","v":{"$error":"#N/A"}}]
["Шифра програма:",null,null,{"$f":"IF(D4=\"\",\"\",VLOOKUP(D4,Упутство!A2:B18,2,FALSE))","v":""},{"$nulls":17},{"$f":"VLOOKUP($B$15,Упутство!$A$93:$B$124,2,FALSE)","v":{"$error":"#N/A"}}]
["Сектор:",null,null,{"$f":"IF(D4=\"\",\"\",VLOOKUP(D4,Упутство!$A$319:$B$333,2,FALSE))","v":""},{"$nulls":17},{"$f":"VLOOKUP($B$21,Упутство!$A$93:$B$124,2,FALSE)","v":{"$error":"#N/A"}}]
["Сврха:",null,null,{"$f":"IF(D5=\"\",\"\",VLOOKUP(D5,Упутство!$B$2:$C$18,2,FALSE))","v":""},{"$nulls":17},{"$f":"VLOOKUP($B$27,Упутство!$A$93:$B$124,2,FALSE)","v":{"$error":"#N/A"}}]
["Основ:",{"$nulls":20},{"$f":"VLOOKUP($B$27,Упутство!$A$93:$B$124,2,FALSE)","v":{"$error":"#N/A"}}]
["Опис: ",{"$nulls":20},{"$f":"VLOOKUP($B$39,Упутство!$A$93:$B$124,2,FALSE)","v":{"$error":"#N/A"}}]
["Назив организационе јединице/Буџетски корисник:"]
["Одговорно лице за спровођење програмa:"]
[]
[null,"Циљ*",null,"Индикатори**"]
[{"$nulls":3},"Назив индикатора",null,null,"Вредност у базној години (крај 2014.)","Очекивана вредност у 2015. години","Циљана вредност 2016.","Циљана вредност 2017.","Циљана вредност 2018.","Извор верификације"]
[1]
[]
[]
[]
[null,"Циљ",null,"Индикатори "]
[{"$nulls":3},"Назив индикатора",null,null,"Вредност у базној години (крај 2014.)","Очекивана вредност у 2015. години","Циљана вредност 2016.","Циљана вредност 2017.","Циљана вредност 2018.","Извор верификације"]
[2]
[]
[]
[]
[null,"Циљ",null,"Индикатори"]
[{"$nulls":3},"Назив индикатора",null,null,"Вредност у базној години (крај 2014.)","Очекивана вредност у 2015. години","Циљана вредност 2016.","Циљана вредност 2017.","Циљана вредност 2018.","Извор верификације"]
[3]
[]
[{"$nulls":14},"Између 30. и 42. реда се налазе још 2 циља уколико је потребно . Активирају се маркирањем целог  30. и 42. реда > десни клик> опција \"Unhide\". Графичку илустрацију поступка видети у Упутству."]
[]
[null,"Циљ",null,"Индикатори"]
[{"$nulls":3},"Назив индикатора",null,null,"Вредност у базној години (крај 2014.)","Очекивана вредност у 2015. години","Циљана вредност 2016.","Циљана вредност 2017.","Циљана вредност 2018.","Извор верификације"]
[4]
[]
[]
[]
[null,"Циљ",null,"Индикатори"]
[{"$nulls":3},"Назив индикатора",null,null,"Вредност у базној години (крај 2014.)","Очекивана вредност у 2015. години","Циљана вредност 2016.","Циљана вредност 2017.","Циљана вредност 2018.","Извор верификације"]
[5]
[]
[]
[]
["Рбр.","Списак програмских активности и пројеката у оквиру програма по буџетским корисницима",null,"Вредност у базној години (2015)",null,"Вредност у 2016.",null,"Вредност у 2017.",null,"Вредност у 2018.",null,"Укупно (2016-2018)"]
[{"$nulls":3},"Буџетска средства","Средства из осталих извора","Буџетска средства","Средства из осталих извора","Буџетска средства","Средства из осталих извора","Буџетска средства","Средства из осталих извора","Буџетска средства","Средства из осталих извора"]
[1,{"$f":"IFERROR(VLOOKUP(ROWS($B$45:B45),Упутство!$B$337:$D$436,3,FALSE),\"\")","v":""},null,{"$f":"IFERROR(VLOOKUP(ROWS(D$45:D45),Упутство!$B$337:$L$436,4,FALSE),\"\")","v":""},{"$f":"IFERROR(VLOOKUP(ROWS(E$45:E45),Упутство!$B$337:$L$436,5,FALSE),\"\")","v":""},{"$f":"IFERROR(VLOOKUP(ROWS(F$45:F45),Упутство!$B$337:$L$436,6,FALSE),\"\")","v":""},{"$f":"IFERROR(VLOOKUP(ROWS(G$45:G45),Упутство!$B$337:$L$436,7,FALSE),\"\")","v":""},{"$f":"IFERROR(VLOOKUP(ROWS(H$45:H45),Упутство!$B$337:$L$436,8,FALSE),\"\")","v":""},{"$f":"IFERROR(VLOOKUP(ROWS(I$45:I45),Упутство!$B$337:$L$436,9,FALSE),\"\")","v":""},{"$f":"IFERROR(VLOOKUP(ROWS(J$45:J45),Упутство!$B$337:$L$436,10,FALSE),\"\")","v":""},{"$f":"IFERROR(VLOOKUP(ROWS(K$45:K45),Упутство!$B$337:$L$436,11,FALSE),\"\")","v":""},{"$f":"SUM(F45,H45,J45)","v":0},{"$f":"SUM(G45,I45,K45)","v":0}]
[{"$f":"A45+1","v":2},{"$f":"IFERROR(VLOOKUP(ROWS($B$45:B46),Упутство!$B$337:$D$436,3,FALSE),\"\")","v":""},null,{"$f":"IFERROR(VLOOKUP(ROWS(D$45:D46),Упутство!$B$337:$L$436,4,FALSE),\"\")","v":""},{"$f":"IFERROR(VLOOKUP(ROWS(E$45:E46),Упутство!$B$337:$L$436,5,FALSE),\"\")","v":""},{"$f":"IFERROR(VLOOKUP(ROWS(F$45:F46),Упутство!$B$337:$L$436,6,FALSE),\"\")","v":""},{"$f":"IFERROR(VLOOKUP(ROWS(G$45:G46),Упутство!$B$337:$L$436,7,FALSE),\"\")","v":""},{"$f":"IFERROR(VLOOKUP(ROWS(H$45:H46),Упутство!$B$337:$L$436,8,FALSE),\"\")","v":""},{"$f":"IFERROR(VLOOKUP(ROWS(I$45:I46),Упутство!$B$337:$L$436,9,FALSE),\"\")","v":""},{"$f":"IFERROR(VLOOKUP(ROWS(J$45:J46),Упутство!$B$337:$L$436,10,FALSE),\"\")","v":""},{"$f":"IFERROR(VLOOKUP(ROWS(K$45:K46),Упутство!$B$337:$L$436,11,FALSE),\"\")","v":""},{"$f":"SUM(F46,H46,J46)","v":0},{"$f":"SUM(G46,I46,K46)","v":0}]
[{"$f":"A46+1","v":3},{"$f":"IFERROR(VLOOKUP(ROWS($B$45:B47),Упутство!$B$337:$D$436,3,FALSE),\"\")","v":""},null,{"$f":"IFERROR(VLOOKUP(ROWS(D$45:D47),Упутство!$B$337:$L$436,4,FALSE),\"\")","v":""},{"$f":"IFERROR(VLOOKUP(ROWS(E$45:E47),Упутство!$B$337:$L$436,5,FALSE),\"\")","v":""},{"$f":"IFERROR(VLOOKUP(ROWS(F$45:F47),Упутство!$B$337:$L$436,6,FALSE),\"\")","v":""},{"$f":"IFERROR(VLOOKUP(ROWS(G$45:G47),Упутство!$B$337:$L$436,7,FALSE),\"\")","v":""},{"$f":"IFERROR(VLOOKUP(ROWS(H$45:H47),Упутство!$B$337:$L$436,8,FALSE),\"\")","v":""},{"$f":"IFERROR(VLOOKUP(ROWS(I$45:I47),Упутство!$B$337:$L$436,9,FALSE),\"\")","v":""},{"$f":"IFERROR(VLOOKUP(ROWS(J$45:J47),Упутство!$B$337:$L$436,10,FALSE),\"\")","v":""},{"$f":"IFERROR(VLOOKUP(ROWS(K$45:K47),Упутство!$B$337:$L$436,11,FALSE),\"\")","v":""},0,0]
[{"$f":"A47+1","v":4},{"$f":"IFERROR(VLOOKUP(ROWS($B$45:B48),Упутство!$B$337:$D$436,3,FALSE),\"\")","v":""},null,{"$f":"IFERROR(VLOOKUP(ROWS(D$45:D48),Упутство!$B$337:$L$436,4,FALSE),\"\")","v":""},{"$f":"IFERROR(VLOOKUP(ROWS(E$45:E48),Упутство!$B$337:$L$436,5,FALSE),\"\")","v":""},{"$f":"IFERROR(VLOOKUP(ROWS(F$45:F48),Упутство!$B$337:$L$436,6,FALSE),\"\")","v":""},{"$f":"IFERROR(VLOOKUP(ROWS(G$45:G48),Упутство!$B$337:$L$436,7,FALSE),\"\")","v":""},{"$f":"IFERROR(VLOOKUP(ROWS(H$45:H48),Упутство!$B$337:$L$436,8,FALSE),\"\")","v":""},{"$f":"IFERROR(VLOOKUP(ROWS(I$45:I48),Упутство!$B$337:$L$436,9,FALSE),\"\")","v":""},{"$f":"IFERROR(VLOOKUP(ROWS(J$45:J48),Упутство!$B$337:$L$436,10,FALSE),\"\")","v":""},{"$f":"IFERROR(VLOOKUP(ROWS(K$45:K48),Упутство!$B$337:$L$436,11,FALSE),\"\")","v":""},0,0]
[{"$f":"A48+1","v":5},{"$f":"IFERROR(VLOOKUP(ROWS($B$45:B49),Упутство!$B$337:$D$436,3,FALSE),\"\")","v":""},null,{"$f":"IFERROR(VLOOKUP(ROWS(D$45:D49),Упутство!$B$337:$L$436,4,FALSE),\"\")","v":""},{"$f":"IFERROR(VLOOKUP(ROWS(E$45:E49),Упутство!$B$337:$L$436,5,FALSE),\"\")","v":""},{"$f":"IFERROR(VLOOKUP(ROWS(F$45:F49),Упутство!$B$337:$L$436,6,FALSE),\"\")","v":""},{"$f":"IFERROR(VLOOKUP(ROWS(G$45:G49),Упутство!$B$337:$L$436,7,FALSE),\"\")","v":""},{"$f":"IFERROR(VLOOKUP(ROWS(H$45:H49),Упутство!$B$337:$L$436,8,FALSE),\"\")","v":""},{"$f":"IFERROR(VLOOKUP(ROWS(I$45:I49),Упутство!$B$337:$L$436,9,FALSE),\"\")","v":""},{"$f":"IFERROR(VLOOKUP(ROWS(J$45:J49),Упутство!$B$337:$L$436,10,FALSE),\"\")","v":""},{"$f":"IFERROR(VLOOKUP(ROWS(K$45:K49),Упутство!$B$337:$L$436,11,FALSE),\"\")","v":""},0,0]
[6,{"$f":"IFERROR(VLOOKUP(ROWS($B$45:B50),Упутство!$B$337:$D$436,3,FALSE),\"\")","v":""},null,{"$f":"IFERROR(VLOOKUP(ROWS(D$45:D50),Упутство!$B$337:$L$436,4,FALSE),\"\")","v":""},{"$f":"IFERROR(VLOOKUP(ROWS(E$45:E50),Упутство!$B$337:$L$436,5,FALSE),\"\")","v":""},{"$f":"IFERROR(VLOOKUP(ROWS(F$45:F50),Упутство!$B$337:$L$436,6,FALSE),\"\")","v":""},{"$f":"IFERROR(VLOOKUP(ROWS(G$45:G50),Упутство!$B$337:$L$436,7,FALSE),\"\")","v":""},{"$f":"IFERROR(VLOOKUP(ROWS(H$45:H50),Упутство!$B$337:$L$436,8,FALSE),\"\")","v":""},{"$f":"IFERROR(VLOOKUP(ROWS(I$45:I50),Упутство!$B$337:$L$436,9,FALSE),\"\")","v":""},{"$f":"IFERROR(VLOOKUP(ROWS(J$45:J50),Упутство!$B$337:$L$436,10,FALSE),\"\")","v":""},{"$f":"IFERROR(VLOOKUP(ROWS(K$45:K50),Упутство!$B$337:$L$436,11,FALSE),\"\")","v":""},0,0]
[7,{"$f":"IFERROR(VLOOKUP(ROWS($B$45:B51),Упутство!$B$337:$D$436,3,FALSE),\"\")","v":""},null,{"$f":"IFERROR(VLOOKUP(ROWS(D$45:D51),Упутство!$B$337:$L$436,4,FALSE),\"\")","v":""},{"$f":"IFERROR(VLOOKUP(ROWS(E$45:E51),Упутство!$B$337:$L$436,5,FALSE),\"\")","v":""},{"$f":"IFERROR(VLOOKUP(ROWS(F$45:F51),Упутство!$B$337:$L$436,6,FALSE),\"\")","v":""},{"$f":"IFERROR(VLOOKUP(ROWS(G$45:G51),Упутство!$B$337:$L$436,7,FALSE),\"\")","v":""},{"$f":"IFERROR(VLOOKUP(ROWS(H$45:H51),Упутство!$B$337:$L$436,8,FALSE),\"\")","v":""},{"$f":"IFERROR(VLOOKUP(ROWS(I$45:I51),Упутство!$B$337:$L$436,9,FALSE),\"\")","v":""},{"$f":"IFERROR(VLOOKUP(ROWS(J$45:J51),Упутство!$B$337:$L$436,10,FALSE),\"\")","v":""},{"$f":"IFERROR(VLOOKUP(ROWS(K$45:K51),Упутство!$B$337:$L$436,11,FALSE),\"\")","v":""},0,0]
[8,{"$f":"IFERROR(VLOOKUP(ROWS($B$45:B52),Упутство!$B$337:$D$436,3,FALSE),\"\")","v":""},null,{"$f":"IFERROR(VLOOKUP(ROWS(D$45:D52),Упутство!$B$337:$L$436,4,FALSE),\"\")","v":""},{"$f":"IFERROR(VLOOKUP(ROWS(E$45:E52),Упутство!$B$337:$L$436,5,FALSE),\"\")","v":""},{"$f":"IFERROR(VLOOKUP(ROWS(F$45:F52),Упутство!$B$337:$L$436,6,FALSE),\"\")","v":""},{"$f":"IFERROR(VLOOKUP(ROWS(G$45:G52),Упутство!$B$337:$L$436,7,FALSE),\"\")","v":""},{"$f":"IFERROR(VLOOKUP(ROWS(H$45:H52),Упутство!$B$337:$L$436,8,FALSE),\"\")","v":""},{"$f":"IFERROR(VLOOKUP(ROWS(I$45:I52),Упутство!$B$337:$L$436,9,FALSE),\"\")","v":""},{"$f":"IFERROR(VLOOKUP(ROWS(J$45:J52),Упутство!$B$337:$L$436,10,FALSE),\"\")","v":""},{"$f":"IFERROR(VLOOKUP(ROWS(K$45:K52),Упутство!$B$337:$L$436,11,FALSE),\"\")","v":""},0,0]
[9,{"$f":"IFERROR(VLOOKUP(ROWS($B$45:B53),Упутство!$B$337:$D$436,3,FALSE),\"\")","v":""},null,{"$f":"IFERROR(VLOOKUP(ROWS(D$45:D53),Упутство!$B$337:$L$436,4,FALSE),\"\")","v":""},{"$f":"IFERROR(VLOOKUP(ROWS(E$45:E53),Упутство!$B$337:$L$436,5,FALSE),\"\")","v":""},{"$f":"IFERROR(VLOOKUP(ROWS(F$45:F53),Упутство!$B$337:$L$436,6,FALSE),\"\")","v":""},{"$f":"IFERROR(VLOOKUP(ROWS(G$45:G53),Упутство!$B$337:$L$436,7,FALSE),\"\")","v":""},{"$f":"IFERROR(VLOOKUP(ROWS(H$45:H53),Упутство!$B$337:$L$436,8,FALSE),\"\")","v":""},{"$f":"IFERROR(VLOOKUP(ROWS(I$45:I53),Упутство!$B$337:$L$436,9,FALSE),\"\")","v":""},{"$f":"IFERROR(VLOOKUP(ROWS(J$45:J53),Упутство!$B$337:$L$436,10,FALSE),\"\")","v":""},{"$f":"IFERROR(VLOOKUP(ROWS(K$45:K53),Упутство!$B$337:$L$436,11,FALSE),\"\")","v":""},0,0]
[10,{"$f":"IFERROR(VLOOKUP(ROWS($B$45:B54),Упутство!$B$337:$D$436,3,FALSE),\"\")","v":""},null,{"$f":"IFERROR(VLOOKUP(ROWS(D$45:D54),Упутство!$B$337:$L$436,4,FALSE),\"\")","v":""},{"$f":"IFERROR(VLOOKUP(ROWS(E$45:E54),Упутство!$B$337:$L$436,5,FALSE),\"\")","v":""},{"$f":"IFERROR(VLOOKUP(ROWS(F$45:F54),Упутство!$B$337:$L$436,6,FALSE),\"\")","v":""},{"$f":"IFERROR(VLOOKUP(ROWS(G$45:G54),Упутство!$B$337:$L$436,7,FALSE),\"\")","v":""},{"$f":"IFERROR(VLOOKUP(ROWS(H$45:H54),Упутство!$B$337:$L$436,8,FALSE),\"\")","v":""},{"$f":"IFERROR(VLOOKUP(ROWS(I$45:I54),Упутство!$B$337:$L$436,9,FALSE),\"\")","v":""},{"$f":"IFERROR(VLOOKUP(ROWS(J$45:J54),Упутство!$B$337:$L$436,10,FALSE),\"\")","v":""},{"$f":"IFERROR(VLOOKUP(ROWS(K$45:K54),Упутство!$B$337:$L$436,11,FALSE),\"\")","v":""},0,0]
[11,{"$f":"IFERROR(VLOOKUP(ROWS($B$45:B55),Упутство!$B$337:$D$436,3,FALSE),\"\")","v":""},null,{"$f":"IFERROR(VLOOKUP(ROWS(D$45:D55),Упутство!$B$337:$L$436,4,FALSE),\"\")","v":""},{"$f":"IFERROR(VLOOKUP(ROWS(E$45:E55),Упутство!$B$337:$L$436,5,FALSE),\"\")","v":""},{"$f":"IFERROR(VLOOKUP(ROWS(F$45:F55),Упутство!$B$337:$L$436,6,FALSE),\"\")","v":""},{"$f":"IFERROR(VLOOKUP(ROWS(G$45:G55),Упутство!$B$337:$L$436,7,FALSE),\"\")","v":""},{"$f":"IFERROR(VLOOKUP(ROWS(H$45:H55),Упутство!$B$337:$L$436,8,FALSE),\"\")","v":""},{"$f":"IFERROR(VLOOKUP(ROWS(I$45:I55),Упутство!$B$337:$L$436,9,FALSE),\"\")","v":""},{"$f":"IFERROR(VLOOKUP(ROWS(J$45:J55),Упутство!$B$337:$L$436,10,FALSE),\"\")","v":""},{"$f":"IFERROR(VLOOKUP(ROWS(K$45:K55),Упутство!$B$337:$L$436,11,FALSE),\"\")","v":""},0,0]
[12,{"$f":"IFERROR(VLOOKUP(ROWS($B$45:B56),Упутство!$B$337:$D$436,3,FALSE),\"\")","v":""},null,{"$f":"IFERROR(VLOOKUP(ROWS(D$45:D56),Упутство!$B$337:$L$436,4,FALSE),\"\")","v":""},{"$f":"IFERROR(VLOOKUP(ROWS(E$45:E56),Упутство!$B$337:$L$436,5,FALSE),\"\")","v":""},{"$f":"IFERROR(VLOOKUP(ROWS(F$45:F56),Упутство!$B$337:$L$436,6,FALSE),\"\")","v":""},{"$f":"IFERROR(VLOOKUP(ROWS(G$45:G56),Упутство!$B$337:$L$436,7,FALSE),\"\")","v":""},{"$f":"IFERROR(VLOOKUP(ROWS(H$45:H56),Упутство!$B$337:$L$436,8,FALSE),\"\")","v":""},{"$f":"IFERROR(VLOOKUP(ROWS(I$45:I56),Упутство!$B$337:$L$436,9,FALSE),\"\")","v":""},{"$f":"IFERROR(VLOOKUP(ROWS(J$45:J56),Упутство!$B$337:$L$436,10,FALSE),\"\")","v":""},{"$f":"IFERROR(VLOOKUP(ROWS(K$45:K56),Упутство!$B$337:$L$436,11,FALSE),\"\")","v":""},0,0]
[13,{"$f":"IFERROR(VLOOKUP(ROWS($B$45:B57),Упутство!$B$337:$D$436,3,FALSE),\"\")","v":""},null,{"$f":"IFERROR(VLOOKUP(ROWS(D$45:D57),Упутство!$B$337:$L$436,4,FALSE),\"\")","v":""},{"$f":"IFERROR(VLOOKUP(ROWS(E$45:E57),Упутство!$B$337:$L$436,5,FALSE),\"\")","v":""},{"$f":"IFERROR(VLOOKUP(ROWS(F$45:F57),Упутство!$B$337:$L$436,6,FALSE),\"\")","v":""},{"$f":"IFERROR(VLOOKUP(ROWS(G$45:G57),Упутство!$B$337:$L$436,7,FALSE),\"\")","v":""},{"$f":"IFERROR(VLOOKUP(ROWS(H$45:H57),Упутство!$B$337:$L$436,8,FALSE),\"\")","v":""},{"$f":"IFERROR(VLOOKUP(ROWS(I$45:I57),Упутство!$B$337:$L$436,9,FALSE),\"\")","v":""},{"$f":"IFERROR(VLOOKUP(ROWS(J$45:J57),Упутство!$B$337:$L$436,10,FALSE),\"\")","v":""},{"$f":"IFERROR(VLOOKUP(ROWS(K$45:K57),Упутство!$B$337:$L$436,11,FALSE),\"\")","v":""},0,0]
[14,{"$f":"IFERROR(VLOOKUP(ROWS($B$45:B58),Упутство!$B$337:$D$436,3,FALSE),\"\")","v":""},null,{"$f":"IFERROR(VLOOKUP(ROWS(D$45:D58),Упутство!$B$337:$L$436,4,FALSE),\"\")","v":""},{"$f":"IFERROR(VLOOKUP(ROWS(E$45:E58),Упутство!$B$337:$L$436,5,FALSE),\"\")","v":""},{"$f":"IFERROR(VLOOKUP(ROWS(F$45:F58),Упутство!$B$337:$L$436,6,FALSE),\"\")","v":""},{"$f":"IFERROR(VLOOKUP(ROWS(G$45:G58),Упутство!$B$337:$L$436,7,FALSE),\"\")","v":""},{"$f":"IFERROR(VLOOKUP(ROWS(H$45:H58),Упутство!$B$337:$L$436,8,FALSE),\"\")","v":""},{"$f":"IFERROR(VLOOKUP(ROWS(I$45:I58),Упутство!$B$337:$L$436,9,FALSE),\"\")","v":""},{"$f":"IFERROR(VLOOKUP(ROWS(J$45:J58),Упутство!$B$337:$L$436,10,FALSE),\"\")","v":""},{"$f":"IFERROR(VLOOKUP(ROWS(K$45:K58),Упутство!$B$337:$L$436,11,FALSE),\"\")","v":""},0,0,null,"Између 59. и 97. реда се налазе додатни редови за пројекте уколико је потребно . Активирају се заједничким маркирањем 59. и 97 реда > десни клик> опција \"Unhide\".  Графичку илустрацију поступка видети у Упутству."]
[{"$f":"A58+1","v":15},{"$f":"IFERROR(VLOOKUP(ROWS($B$45:B59),Упутство!$B$337:$D$436,3,FALSE),\"\")","v":""},null,{"$f":"IFERROR(VLOOKUP(ROWS(D$45:D59),Упутство!$B$337:$L$436,4,FALSE),\"\")","v":""},{"$f":"IFERROR(VLOOKUP(ROWS(E$45:E59),Упутство!$B$337:$L$436,5,FALSE),\"\")","v":""},{"$f":"IFERROR(VLOOKUP(ROWS(F$45:F59),Упутство!$B$337:$L$436,6,FALSE),\"\")","v":""},{"$f":"IFERROR(VLOOKUP(ROWS(G$45:G59),Упутство!$B$337:$L$436,7,FALSE),\"\")","v":""},{"$f":"IFERROR(VLOOKUP(ROWS(H$45:H59),Упутство!$B$337:$L$436,8,FALSE),\"\")","v":""},{"$f":"IFERROR(VLOOKUP(ROWS(I$45:I59),Упутство!$B$337:$L$436,9,FALSE),\"\")","v":""},{"$f":"IFERROR(VLOOKUP(ROWS(J$45:J59),Упутство!$B$337:$L$436,10,FALSE),\"\")","v":""},{"$f":"IFERROR(VLOOKUP(ROWS(K$45:K59),Упутство!$B$337:$L$436,11,FALSE),\"\")","v":""},0,0]
[16,{"$f":"IFERROR(VLOOKUP(ROWS($B$45:B60),Упутство!$B$337:$D$436,3,FALSE),\"\")","v":""},null,{"$f":"IFERROR(VLOOKUP(ROWS(D$45:D60),Упутство!$B$337:$L$436,4,FALSE),\"\")","v":""},{"$f":"IFERROR(VLOOKUP(ROWS(E$45:E60),Упутство!$B$337:$L$436,5,FALSE),\"\")","v":""},{"$f":"IFERROR(VLOOKUP(ROWS(F$45:F60),Упутство!$B$337:$L$436,6,FALSE),\"\")","v":""},{"$f":"IFERROR(VLOOKUP(ROWS(G$45:G60),Упутство!$B$337:$L$436,7,FALSE),\"\")","v":""},{"$f":"IFERROR(VLOOKUP(ROWS(H$45:H60),Упутство!$B$337:$L$436,8,FALSE),\"\")","v":""},{"$f":"IFERROR(VLOOKUP(ROWS(I$45:I60),Упутство!$B$337:$L$436,9,FALSE),\"\")","v":""},{"$f":"IFERROR(VLOOKUP(ROWS(J$45:J60),Упутство!$B$337:$L$436,10,FALSE),\"\")","v":""},{"$f":"IFERROR(VLOOKUP(ROWS(K$45:K60),Упутство!$B$337:$L$436,11,FALSE),\"\")","v":""},0,0]
[17,{"$f":"IFERROR(VLOOKUP(ROWS($B$45:B61),Упутство!$B$337:$D$436,3,FALSE),\"\")","v":""},null,{"$f":"IFERROR(VLOOKUP(ROWS(D$45:D61),Упутство!$B$337:$L$436,4,FALSE),\"\")","v":""},{"$f":"IFERROR(VLOOKUP(ROWS(E$45:E61),Упутство!$B$337:$L$436,5,FALSE),\"\")","v":""},{"$f":"IFERROR(VLOOKUP(ROWS(F$45:F61),Упутство!$B$337:$L$436,6,FALSE),\"\")","v":""},{"$f":"IFERROR(VLOOKUP(ROWS(G$45:G61),Упутство!$B$337:$L$436,7,FALSE),\"\")","v":""},{"$f":"IFERROR(VLOOKUP(ROWS(H$45:H61),Упутство!$B$337:$L$436,8,FALSE),\"\")","v":""},{"$f":"IFERROR(VLOOKUP(ROWS(I$45:I61),Упутство!$B$337:$L$436,9,FALSE),\"\")","v":""},{"$f":"IFERROR(VLOOKUP(ROWS(J$45:J61),Упутство!$B$337:$L$436,10,FALSE),\"\")","v":""},{"$f":"IFERROR(VLOOKUP(ROWS(K$45:K61),Упутство!$B$337:$L$436,11,FALSE),\"\")","v":""},0,0]
[18,{"$f":"IFERROR(VLOOKUP(ROWS($B$45:B62),Упутство!$B$337:$D$436,3,FALSE),\"\")","v":""},null,{"$f":"IFERROR(VLOOKUP(ROWS(D$45:D62),Упутство!$B$337:$L$436,4,FALSE),\"\")","v":""},{"$f":"IFERROR(VLOOKUP(ROWS(E$45:E62),Упутство!$B$337:$L$436,5,FALSE),\"\")","v":""},{"$f":"IFERROR(VLOOKUP(ROWS(F$45:F62),Упутство!$B$337:$L$436,6,FALSE),\"\")","v":""},{"$f":"IFERROR(VLOOKUP(ROWS(G$45:G62),Упутство!$B$337:$L$436,7,FALSE),\"\")","v":""},{"$f":"IFERROR(VLOOKUP(ROWS(H$45:H62),Упутство!$B$337:$L$436,8,FALSE),\"\")","v":""},{"$f":"IFERROR(VLOOKUP(ROWS(I$45:I62),Упутство!$B$337:$L$436,9,FALSE),\"\")","v":""},{"$f":"IFERROR(VLOOKUP(ROWS(J$45:J62),Упутство!$B$337:$L$436,10,FALSE),\"\")","v":""},{"$f":"IFERROR(VLOOKUP(ROWS(K$45:K62),Упутство!$B$337:$L$436,11,FALSE),\"\")","v":""},0,0]
[19,{"$f":"IFERROR(VLOOKUP(ROWS($B$45:B63),Упутство!$B$337:$D$436,3,FALSE),\"\")","v":""},null,{"$f":"IFERROR(VLOOKUP(ROWS(D$45:D63),Упутство!$B$337:$L$436,4,FALSE),\"\")","v":""},{"$f":"IFERROR(VLOOKUP(ROWS(E$45:E63),Упутство!$B$337:$L$436,5,FALSE),\"\")","v":""},{"$f":"IFERROR(VLOOKUP(ROWS(F$45:F63),Упутство!$B$337:$L$436,6,FALSE),\"\")","v":""},{"$f":"IFERROR(VLOOKUP(ROWS(G$45:G63),Упутство!$B$337:$L$436,7,FALSE),\"\")","v":""},{"$f":"IFERROR(VLOOKUP(ROWS(H$45:H63),Упутство!$B$337:$L$436,8,FALSE),\"\")","v":""},{"$f":"IFERROR(VLOOKUP(ROWS(I$45:I63),Упутство!$B$337:$L$436,9,FALSE),\"\")","v":""},{"$f":"IFERROR(VLOOKUP(ROWS(J$45:J63),Упутство!$B$337:$L$436,10,FALSE),\"\")","v":""},{"$f":"IFERROR(VLOOKUP(ROWS(K$45:K63),Упутство!$B$337:$L$436,11,FALSE),\"\")","v":""},0,0]
[20,{"$f":"IFERROR(VLOOKUP(ROWS($B$45:B64),Упутство!$B$337:$D$436,3,FALSE),\"\")","v":""},null,{"$f":"IFERROR(VLOOKUP(ROWS(D$45:D64),Упутство!$B$337:$L$436,4,FALSE),\"\")","v":""},{"$f":"IFERROR(VLOOKUP(ROWS(E$45:E64),Упутство!$B$337:$L$436,5,FALSE),\"\")","v":""},{"$f":"IFERROR(VLOOKUP(ROWS(F$45:F64),Упутство!$B$337:$L$436,6,FALSE),\"\")","v":""},{"$f":"IFERROR(VLOOKUP(ROWS(G$45:G64),Упутство!$B$337:$L$436,7,FALSE),\"\")","v":""},{"$f":"IFERROR(VLOOKUP(ROWS(H$45:H64),Упутство!$B$337:$L$436,8,FALSE),\"\")","v":""},{"$f":"IFERROR(VLOOKUP(ROWS(I$45:I64),Упутство!$B$337:$L$436,9,FALSE),\"\")","v":""},{"$f":"IFERROR(VLOOKUP(ROWS(J$45:J64),Упутство!$B$337:$L$436,10,FALSE),\"\")","v":""},{"$f":"IFERROR(VLOOKUP(ROWS(K$45:K64),Упутство!$B$337:$L$436,11,FALSE),\"\")","v":""},0,0]
[21,{"$f":"IFERROR(VLOOKUP(ROWS($B$45:B65),Упутство!$B$337:$D$436,3,FALSE),\"\")","v":""},null,{"$f":"IFERROR(VLOOKUP(ROWS(D$45:D65),Упутство!$B$337:$L$436,4,FALSE),\"\")","v":""},{"$f":"IFERROR(VLOOKUP(ROWS(E$45:E65),Упутство!$B$337:$L$436,5,FALSE),\"\")","v":""},{"$f":"IFERROR(VLOOKUP(ROWS(F$45:F65),Упутство!$B$337:$L$436,6,FALSE),\"\")","v":""},{"$f":"IFERROR(VLOOKUP(ROWS(G$45:G65),Упутство!$B$337:$L$436,7,FALSE),\"\")","v":""},{"$f":"IFERROR(VLOOKUP(ROWS(H$45:H65),Упутство!$B$337:$L$436,8,FALSE),\"\")","v":""},{"$f":"IFERROR(VLOOKUP(ROWS(I$45:I65),Упутство!$B$337:$L$436,9,FALSE),\"\")","v":""},{"$f":"IFERROR(VLOOKUP(ROWS(J$45:J65),Упутство!$B$337:$L$436,10,FALSE),\"\")","v":""},{"$f":"IFERROR(VLOOKUP(ROWS(K$45:K65),Упутство!$B$337:$L$436,11,FALSE),\"\")","v":""},0,0]
[22,{"$f":"IFERROR(VLOOKUP(ROWS($B$45:B66),Упутство!$B$337:$D$436,3,FALSE),\"\")","v":""},null,{"$f":"IFERROR(VLOOKUP(ROWS(D$45:D66),Упутство!$B$337:$L$436,4,FALSE),\"\")","v":""},{"$f":"IFERROR(VLOOKUP(ROWS(E$45:E66),Упутство!$B$337:$L$436,5,FALSE),\"\")","v":""},{"$f":"IFERROR(VLOOKUP(ROWS(F$45:F66),Упутство!$B$337:$L$436,6,FALSE),\"\")","v":""},{"$f":"IFERROR(VLOOKUP(ROWS(G$45:G66),Упутство!$B$337:$L$436,7,FALSE),\"\")","v":""},{"$f":"IFERROR(VLOOKUP(ROWS(H$45:H66),Упутство!$B$337:$L$436,8,FALSE),\"\")","v":""},{"$f":"IFERROR(VLOOKUP(ROWS(I$45:I66),Упутство!$B$337:$L$436,9,FALSE),\"\")","v":""},{"$f":"IFERROR(VLOOKUP(ROWS(J$45:J66),Упутство!$B$337:$L$436,10,FALSE),\"\")","v":""},{"$f":"IFERROR(VLOOKUP(ROWS(K$45:K66),Упутство!$B$337:$L$436,11,FALSE),\"\")","v":""},0,0]
[23,{"$f":"IFERROR(VLOOKUP(ROWS($B$45:B67),Упутство!$B$337:$D$436,3,FALSE),\"\")","v":""},null,{"$f":"IFERROR(VLOOKUP(ROWS(D$45:D67),Упутство!$B$337:$L$436,4,FALSE),\"\")","v":""},{"$f":"IFERROR(VLOOKUP(ROWS(E$45:E67),Упутство!$B$337:$L$436,5,FALSE),\"\")","v":""},{"$f":"IFERROR(VLOOKUP(ROWS(F$45:F67),Упутство!$B$337:$L$436,6,FALSE),\"\")","v":""},{"$f":"IFERROR(VLOOKUP(ROWS(G$45:G67),Упутство!$B$337:$L$436,7,FALSE),\"\")","v":""},{"$f":"IFERROR(VLOOKUP(ROWS(H$45:H67),Упутство!$B$337:$L$436,8,FALSE),\"\")","v":""},{"$f":"IFERROR(VLOOKUP(ROWS(I$45:I67),Упутство!$B$337:$L$436,9,FALSE),\"\")","v":""},{"$f":"IFERROR(VLOOKUP(ROWS(J$45:J67),Упутство!$B$337:$L$436,10,FALSE),\"\")","v":""},{"$f":"IFERROR(VLOOKUP(ROWS(K$45:K67),Упутство!$B$337:$L$436,11,FALSE),\"\")","v":""},0,0]
[24,{"$f":"IFERROR(VLOOKUP(ROWS($B$45:B68),Упутство!$B$337:$D$436,3,FALSE),\"\")","v":""},null,{"$f":"IFERROR(VLOOKUP(ROWS(D$45:D68),Упутство!$B$337:$L$436,4,FALSE),\"\")","v":""},{"$f":"IFERROR(VLOOKUP(ROWS(E$45:E68),Упутство!$B$337:$L$436,5,FALSE),\"\")","v":""},{"$f":"IFERROR(VLOOKUP(ROWS(F$45:F68),Упутство!$B$337:$L$436,6,FALSE),\"\")","v":""},{"$f":"IFERROR(VLOOKUP(ROWS(G$45:G68),Упутство!$B$337:$L$436,7,FALSE),\"\")","v":""},{"$f":"IFERROR(VLOOKUP(ROWS(H$45:H68),Упутство!$B$337:$L$436,8,FALSE),\"\")","v":""},{"$f":"IFERROR(VLOOKUP(ROWS(I$45:I68),Упутство!$B$337:$L$436,9,FALSE),\"\")","v":""},{"$f":"IFERROR(VLOOKUP(ROWS(J$45:J68),Упутство!$B$337:$L$436,10,FALSE),\"\")","v":""},{"$f":"IFERROR(VLOOKUP(ROWS(K$45:K68),Упутство!$B$337:$L$436,11,FALSE),\"\")","v":""},0,0]
[25,{"$f":"IFERROR(VLOOKUP(ROWS($B$45:B69),Упутство!$B$337:$D$436,3,FALSE),\"\")","v":""},null,{"$f":"IFERROR(VLOOKUP(ROWS(D$45:D69),Упутство!$B$337:$L$436,4,FALSE),\"\")","v":""},{"$f":"IFERROR(VLOOKUP(ROWS(E$45:E69),Упутство!$B$337:$L$436,5,FALSE),\"\")","v":""},{"$f":"IFERROR(VLOOKUP(ROWS(F$45:F69),Упутство!$B$337:$L$436,6,FALSE),\"\")","v":""},{"$f":"IFERROR(VLOOKUP(ROWS(G$45:G69),Упутство!$B$337:$L$436,7,FALSE),\"\")","v":""},{"$f":"IFERROR(VLOOKUP(ROWS(H$45:H69),Упутство!$B$337:$L$436,8,FALSE),\"\")","v":""},{"$f":"IFERROR(VLOOKUP(ROWS(I$45:I69),Упутство!$B$337:$L$436,9,FALSE),\"\")","v":""},{"$f":"IFERROR(VLOOKUP(ROWS(J$45:J69),Упутство!$B$337:$L$436,10,FALSE),\"\")","v":""},{"$f":"IFERROR(VLOOKUP(ROWS(K$45:K69),Упутство!$B$337:$L$436,11,FALSE),\"\")","v":""},0,0]
[26,{"$f":"IFERROR(VLOOKUP(ROWS($B$45:B70),Упутство!$B$337:$D$436,3,FALSE),\"\")","v":""},null,{"$f":"IFERROR(VLOOKUP(ROWS(D$45:D70),Упутство!$B$337:$L$436,4,FALSE),\"\")","v":""},{"$f":"IFERROR(VLOOKUP(ROWS(E$45:E70),Упутство!$B$337:$L$436,5,FALSE),\"\")","v":""},{"$f":"IFERROR(VLOOKUP(ROWS(F$45:F70),Упутство!$B$337:$L$436,6,FALSE),\"\")","v":""},{"$f":"IFERROR(VLOOKUP(ROWS(G$45:G70),Упутство!$B$337:$L$436,7,FALSE),\"\")","v":""},{"$f":"IFERROR(VLOOKUP(ROWS(H$45:H70),Упутство!$B$337:$L$436,8,FALSE),\"\")","v":""},{"$f":"IFERROR(VLOOKUP(ROWS(I$45:I70),Упутство!$B$337:$L$436,9,FALSE),\"\")","v":""},{"$f":"IFERROR(VLOOKUP(ROWS(J$45:J70),Упутство!$B$337:$L$436,10,FALSE),\"\")","v":""},{"$f":"IFERROR(VLOOKUP(ROWS(K$45:K70),Упутство!$B$337:$L$436,11,FALSE),\"\")","v":""},0,0]
[27,{"$f":"IFERROR(VLOOKUP(ROWS($B$45:B71),Упутство!$B$337:$D$436,3,FALSE),\"\")","v":""},null,{"$f":"IFERROR(VLOOKUP(ROWS(D$45:D71),Упутство!$B$337:$L$436,4,FALSE),\"\")","v":""},{"$f":"IFERROR(VLOOKUP(ROWS(E$45:E71),Упутство!$B$337:$L$436,5,FALSE),\"\")","v":""},{"$f":"IFERROR(VLOOKUP(ROWS(F$45:F71),Упутство!$B$337:$L$436,6,FALSE),\"\")","v":""},{"$f":"IFERROR(VLOOKUP(ROWS(G$45:G71),Упутство!$B$337:$L$436,7,FALSE),\"\")","v":""},{"$f":"IFERROR(VLOOKUP(ROWS(H$45:H71),Упутство!$B$337:$L$436,8,FALSE),\"\")","v":""},{"$f":"IFERROR(VLOOKUP(ROWS(I$45:I71),Упутство!$B$337:$L$436,9,FALSE),\"\")","v":""},{"$f":"IFERROR(VLOOKUP(ROWS(J$45:J71),Упутство!$B$337:$L$436,10,FALSE),\"\")","v":""},{"$f":"IFERROR(VLOOKUP(ROWS(K$45:K71),Упутство!$B$337:$L$436,11,FALSE),\"\")","v":""},0,0]
[28,{"$f":"IFERROR(VLOOKUP(ROWS($B$45:B72),Упутство!$B$337:$D$436,3,FALSE),\"\")","v":""},null,{"$f":"IFERROR(VLOOKUP(ROWS(D$45:D72),Упутство!$B$337:$L$436,4,FALSE),\"\")","v":""},{"$f":"IFERROR(VLOOKUP(ROWS(E$45:E72),Упутство!$B$337:$L$436,5,FALSE),\"\")","v":""},{"$f":"IFERROR(VLOOKUP(ROWS(F$45:F72),Упутство!$B$337:$L$436,6,FALSE),\"\")","v":""},{"$f":"IFERROR(VLOOKUP(ROWS(G$45:G72),Упутство!$B$337:$L$436,7,FALSE),\"\")","v":""},{"$f":"IFERROR(VLOOKUP(ROWS(H$45:H72),Упутство!$B$337:$L$436,8,FALSE),\"\")","v":""},{"$f":"IFERROR(VLOOKUP(ROWS(I$45:I72),Упутство!$B$337:$L$436,9,FALSE),\"\")","v":""},{"$f":"IFERROR(VLOOKUP(ROWS(J$45:J72),Упутство!$B$337:$L$436,10,FALSE),\"\")","v":""},{"$f":"IFERROR(VLOOKUP(ROWS(K$45:K72),Упутство!$B$337:$L$436,11,FALSE),\"\")","v":""},0,0]
[29,{"$f":"IFERROR(VLOOKUP(ROWS($B$45:B73),Упутство!$B$337:$D$436,3,FALSE),\"\")","v":""},null,{"$f":"IFERROR(VLOOKUP(ROWS(D$45:D73),Упутство!$B$337:$L$436,4,FALSE),\"\")","v":""},{"$f":"IFERROR(VLOOKUP(ROWS(E$45:E73),Упутство!$B$337:$L$436,5,FALSE),\"\")","v":""},{"$f":"IFERROR(VLOOKUP(ROWS(F$45:F73),Упутство!$B$337:$L$436,6,FALSE),\"\")","v":""},{"$f":"IFERROR(VLOOKUP(ROWS(G$45:G73),Упутство!$B$337:$L$436,7,FALSE),\"\")","v":""},{"$f":"IFERROR(VLOOKUP(ROWS(H$45:H73),Упутство!$B$337:$L$436,8,FALSE),\"\")","v":""},{"$f":"IFERROR(VLOOKUP(ROWS(I$45:I73),Упутство!$B$337:$L$436,9,FALSE),\"\")","v":""},{"$f":"IFERROR(VLOOKUP(ROWS(J$45:J73),Упутство!$B$337:$L$436,10,FALSE),\"\")","v":""},{"$f":"IFERROR(VLOOKUP(ROWS(K$45:K73),Упутство!$B$337:$L$436,11,FALSE),\"\")","v":""},0,0]
[30,{"$f":"IFERROR(VLOOKUP(ROWS($B$45:B74),Упутство!$B$337:$D$436,3,FALSE),\"\")","v":""},null,{"$f":"IFERROR(VLOOKUP(ROWS(D$45:D74),Упутство!$B$337:$L$436,4,FALSE),\"\")","v":""},{"$f":"IFERROR(VLOOKUP(ROWS(E$45:E74),Упутство!$B$337:$L$436,5,FALSE),\"\")","v":""},{"$f":"IFERROR(VLOOKUP(ROWS(F$45:F74),Упутство!$B$337:$L$436,6,FALSE),\"\")","v":""},{"$f":"IFERROR(VLOOKUP(ROWS(G$45:G74),Упутство!$B$337:$L$436,7,FALSE),\"\")","v":""},{"$f":"IFERROR(VLOOKUP(ROWS(H$45:H74),Упутство!$B$337:$L$436,8,FALSE),\"\")","v":""},{"$f":"IFERROR(VLOOKUP(ROWS(I$45:I74),Упутство!$B$337:$L$436,9,FALSE),\"\")","v":""},{"$f":"IFERROR(VLOOKUP(ROWS(J$45:J74),Упутство!$B$337:$L$436,10,FALSE),\"\")","v":""},{"$f":"IFERROR(VLOOKUP(ROWS(K$45:K74),Упутство!$B$337:$L$436,11,FALSE),\"\")","v":""},0,0]
[31,{"$f":"IFERROR(VLOOKUP(ROWS($B$45:B75),Упутство!$B$337:$D$436,3,FALSE),\"\")","v":""},null,{"$f":"IFERROR(VLOOKUP(ROWS(D$45:D75),Упутство!$B$337:$L$436,4,FALSE),\"\")","v":""},{"$f":"IFERROR(VLOOKUP(ROWS(E$45:E75),Упутство!$B$337:$L$436,5,FALSE),\"\")","v":""},{"$f":"IFERROR(VLOOKUP(ROWS(F$45:F75),Упутство!$B$337:$L$436,6,FALSE),\"\")","v":""},{"$f":"IFERROR(VLOOKUP(ROWS(G$45:G75),Упутство!$B$337:$L$436,7,FALSE),\"\")","v":""},{"$f":"IFERROR(VLOOKUP(ROWS(H$45:H75),Упутство!$B$337:$L$436,8,FALSE),\"\")","v":""},{"$f":"IFERROR(VLOOKUP(ROWS(I$45:I75),Упутство!$B$337:$L$436,9,FALSE),\"\")","v":""},{"$f":"IFERROR(VLOOKUP(ROWS(J$45:J75),Упутство!$B$337:$L$436,10,FALSE),\"\")","v":""},{"$f":"IFERROR(VLOOKUP(ROWS(K$45:K75),Упутство!$B$337:$L$436,11,FALSE),\"\")","v":""},0,0]
[32,{"$f":"IFERROR(VLOOKUP(ROWS($B$45:B76),Упутство!$B$337:$D$436,3,FALSE),\"\")","v":""},null,{"$f":"IFERROR(VLOOKUP(ROWS(D$45:D76),Упутство!$B$337:$L$436,4,FALSE),\"\")","v":""},{"$f":"IFERROR(VLOOKUP(ROWS(E$45:E76),Упутство!$B$337:$L$436,5,FALSE),\"\")","v":""},{"$f":"IFERROR(VLOOKUP(ROWS(F$45:F76),Упутство!$B$337:$L$436,6,FALSE),\"\")","v":""},{"$f":"IFERROR(VLOOKUP(ROWS(G$45:G76),Упутство!$B$337:$L$436,7,FALSE),\"\")","v":""},{"$f":"IFERROR(VLOOKUP(ROWS(H$45:H76),Упутство!$B$337:$L$436,8,FALSE),\"\")","v":""},{"$f":"IFERROR(VLOOKUP(ROWS(I$45:I76),Упутство!$B$337:$L$436,9,FALSE),\"\")","v":""},{"$f":"IFERROR(VLOOKUP(ROWS(J$45:J76),Упутство!$B$337:$L$436,10,FALSE),\"\")","v":""},{"$f":"IFERROR(VLOOKUP(ROWS(K$45:K76),Упутство!$B$337:$L$436,11,FALSE),\"\")","v":""},0,0]
[33,{"$f":"IFERROR(VLOOKUP(ROWS($B$45:B77),Упутство!$B$337:$D$436,3,FALSE),\"\")","v":""},null,{"$f":"IFERROR(VLOOKUP(ROWS(D$45:D77),Упутство!$B$337:$L$436,4,FALSE),\"\")","v":""},{"$f":"IFERROR(VLOOKUP(ROWS(E$45:E77),Упутство!$B$337:$L$436,5,FALSE),\"\")","v":""},{"$f":"IFERROR(VLOOKUP(ROWS(F$45:F77),Упутство!$B$337:$L$436,6,FALSE),\"\")","v":""},{"$f":"IFERROR(VLOOKUP(ROWS(G$45:G77),Упутство!$B$337:$L$436,7,FALSE),\"\")","v":""},{"$f":"IFERROR(VLOOKUP(ROWS(H$45:H77),Упутство!$B$337:$L$436,8,FALSE),\"\")","v":""},{"$f":"IFERROR(VLOOKUP(ROWS(I$45:I77),Упутство!$B$337:$L$436,9,FALSE),\"\")","v":""},{"$f":"IFERROR(VLOOKUP(ROWS(J$45:J77),Упутство!$B$337:$L$436,10,FALSE),\"\")","v":""},{"$f":"IFERROR(VLOOKUP(ROWS(K$45:K77),Упутство!$B$337:$L$436,11,FALSE),\"\")","v":""},0,0]
[34,{"$f":"IFERROR(VLOOKUP(ROWS($B$45:B78),Упутство!$B$337:$D$436,3,FALSE),\"\")","v":""},null,{"$f":"IFERROR(VLOOKUP(ROWS(D$45:D78),Упутство!$B$337:$L$436,4,FALSE),\"\")","v":""},{"$f":"IFERROR(VLOOKUP(ROWS(E$45:E78),Упутство!$B$337:$L$436,5,FALSE),\"\")","v":""},{"$f":"IFERROR(VLOOKUP(ROWS(F$45:F78),Упутство!$B$337:$L$436,6,FALSE),\"\")","v":""},{"$f":"IFERROR(VLOOKUP(ROWS(G$45:G78),Упутство!$B$337:$L$436,7,FALSE),\"\")","v":""},{"$f":"IFERROR(VLOOKUP(ROWS(H$45:H78),Упутство!$B$337:$L$436,8,FALSE),\"\")","v":""},{"$f":"IFERROR(VLOOKUP(ROWS(I$45:I78),Упутство!$B$337:$L$436,9,FALSE),\"\")","v":""},{"$f":"IFERROR(VLOOKUP(ROWS(J$45:J78),Упутство!$B$337:$L$436,10,FALSE),\"\")","v":""},{"$f":"IFERROR(VLOOKUP(ROWS(K$45:K78),Упутство!$B$337:$L$436,11,FALSE),\"\")","v":""},0,0]
[35,{"$f":"IFERROR(VLOOKUP(ROWS($B$45:B79),Упутство!$B$337:$D$436,3,FALSE),\"\")","v":""},null,{"$f":"IFERROR(VLOOKUP(ROWS(D$45:D79),Упутство!$B$337:$L$436,4,FALSE),\"\")","v":""},{"$f":"IFERROR(VLOOKUP(ROWS(E$45:E79),Упутство!$B$337:$L$436,5,FALSE),\"\")","v":""},{"$f":"IFERROR(VLOOKUP(ROWS(F$45:F79),Упутство!$B$337:$L$436,6,FALSE),\"\")","v":""},{"$f":"IFERROR(VLOOKUP(ROWS(G$45:G79),Упутство!$B$337:$L$436,7,FALSE),\"\")","v":""},{"$f":"IFERROR(VLOOKUP(ROWS(H$45:H79),Упутство!$B$337:$L$436,8,FALSE),\"\")","v":""},{"$f":"IFERROR(VLOOKUP(ROWS(I$45:I79),Упутство!$B$337:$L$436,9,FALSE),\"\")","v":""},{"$f":"IFERROR(VLOOKUP(ROWS(J$45:J79),Упутство!$B$337:$L$436,10,FALSE),\"\")","v":""},{"$f":"IFERROR(VLOOKUP(ROWS(K$45:K79),Упутство!$B$337:$L$436,11,FALSE),\"\")","v":""},0,0]
[36,{"$f":"IFERROR(VLOOKUP(ROWS($B$45:B80),Упутство!$B$337:$D$436,3,FALSE),\"\")","v":""},null,{"$f":"IFERROR(VLOOKUP(ROWS(D$45:D80),Упутство!$B$337:$L$436,4,FALSE),\"\")","v":""},{"$f":"IFERROR(VLOOKUP(ROWS(E$45:E80),Упутство!$B$337:$L$436,5,FALSE),\"\")","v":""},{"$f":"IFERROR(VLOOKUP(ROWS(F$45:F80),Упутство!$B$337:$L$436,6,FALSE),\"\")","v":""},{"$f":"IFERROR(VLOOKUP(ROWS(G$45:G80),Упутство!$B$337:$L$436,7,FALSE),\"\")","v":""},{"$f":"IFERROR(VLOOKUP(ROWS(H$45:H80),Упутство!$B$337:$L$436,8,FALSE),\"\")","v":""},{"$f":"IFERROR(VLOOKUP(ROWS(I$45:I80),Упутство!$B$337:$L$436,9,FALSE),\"\")","v":""},{"$f":"IFERROR(VLOOKUP(ROWS(J$45:J80),Упутство!$B$337:$L$436,10,FALSE),\"\")","v":""},{"$f":"IFERROR(VLOOKUP(ROWS(K$45:K80),Упутство!$B$337:$L$436,11,FALSE),\"\")","v":""},0,0]
[37,{"$f":"IFERROR(VLOOKUP(ROWS($B$45:B81),Упутство!$B$337:$D$436,3,FALSE),\"\")","v":""},null,{"$f":"IFERROR(VLOOKUP(ROWS(D$45:D81),Упутство!$B$337:$L$436,4,FALSE),\"\")","v":""},{"$f":"IFERROR(VLOOKUP(ROWS(E$45:E81),Упутство!$B$337:$L$436,5,FALSE),\"\")","v":""},{"$f":"IFERROR(VLOOKUP(ROWS(F$45:F81),Упутство!$B$337:$L$436,6,FALSE),\"\")","v":""},{"$f":"IFERROR(VLOOKUP(ROWS(G$45:G81),Упутство!$B$337:$L$436,7,FALSE),\"\")","v":""},{"$f":"IFERROR(VLOOKUP(ROWS(H$45:H81),Упутство!$B$337:$L$436,8,FALSE),\"\")","v":""},{"$f":"IFERROR(VLOOKUP(ROWS(I$45:I81),Упутство!$B$337:$L$436,9,FALSE),\"\")","v":""},{"$f":"IFERROR(VLOOKUP(ROWS(J$45:J81),Упутство!$B$337:$L$436,10,FALSE),\"\")","v":""},{"$f":"IFERROR(VLOOKUP(ROWS(K$45:K81),Упутство!$B$337:$L$436,11,FALSE),\"\")","v":""},0,0]
[38,{"$f":"IFERROR(VLOOKUP(ROWS($B$45:B82),Упутство!$B$337:$D$436,3,FALSE),\"\")","v":""},null,{"$f":"IFERROR(VLOOKUP(ROWS(D$45:D82),Упутство!$B$337:$L$436,4,FALSE),\"\")","v":""},{"$f":"IFERROR(VLOOKUP(ROWS(E$45:E82),Упутство!$B$337:$L$436,5,FALSE),\"\")","v":""},{"$f":"IFERROR(VLOOKUP(ROWS(F$45:F82),Упутство!$B$337:$L$436,6,FALSE),\"\")","v":""},{"$f":"IFERROR(VLOOKUP(ROWS(G$45:G82),Упутство!$B$337:$L$436,7,FALSE),\"\")","v":""},{"$f":"IFERROR(VLOOKUP(ROWS(H$45:H82),Упутство!$B$337:$L$436,8,FALSE),\"\")","v":""},{"$f":"IFERROR(VLOOKUP(ROWS(I$45:I82),Упутство!$B$337:$L$436,9,FALSE),\"\")","v":""},{"$f":"IFERROR(VLOOKUP(ROWS(J$45:J82),Упутство!$B$337:$L$436,10,FALSE),\"\")","v":""},{"$f":"IFERROR(VLOOKUP(ROWS(K$45:K82),Упутство!$B$337:$L$436,11,FALSE),\"\")","v":""},0,0]
[39,{"$f":"IFERROR(VLOOKUP(ROWS($B$45:B83),Упутство!$B$337:$D$436,3,FALSE),\"\")","v":""},null,{"$f":"IFERROR(VLOOKUP(ROWS(D$45:D83),Упутство!$B$337:$L$436,4,FALSE),\"\")","v":""},{"$f":"IFERROR(VLOOKUP(ROWS(E$45:E83),Упутство!$B$337:$L$436,5,FALSE),\"\")","v":""},{"$f":"IFERROR(VLOOKUP(ROWS(F$45:F83),Упутство!$B$337:$L$436,6,FALSE),\"\")","v":""},{"$f":"IFERROR(VLOOKUP(ROWS(G$45:G83),Упутство!$B$337:$L$436,7,FALSE),\"\")","v":""},{"$f":"IFERROR(VLOOKUP(ROWS(H$45:H83),Упутство!$B$337:$L$436,8,FALSE),\"\")","v":""},{"$f":"IFERROR(VLOOKUP(ROWS(I$45:I83),Упутство!$B$337:$L$436,9,FALSE),\"\")","v":""},{"$f":"IFERROR(VLOOKUP(ROWS(J$45:J83),Упутство!$B$337:$L$436,10,FALSE),\"\")","v":""},{"$f":"IFERROR(VLOOKUP(ROWS(K$45:K83),Упутство!$B$337:$L$436,11,FALSE),\"\")","v":""},0,0]
[40,{"$f":"IFERROR(VLOOKUP(ROWS($B$45:B84),Упутство!$B$337:$D$436,3,FALSE),\"\")","v":""},null,{"$f":"IFERROR(VLOOKUP(ROWS(D$45:D84),Упутство!$B$337:$L$436,4,FALSE),\"\")","v":""},{"$f":"IFERROR(VLOOKUP(ROWS(E$45:E84),Упутство!$B$337:$L$436,5,FALSE),\"\")","v":""},{"$f":"IFERROR(VLOOKUP(ROWS(F$45:F84),Упутство!$B$337:$L$436,6,FALSE),\"\")","v":""},{"$f":"IFERROR(VLOOKUP(ROWS(G$45:G84),Упутство!$B$337:$L$436,7,FALSE),\"\")","v":""},{"$f":"IFERROR(VLOOKUP(ROWS(H$45:H84),Упутство!$B$337:$L$436,8,FALSE),\"\")","v":""},{"$f":"IFERROR(VLOOKUP(ROWS(I$45:I84),Упутство!$B$337:$L$436,9,FALSE),\"\")","v":""},{"$f":"IFERROR(VLOOKUP(ROWS(J$45:J84),Упутство!$B$337:$L$436,10,FALSE),\"\")","v":""},{"$f":"IFERROR(VLOOKUP(ROWS(K$45:K84),Упутство!$B$337:$L$436,11,FALSE),\"\")","v":""},0,0]
[41,{"$f":"IFERROR(VLOOKUP(ROWS($B$45:B85),Упутство!$B$337:$D$436,3,FALSE),\"\")","v":""},null,{"$f":"IFERROR(VLOOKUP(ROWS(D$45:D85),Упутство!$B$337:$L$436,4,FALSE),\"\")","v":""},{"$f":"IFERROR(VLOOKUP(ROWS(E$45:E85),Упутство!$B$337:$L$436,5,FALSE),\"\")","v":""},{"$f":"IFERROR(VLOOKUP(ROWS(F$45:F85),Упутство!$B$337:$L$436,6,FALSE),\"\")","v":""},{"$f":"IFERROR(VLOOKUP(ROWS(G$45:G85),Упутство!$B$337:$L$436,7,FALSE),\"\")","v":""},{"$f":"IFERROR(VLOOKUP(ROWS(H$45:H85),Упутство!$B$337:$L$436,8,FALSE),\"\")","v":""},{"$f":"IFERROR(VLOOKUP(ROWS(I$45:I85),Упутство!$B$337:$L$436,9,FALSE),\"\")","v":""},{"$f":"IFERROR(VLOOKUP(ROWS(J$45:J85),Упутство!$B$337:$L$436,10,FALSE),\"\")","v":""},{"$f":"IFERROR(VLOOKUP(ROWS(K$45:K85),Упутство!$B$337:$L$436,11,FALSE),\"\")","v":""},0,0]
[42,{"$f":"IFERROR(VLOOKUP(ROWS($B$45:B86),Упутство!$B$337:$D$436,3,FALSE),\"\")","v":""},null,{"$f":"IFERROR(VLOOKUP(ROWS(D$45:D86),Упутство!$B$337:$L$436,4,FALSE),\"\")","v":""},{"$f":"IFERROR(VLOOKUP(ROWS(E$45:E86),Упутство!$B$337:$L$436,5,FALSE),\"\")","v":""},{"$f":"IFERROR(VLOOKUP(ROWS(F$45:F86),Упутство!$B$337:$L$436,6,FALSE),\"\")","v":""},{"$f":"IFERROR(VLOOKUP(ROWS(G$45:G86),Упутство!$B$337:$L$436,7,FALSE),\"\")","v":""},{"$f":"IFERROR(VLOOKUP(ROWS(H$45:H86),Упутство!$B$337:$L$436,8,FALSE),\"\")","v":""},{"$f":"IFERROR(VLOOKUP(ROWS(I$45:I86),Упутство!$B$337:$L$436,9,FALSE),\"\")","v":""},{"$f":"IFERROR(VLOOKUP(ROWS(J$45:J86),Упутство!$B$337:$L$436,10,FALSE),\"\")","v":""},{"$f":"IFERROR(VLOOKUP(ROWS(K$45:K86),Упутство!$B$337:$L$436,11,FALSE),\"\")","v":""},0,0]
[43,{"$f":"IFERROR(VLOOKUP(ROWS($B$45:B87),Упутство!$B$337:$D$436,3,FALSE),\"\")","v":""},null,{"$f":"IFERROR(VLOOKUP(ROWS(D$45:D87),Упутство!$B$337:$L$436,4,FALSE),\"\")","v":""},{"$f":"IFERROR(VLOOKUP(ROWS(E$45:E87),Упутство!$B$337:$L$436,5,FALSE),\"\")","v":""},{"$f":"IFERROR(VLOOKUP(ROWS(F$45:F87),Упутство!$B$337:$L$436,6,FALSE),\"\")","v":""},{"$f":"IFERROR(VLOOKUP(ROWS(G$45:G87),Упутство!$B$337:$L$436,7,FALSE),\"\")","v":""},{"$f":"IFERROR(VLOOKUP(ROWS(H$45:H87),Упутство!$B$337:$L$436,8,FALSE),\"\")","v":""},{"$f":"IFERROR(VLOOKUP(ROWS(I$45:I87),Упутство!$B$337:$L$436,9,FALSE),\"\")","v":""},{"$f":"IFERROR(VLOOKUP(ROWS(J$45:J87),Упутство!$B$337:$L$436,10,FALSE),\"\")","v":""},{"$f":"IFERROR(VLOOKUP(ROWS(K$45:K87),Упутство!$B$337:$L$436,11,FALSE),\"\")","v":""},0,0]
[44,{"$f":"IFERROR(VLOOKUP(ROWS($B$45:B88),Упутство!$B$337:$D$436,3,FALSE),\"\")","v":""},null,{"$f":"IFERROR(VLOOKUP(ROWS(D$45:D88),Упутство!$B$337:$L$436,4,FALSE),\"\")","v":""},{"$f":"IFERROR(VLOOKUP(ROWS(E$45:E88),Упутство!$B$337:$L$436,5,FALSE),\"\")","v":""},{"$f":"IFERROR(VLOOKUP(ROWS(F$45:F88),Упутство!$B$337:$L$436,6,FALSE),\"\")","v":""},{"$f":"IFERROR(VLOOKUP(ROWS(G$45:G88),Упутство!$B$337:$L$436,7,FALSE),\"\")","v":""},{"$f":"IFERROR(VLOOKUP(ROWS(H$45:H88),Упутство!$B$337:$L$436,8,FALSE),\"\")","v":""},{"$f":"IFERROR(VLOOKUP(ROWS(I$45:I88),Упутство!$B$337:$L$436,9,FALSE),\"\")","v":""},{"$f":"IFERROR(VLOOKUP(ROWS(J$45:J88),Упутство!$B$337:$L$436,10,FALSE),\"\")","v":""},{"$f":"IFERROR(VLOOKUP(ROWS(K$45:K88),Упутство!$B$337:$L$436,11,FALSE),\"\")","v":""},0,0]
[45,{"$f":"IFERROR(VLOOKUP(ROWS($B$45:B89),Упутство!$B$337:$D$436,3,FALSE),\"\")","v":""},null,{"$f":"IFERROR(VLOOKUP(ROWS(D$45:D89),Упутство!$B$337:$L$436,4,FALSE),\"\")","v":""},{"$f":"IFERROR(VLOOKUP(ROWS(E$45:E89),Упутство!$B$337:$L$436,5,FALSE),\"\")","v":""},{"$f":"IFERROR(VLOOKUP(ROWS(F$45:F89),Упутство!$B$337:$L$436,6,FALSE),\"\")","v":""},{"$f":"IFERROR(VLOOKUP(ROWS(G$45:G89),Упутство!$B$337:$L$436,7,FALSE),\"\")","v":""},{"$f":"IFERROR(VLOOKUP(ROWS(H$45:H89),Упутство!$B$337:$L$436,8,FALSE),\"\")","v":""},{"$f":"IFERROR(VLOOKUP(ROWS(I$45:I89),Упутство!$B$337:$L$436,9,FALSE),\"\")","v":""},{"$f":"IFERROR(VLOOKUP(ROWS(J$45:J89),Упутство!$B$337:$L$436,10,FALSE),\"\")","v":""},{"$f":"IFERROR(VLOOKUP(ROWS(K$45:K89),Упутство!$B$337:$L$436,11,FALSE),\"\")","v":""},0,0]
[46,{"$f":"IFERROR(VLOOKUP(ROWS($B$45:B90),Упутство!$B$337:$D$436,3,FALSE),\"\")","v":""},null,{"$f":"IFERROR(VLOOKUP(ROWS(D$45:D90),Упутство!$B$337:$L$436,4,FALSE),\"\")","v":""},{"$f":"IFERROR(VLOOKUP(ROWS(E$45:E90),Упутство!$B$337:$L$436,5,FALSE),\"\")","v":""},{"$f":"IFERROR(VLOOKUP(ROWS(F$45:F90),Упутство!$B$337:$L$436,6,FALSE),\"\")","v":""},{"$f":"IFERROR(VLOOKUP(ROWS(G$45:G90),Упутство!$B$337:$L$436,7,FALSE),\"\")","v":""},{"$f":"IFERROR(VLOOKUP(ROWS(H$45:H90),Упутство!$B$337:$L$436,8,FALSE),\"\")","v":""},{"$f":"IFERROR(VLOOKUP(ROWS(I$45:I90),Упутство!$B$337:$L$436,9,FALSE),\"\")","v":""},{"$f":"IFERROR(VLOOKUP(ROWS(J$45:J90),Упутство!$B$337:$L$436,10,FALSE),\"\")","v":""},{"$f":"IFERROR(VLOOKUP(ROWS(K$45:K90),Упутство!$B$337:$L$436,11,FALSE),\"\")","v":""},0,0]
[47,{"$f":"IFERROR(VLOOKUP(ROWS($B$45:B91),Упутство!$B$337:$D$436,3,FALSE),\"\")","v":""},null,{"$f":"IFERROR(VLOOKUP(ROWS(D$45:D91),Упутство!$B$337:$L$436,4,FALSE),\"\")","v":""},{"$f":"IFERROR(VLOOKUP(ROWS(E$45:E91),Упутство!$B$337:$L$436,5,FALSE),\"\")","v":""},{"$f":"IFERROR(VLOOKUP(ROWS(F$45:F91),Упутство!$B$337:$L$436,6,FALSE),\"\")","v":""},{"$f":"IFERROR(VLOOKUP(ROWS(G$45:G91),Упутство!$B$337:$L$436,7,FALSE),\"\")","v":""},{"$f":"IFERROR(VLOOKUP(ROWS(H$45:H91),Упутство!$B$337:$L$436,8,FALSE),\"\")","v":""},{"$f":"IFERROR(VLOOKUP(ROWS(I$45:I91),Упутство!$B$337:$L$436,9,FALSE),\"\")","v":""},{"$f":"IFERROR(VLOOKUP(ROWS(J$45:J91),Упутство!$B$337:$L$436,10,FALSE),\"\")","v":""},{"$f":"IFERROR(VLOOKUP(ROWS(K$45:K91),Упутство!$B$337:$L$436,11,FALSE),\"\")","v":""},0,0]
[48,{"$f":"IFERROR(VLOOKUP(ROWS($B$45:B92),Упутство!$B$337:$D$436,3,FALSE),\"\")","v":""},null,{"$f":"IFERROR(VLOOKUP(ROWS(D$45:D92),Упутство!$B$337:$L$436,4,FALSE),\"\")","v":""},{"$f":"IFERROR(VLOOKUP(ROWS(E$45:E92),Упутство!$B$337:$L$436,5,FALSE),\"\")","v":""},{"$f":"IFERROR(VLOOKUP(ROWS(F$45:F92),Упутство!$B$337:$L$436,6,FALSE),\"\")","v":""},{"$f":"IFERROR(VLOOKUP(ROWS(G$45:G92),Упутство!$B$337:$L$436,7,FALSE),\"\")","v":""},{"$f":"IFERROR(VLOOKUP(ROWS(H$45:H92),Упутство!$B$337:$L$436,8,FALSE),\"\")","v":""},{"$f":"IFERROR(VLOOKUP(ROWS(I$45:I92),Упутство!$B$337:$L$436,9,FALSE),\"\")","v":""},{"$f":"IFERROR(VLOOKUP(ROWS(J$45:J92),Упутство!$B$337:$L$436,10,FALSE),\"\")","v":""},{"$f":"IFERROR(VLOOKUP(ROWS(K$45:K92),Упутство!$B$337:$L$436,11,FALSE),\"\")","v":""},0,0]
[49,{"$f":"IFERROR(VLOOKUP(ROWS($B$45:B93),Упутство!$B$337:$D$436,3,FALSE),\"\")","v":""},null,{"$f":"IFERROR(VLOOKUP(ROWS(D$45:D93),Упутство!$B$337:$L$436,4,FALSE),\"\")","v":""},{"$f":"IFERROR(VLOOKUP(ROWS(E$45:E93),Упутство!$B$337:$L$436,5,FALSE),\"\")","v":""},{"$f":"IFERROR(VLOOKUP(ROWS(F$45:F93),Упутство!$B$337:$L$436,6,FALSE),\"\")","v":""},{"$f":"IFERROR(VLOOKUP(ROWS(G$45:G93),Упутство!$B$337:$L$436,7,FALSE),\"\")","v":""},{"$f":"IFERROR(VLOOKUP(ROWS(H$45:H93),Упутство!$B$337:$L$436,8,FALSE),\"\")","v":""},{"$f":"IFERROR(VLOOKUP(ROWS(I$45:I93),Упутство!$B$337:$L$436,9,FALSE),\"\")","v":""},{"$f":"IFERROR(VLOOKUP(ROWS(J$45:J93),Упутство!$B$337:$L$436,10,FALSE),\"\")","v":""},{"$f":"IFERROR(VLOOKUP(ROWS(K$45:K93),Упутство!$B$337:$L$436,11,FALSE),\"\")","v":""},0,0]
[50,{"$f":"IFERROR(VLOOKUP(ROWS($B$45:B94),Упутство!$B$337:$D$436,3,FALSE),\"\")","v":""},null,{"$f":"IFERROR(VLOOKUP(ROWS(D$45:D94),Упутство!$B$337:$L$436,4,FALSE),\"\")","v":""},{"$f":"IFERROR(VLOOKUP(ROWS(E$45:E94),Упутство!$B$337:$L$436,5,FALSE),\"\")","v":""},{"$f":"IFERROR(VLOOKUP(ROWS(F$45:F94),Упутство!$B$337:$L$436,6,FALSE),\"\")","v":""},{"$f":"IFERROR(VLOOKUP(ROWS(G$45:G94),Упутство!$B$337:$L$436,7,FALSE),\"\")","v":""},{"$f":"IFERROR(VLOOKUP(ROWS(H$45:H94),Упутство!$B$337:$L$436,8,FALSE),\"\")","v":""},{"$f":"IFERROR(VLOOKUP(ROWS(I$45:I94),Упутство!$B$337:$L$436,9,FALSE),\"\")","v":""},{"$f":"IFERROR(VLOOKUP(ROWS(J$45:J94),Упутство!$B$337:$L$436,10,FALSE),\"\")","v":""},{"$f":"IFERROR(VLOOKUP(ROWS(K$45:K94),Упутство!$B$337:$L$436,11,FALSE),\"\")","v":""},0,0]
[51,{"$f":"IFERROR(VLOOKUP(ROWS($B$45:B95),Упутство!$B$337:$D$436,3,FALSE),\"\")","v":""},null,{"$f":"IFERROR(VLOOKUP(ROWS(D$45:D95),Упутство!$B$337:$L$436,4,FALSE),\"\")","v":""},{"$f":"IFERROR(VLOOKUP(ROWS(E$45:E95),Упутство!$B$337:$L$436,5,FALSE),\"\")","v":""},{"$f":"IFERROR(VLOOKUP(ROWS(F$45:F95),Упутство!$B$337:$L$436,6,FALSE),\"\")","v":""},{"$f":"IFERROR(VLOOKUP(ROWS(G$45:G95),Упутство!$B$337:$L$436,7,FALSE),\"\")","v":""},{"$f":"IFERROR(VLOOKUP(ROWS(H$45:H95),Упутство!$B$337:$L$436,8,FALSE),\"\")","v":""},{"$f":"IFERROR(VLOOKUP(ROWS(I$45:I95),Упутство!$B$337:$L$436,9,FALSE),\"\")","v":""},{"$f":"IFERROR(VLOOKUP(ROWS(J$45:J95),Упутство!$B$337:$L$436,10,FALSE),\"\")","v":""},{"$f":"IFERROR(VLOOKUP(ROWS(K$45:K95),Упутство!$B$337:$L$436,11,FALSE),\"\")","v":""},0,0]
[52,{"$f":"IFERROR(VLOOKUP(ROWS($B$45:B96),Упутство!$B$337:$D$436,3,FALSE),\"\")","v":""},null,{"$f":"IFERROR(VLOOKUP(ROWS(D$45:D96),Упутство!$B$337:$L$436,4,FALSE),\"\")","v":""},{"$f":"IFERROR(VLOOKUP(ROWS(E$45:E96),Упутство!$B$337:$L$436,5,FALSE),\"\")","v":""},{"$f":"IFERROR(VLOOKUP(ROWS(F$45:F96),Упутство!$B$337:$L$436,6,FALSE),\"\")","v":""},{"$f":"IFERROR(VLOOKUP(ROWS(G$45:G96),Упутство!$B$337:$L$436,7,FALSE),\"\")","v":""},{"$f":"IFERROR(VLOOKUP(ROWS(H$45:H96),Упутство!$B$337:$L$436,8,FALSE),\"\")","v":""},{"$f":"IFERROR(VLOOKUP(ROWS(I$45:I96),Упутство!$B$337:$L$436,9,FALSE),\"\")","v":""},{"$f":"IFERROR(VLOOKUP(ROWS(J$45:J96),Упутство!$B$337:$L$436,10,FALSE),\"\")","v":""},{"$f":"IFERROR(VLOOKUP(ROWS(K$45:K96),Упутство!$B$337:$L$436,11,FALSE),\"\")","v":""},0,0]
["УКУПНО ЗА:",null,{"$f":"$D$4","v":0},{"$f":"SUM(D45:D96)","v":0},0,0,0,0,0,0,0,{"$f":"SUM(F97,H97,J97)","v":0},{"$f":"SUM(G97,I97,K97)","v":0}]
[]
["Рбр.","Извори финансирања Програма",null,"Извори у базној години (2015)",null,"Извори у 2016.",null,"Извори у 2017",null,"Извори у 2018.",null,"Укупно (2016-2018)"]
["1",{"$f":"IFERROR(VLOOKUP(ROWS($B$100:B100),Упутство!$FP$1752:$FW$1768,2,FALSE),\"\")","v":""},null,{"$f":"IFERROR(VLOOKUP(ROWS($D$100:D100),Упутство!$FP$1752:$FW$1768,5,FALSE),\"\")","v":""},null,{"$f":"IFERROR(VLOOKUP(ROWS($F$100:F100),Упутство!$FP$1752:$FW$1768,6,FALSE),\"\")","v":""},null,{"$f":"IFERROR(VLOOKUP(ROWS($H$100:H100),Упутство!$FP$1752:$FW$1768,7,FALSE),\"\")","v":""},null,{"$f":"IFERROR(VLOOKUP(ROWS($J$100:J100),Упутство!$FP$1752:$FW$1768,8,FALSE),\"\")","v":""},null,{"$f":"SUM(F100,H100,J100)","v":0}]
["2",{"$f":"IFERROR(VLOOKUP(ROWS($B$100:B101),Упутство!$FP$1752:$FW$1768,2,FALSE),\"\")","v":""},null,{"$f":"IFERROR(VLOOKUP(ROWS($D$100:D101),Упутство!$FP$1752:$FW$1768,5,FALSE),\"\")","v":""},null,{"$f":"IFERROR(VLOOKUP(ROWS($F$100:F101),Упутство!$FP$1752:$FW$1768,6,FALSE),\"\")","v":""},null,{"$f":"IFERROR(VLOOKUP(ROWS($H$100:H101),Упутство!$FP$1752:$FW$1768,7,FALSE),\"\")","v":""},null,{"$f":"IFERROR(VLOOKUP(ROWS($J$100:J101),Упутство!$FP$1752:$FW$1768,8,FALSE),\"\")","v":""},null,{"$f":"SUM(F101,H101,J101)","v":0}]
["3",{"$f":"IFERROR(VLOOKUP(ROWS($B$100:B102),Упутство!$FP$1752:$FW$1768,2,FALSE),\"\")","v":""},null,{"$f":"IFERROR(VLOOKUP(ROWS($D$100:D102),Упутство!$FP$1752:$FW$1768,5,FALSE),\"\")","v":""},null,{"$f":"IFERROR(VLOOKUP(ROWS($F$100:F102),Упутство!$FP$1752:$FW$1768,6,FALSE),\"\")","v":""},null,{"$f":"IFERROR(VLOOKUP(ROWS($H$100:H102),Упутство!$FP$1752:$FW$1768,7,FALSE),\"\")","v":""},null,{"$f":"IFERROR(VLOOKUP(ROWS($J$100:J102),Упутство!$FP$1752:$FW$1768,8,FALSE),\"\")","v":""},null,{"$f":"SUM(F102,H102,J102)","v":0}]
["4",{"$f":"IFERROR(VLOOKUP(ROWS($B$100:B103),Упутство!$FP$1752:$FW$1768,2,FALSE),\"\")","v":""},null,{"$f":"IFERROR(VLOOKUP(ROWS($D$100:D103),Упутство!$FP$1752:$FW$1768,5,FALSE),\"\")","v":""},null,{"$f":"IFERROR(VLOOKUP(ROWS($F$100:F103),Упутство!$FP$1752:$FW$1768,6,FALSE),\"\")","v":""},null,{"$f":"IFERROR(VLOOKUP(ROWS($H$100:H103),Упутство!$FP$1752:$FW$1768,7,FALSE),\"\")","v":""},null,{"$f":"IFERROR(VLOOKUP(ROWS($J$100:J103),Упутство!$FP$1752:$FW$1768,8,FALSE),\"\")","v":""},null,{"$f":"SUM(F103,H103,J103)","v":0}]
["5",{"$f":"IFERROR(VLOOKUP(ROWS($B$100:B104),Упутство!$FP$1752:$FW$1768,2,FALSE),\"\")","v":""},null,{"$f":"IFERROR(VLOOKUP(ROWS($D$100:D104),Упутство!$FP$1752:$FW$1768,5,FALSE),\"\")","v":""},null,{"$f":"IFERROR(VLOOKUP(ROWS($F$100:F104),Упутство!$FP$1752:$FW$1768,6,FALSE),\"\")","v":""},null,{"$f":"IFERROR(VLOOKUP(ROWS($H$100:H104),Упутство!$FP$1752:$FW$1768,7,FALSE),\"\")","v":""},null,{"$f":"IFERROR(VLOOKUP(ROWS($J$100:J104),Упутство!$FP$1752:$FW$1768,8,FALSE),\"\")","v":""},null,0]
["6",{"$f":"IFERROR(VLOOKUP(ROWS($B$100:B105),Упутство!$FP$1752:$FW$1768,2,FALSE),\"\")","v":""},null,{"$f":"IFERROR(VLOOKUP(ROWS($D$100:D105),Упутство!$FP$1752:$FW$1768,5,FALSE),\"\")","v":""},null,{"$f":"IFERROR(VLOOKUP(ROWS($F$100:F105),Упутство!$FP$1752:$FW$1768,6,FALSE),\"\")","v":""},null,{"$f":"IFERROR(VLOOKUP(ROWS($H$100:H105),Упутство!$FP$1752:$FW$1768,7,FALSE),\"\")","v":""},null,{"$f":"IFERROR(VLOOKUP(ROWS($J$100:J105),Упутство!$FP$1752:$FW$1768,8,FALSE),\"\")","v":""},null,0]
["7",{"$f":"IFERROR(VLOOKUP(ROWS($B$100:B106),Упутство!$FP$1752:$FW$1768,2,FALSE),\"\")","v":""},null,{"$f":"IFERROR(VLOOKUP(ROWS($D$100:D106),Упутство!$FP$1752:$FW$1768,5,FALSE),\"\")","v":""},null,{"$f":"IFERROR(VLOOKUP(ROWS($F$100:F106),Упутство!$FP$1752:$FW$1768,6,FALSE),\"\")","v":""},null,{"$f":"IFERROR(VLOOKUP(ROWS($H$100:H106),Упутство!$FP$1752:$FW$1768,7,FALSE),\"\")","v":""},null,{"$f":"IFERROR(VLOOKUP(ROWS($J$100:J106),Упутство!$FP$1752:$FW$1768,8,FALSE),\"\")","v":""},null,0]
["8",{"$f":"IFERROR(VLOOKUP(ROWS($B$100:B107),Упутство!$FP$1752:$FW$1768,2,FALSE),\"\")","v":""},null,{"$f":"IFERROR(VLOOKUP(ROWS($D$100:D107),Упутство!$FP$1752:$FW$1768,5,FALSE),\"\")","v":""},null,{"$f":"IFERROR(VLOOKUP(ROWS($F$100:F107),Упутство!$FP$1752:$FW$1768,6,FALSE),\"\")","v":""},null,{"$f":"IFERROR(VLOOKUP(ROWS($H$100:H107),Упутство!$FP$1752:$FW$1768,7,FALSE),\"\")","v":""},null,{"$f":"IFERROR(VLOOKUP(ROWS($J$100:J107),Упутство!$FP$1752:$FW$1768,8,FALSE),\"\")","v":""},null,0]
["9",{"$f":"IFERROR(VLOOKUP(ROWS($B$100:B108),Упутство!$FP$1752:$FW$1768,2,FALSE),\"\")","v":""},null,{"$f":"IFERROR(VLOOKUP(ROWS($D$100:D108),Упутство!$FP$1752:$FW$1768,5,FALSE),\"\")","v":""},null,{"$f":"IFERROR(VLOOKUP(ROWS($F$100:F108),Упутство!$FP$1752:$FW$1768,6,FALSE),\"\")","v":""},null,{"$f":"IFERROR(VLOOKUP(ROWS($H$100:H108),Упутство!$FP$1752:$FW$1768,7,FALSE),\"\")","v":""},null,{"$f":"IFERROR(VLOOKUP(ROWS($J$100:J108),Упутство!$FP$1752:$FW$1768,8,FALSE),\"\")","v":""},null,0,null,null,"Између 109. и 117. реда се налазе додатни редови за додатне изворе финансирања уколико је потребно . Активирају се заједничким маркирањем 109. и 117. реда > десни клик> опција \"Unhide\".  Графичку илустрацију поступка видети у Упутству."]
["10",{"$f":"IFERROR(VLOOKUP(ROWS($B$100:B109),Упутство!$FP$1752:$FW$1768,2,FALSE),\"\")","v":""},null,{"$f":"IFERROR(VLOOKUP(ROWS($D$100:D109),Упутство!$FP$1752:$FW$1768,5,FALSE),\"\")","v":""},null,{"$f":"IFERROR(VLOOKUP(ROWS($F$100:F109),Упутство!$FP$1752:$FW$1768,6,FALSE),\"\")","v":""},null,{"$f":"IFERROR(VLOOKUP(ROWS($H$100:H109),Упутство!$FP$1752:$FW$1768,7,FALSE),\"\")","v":""},null,{"$f":"IFERROR(VLOOKUP(ROWS($J$100:J109),Упутство!$FP$1752:$FW$1768,8,FALSE),\"\")","v":""},null,0]
["11",{"$f":"IFERROR(VLOOKUP(ROWS($B$100:B110),Упутство!$FP$1752:$FW$1768,2,FALSE),\"\")","v":""},null,{"$f":"IFERROR(VLOOKUP(ROWS($D$100:D110),Упутство!$FP$1752:$FW$1768,5,FALSE),\"\")","v":""},null,{"$f":"IFERROR(VLOOKUP(ROWS($F$100:F110),Упутство!$FP$1752:$FW$1768,6,FALSE),\"\")","v":""},null,{"$f":"IFERROR(VLOOKUP(ROWS($H$100:H110),Упутство!$FP$1752:$FW$1768,7,FALSE),\"\")","v":""},null,{"$f":"IFERROR(VLOOKUP(ROWS($J$100:J110),Упутство!$FP$1752:$FW$1768,8,FALSE),\"\")","v":""},null,0]
["12",{"$f":"IFERROR(VLOOKUP(ROWS($B$100:B111),Упутство!$FP$1752:$FW$1768,2,FALSE),\"\")","v":""},null,{"$f":"IFERROR(VLOOKUP(ROWS($D$100:D111),Упутство!$FP$1752:$FW$1768,5,FALSE),\"\")","v":""},null,{"$f":"IFERROR(VLOOKUP(ROWS($F$100:F111),Упутство!$FP$1752:$FW$1768,6,FALSE),\"\")","v":""},null,{"$f":"IFERROR(VLOOKUP(ROWS($H$100:H111),Упутство!$FP$1752:$FW$1768,7,FALSE),\"\")","v":""},null,{"$f":"IFERROR(VLOOKUP(ROWS($J$100:J111),Упутство!$FP$1752:$FW$1768,8,FALSE),\"\")","v":""},null,0]
["13",{"$f":"IFERROR(VLOOKUP(ROWS($B$100:B112),Упутство!$FP$1752:$FW$1768,2,FALSE),\"\")","v":""},null,{"$f":"IFERROR(VLOOKUP(ROWS($D$100:D112),Упутство!$FP$1752:$FW$1768,5,FALSE),\"\")","v":""},null,{"$f":"IFERROR(VLOOKUP(ROWS($F$100:F112),Упутство!$FP$1752:$FW$1768,6,FALSE),\"\")","v":""},null,{"$f":"IFERROR(VLOOKUP(ROWS($H$100:H112),Упутство!$FP$1752:$FW$1768,7,FALSE),\"\")","v":""},null,{"$f":"IFERROR(VLOOKUP(ROWS($J$100:J112),Упутство!$FP$1752:$FW$1768,8,FALSE),\"\")","v":""},null,0]
["14",{"$f":"IFERROR(VLOOKUP(ROWS($B$100:B113),Упутство!$FP$1752:$FW$1768,2,FALSE),\"\")","v":""},null,{"$f":"IFERROR(VLOOKUP(ROWS($D$100:D113),Упутство!$FP$1752:$FW$1768,5,FALSE),\"\")","v":""},null,{"$f":"IFERROR(VLOOKUP(ROWS($F$100:F113),Упутство!$FP$1752:$FW$1768,6,FALSE),\"\")","v":""},null,{"$f":"IFERROR(VLOOKUP(ROWS($H$100:H113),Упутство!$FP$1752:$FW$1768,7,FALSE),\"\")","v":""},null,{"$f":"IFERROR(VLOOKUP(ROWS($J$100:J113),Упутство!$FP$1752:$FW$1768,8,FALSE),\"\")","v":""},null,0]
["15",{"$f":"IFERROR(VLOOKUP(ROWS($B$100:B114),Упутство!$FP$1752:$FW$1768,2,FALSE),\"\")","v":""},null,{"$f":"IFERROR(VLOOKUP(ROWS($D$100:D114),Упутство!$FP$1752:$FW$1768,5,FALSE),\"\")","v":""},null,{"$f":"IFERROR(VLOOKUP(ROWS($F$100:F114),Упутство!$FP$1752:$FW$1768,6,FALSE),\"\")","v":""},null,{"$f":"IFERROR(VLOOKUP(ROWS($H$100:H114),Упутство!$FP$1752:$FW$1768,7,FALSE),\"\")","v":""},null,{"$f":"IFERROR(VLOOKUP(ROWS($J$100:J114),Упутство!$FP$1752:$FW$1768,8,FALSE),\"\")","v":""},null,0]
["16",{"$f":"IFERROR(VLOOKUP(ROWS($B$100:B115),Упутство!$FP$1752:$FW$1768,2,FALSE),\"\")","v":""},null,{"$f":"IFERROR(VLOOKUP(ROWS($D$100:D115),Упутство!$FP$1752:$FW$1768,5,FALSE),\"\")","v":""},null,{"$f":"IFERROR(VLOOKUP(ROWS($F$100:F115),Упутство!$FP$1752:$FW$1768,6,FALSE),\"\")","v":""},null,{"$f":"IFERROR(VLOOKUP(ROWS($H$100:H115),Упутство!$FP$1752:$FW$1768,7,FALSE),\"\")","v":""},null,{"$f":"IFERROR(VLOOKUP(ROWS($J$100:J115),Упутство!$FP$1752:$FW$1768,8,FALSE),\"\")","v":""},null,{"$f":"SUM(F115,H115,J115)","v":0}]
["17",{"$f":"IFERROR(VLOOKUP(ROWS($B$100:B116),Упутство!$FP$1752:$FW$1768,2,FALSE),\"\")","v":""},null,{"$f":"IFERROR(VLOOKUP(ROWS($D$100:D116),Упутство!$FP$1752:$FW$1768,5,FALSE),\"\")","v":""},null,{"$f":"IFERROR(VLOOKUP(ROWS($F$100:F116),Упутство!$FP$1752:$FW$1768,6,FALSE),\"\")","v":""},null,{"$f":"IFERROR(VLOOKUP(ROWS($H$100:H116),Упутство!$FP$1752:$FW$1768,7,FALSE),\"\")","v":""},null,{"$f":"IFERROR(VLOOKUP(ROWS($J$100:J116),Упутство!$FP$1752:$FW$1768,8,FALSE),\"\")","v":""},null,{"$f":"SUM(F116,H116,J116)","v":0}]
["УКУПНО  ЗА:",null,{"$f":"$D$4","v":0},{"$f":"SUM(D100:E116)","v":0},null,{"$f":"SUM(F100:G116)","v":0},null,{"$f":"SUM(H100:I116)","v":0},null,{"$f":"SUM(J100:K116)","v":0},null,{"$f":"SUM(F117:K117)","v":0}]
[]
["*","1-5 циља за сваки програм"]
["**","1-3 индикатора за сваки циљ"]
[]
[]
[{"$nulls":10},"Одговорно лице"]
[]
[null,"Датум:"]

{"sheet":"Програмска активност","index":1,"n_rows":218,"n_cols":39,"rows_kept":218,"merged":[[0,0,0,12],[0,25,0,26],[0,27,0,28],[0,29,0,30],[0,31,0,32],[0,40,0,41],[1,0,1,12],[2,25,2,26],[2,27,2,28],[2,29,2,30],[2,31,2,32],[3,0,3,2],[3,3,3,10],[3,25,3,26],[3,27,3,28],[3,29,3,30],[3,31,3,32],[4,0,4,2],[4,3,4,10],[4,25,4,26],[4,27,4,28],[4,29,4,30],[4,31,4,32],[5,0,5,2],[5,3,5,10],[5,25,5,26],[5,27,5,28],[5,29,5,30],[5,31,5,32],[6,0,6,2],[6,3,6,10],[6,25,6,26],[6,27,6,28],[6,29,6,30],[6,31,6,32],[7,0,7,2],[7,3,7,12],[7,25,7,26],[7,27,7,28],[7,29,7,30],[7,31,7,32],[8,0,8,2],[8,3,8,12],[8,25,8,26],[8,27,8,28],[8,29,8,30],[8,31,8,32],[9,0,9,2],[9,3,9,12],[9,25,9,26],[9,27,9,28],[9,29,9,30],[9,31,9,32],[10,0,10,2],[10,3,10,12],[10,25,10,26],[10,27,10,28],[10,29,10,30],[10,31,10,32],[11,0,11,2],[11,3,11,12],[11,25,11,26],[11,27,11,28],[11,29,11,30],[11,31,11,32],[12,25,12,26],[12,27,12,28],[12,29,12,30],[12,31,12,32],[13,0,14,0],[13,1,14,2],[13,3,13,12],[13,25,13,26],[13,27,13,28],[13,29,13,30],[13,31,13,32],[14,3,14,5],[14,11,14,12],[14,25,14,26],[14,27,14,28],[14,29,14,30],[14,31,14,32],[15,0,17,0],[15,1,17,2],[15,3,15,5],[15,11,15,12],[15,25,15,26],[15,27,15,28],[15,29,15,30],[15,31,15,32],[16,3,16,5],[16,11,16,12],[16,25,16,26],[16,27,16,28],[16,29,16,30],[16,31,16,32],[17,3,17,5],[17,11,17,12],[17,25,17,26],[17,27,17,28],[17,29,17,30],[17,31,17,32],[18,25,18,26],[18,27,18,28],[18,29,18,30],[18,31,18,32],[19,0,20,0],[19,1,20,2],[19,3,19,12],[20,3,20,5],[20,11,20,12],[21,0,23,0],[21,1,23,2],[21,3,21,5],[21,11,21,12],[22,3,22,5],[22,11,22,12],[23,3,23,5],[23,11,23,12],[25,0,26,0],[25,1,26,2],[25,3,25,12],[26,3,26,5],[26,11,26,12],[27,0,29,0],[27,1,29,2],[27,3,27,5],[27,11,27,12],[28,3,28,5],[28,11,28,12],[29,3,29,5],[29,11,29,12],[29,14,30,20],[31,0,32,0],[31,1,32,2],[31,3,31,12],[32,3,32,5],[32,11,32,12],[33,0,35,0],[33,1,35,2],[33,3,33,5],[33,11,33,12],[34,3,34,5],[34,11,34,12],[35,3,35,5],[35,11,35,12],[37,0,38,0],[37,1,38,2],[37,3,37,12],[38,3,38,5],[38,11,38,12],[39,0,41,0],[39,1,41,2],[39,3,39,5],[39,11,39,12],[40,3,40,5],[40,11,40,12],[41,3,41,5],[41,11,41,12],[43,0,44,0],[43,1,44,1],[43,2,44,2],[43,3,43,4],[43,5,43,6],[43,7,43,8],[43,9,43,10],[43,11,43,12],[189,0,189,1],[191,1,191,2],[191,3,191,4],[191,5,191,6],[191,7,191,8],[191,9,191,10],[191,11,191,12],[192,1,192,2],[192,3,192,4],[192,5,192,6],[192,7,192,8],[192,9,192,10],[192,11,192,12],[193,1,193,2],[193,3,193,4],[193,5,193,6],[193,7,193,8],[193,9,193,10],[193,11,193,12],[194,1,194,2],[194,3,194,4],[194,5,194,6],[194,7,194,8],[194,9,194,10],[194,11,194,12],[195,1,195,2],[195,3,195,4],[195,5,195,6],[195,7,195,8],[195,9,195,10],[195,11,195,12],[196,1,196,2],[196,3,196,4],[196,5,196,6],[196,7,196,8],[196,9,196,10],[196,11,196,12],[197,1,197,2],[197,3,197,4],[197,5,197,6],[197,7,197,8],[197,9,197,10],[197,11,197,12],[198,1,198,2],[198,3,198,4],[198,5,198,6],[198,7,198,8],[198,9,198,10],[198,11,198,12],[199,1,199,2],[199,3,199,4],[199,5,199,6],[199,7,199,8],[199,9,199,10],[199,11,199,12],[200,1,200,2],[200,3,200,4],[200,5,200,6],[200,7,200,8],[200,9,200,10],[200,11,200,12],[200,14,201,20],[201,1,201,2],[201,3,201,4],[201,5,201,6],[201,7,201,8],[201,9,201,10],[201,11,201,12],[202,1,202,2],[202,3,202,4],[202,5,202,6],[202,7,202,8],[202,9,202,10],[202,11,202,12],[203,1,203,2],[203,3,203,4],[203,5,203,6],[203,7,203,8],[203,9,203,10],[203,11,203,12],[204,1,204,2],[204,3,204,4],[204,5,204,6],[204,7,204,8],[204,9,204,10],[204,11,204,12],[205,1,205,2],[205,3,205,4],[205,5,205,6],[205,7,205,8],[205,9,205,10],[205,11,205,12],[206,1,206,2],[206,3,206,4],[206,5,206,6],[206,7,206,8],[206,9,206,10],[206,11,206,12],[207,1,207,2],[207,3,207,4],[207,5,207,6],[207,7,207,8],[207,9,207,10],[207,11,207,12],[208,1,208,2],[208,3,208,4],[208,5,208,6],[208,7,208,8],[208,9,208,10],[208,11,208,12],[209,0,209,1],[209,3,209,4],[209,5,209,6],[209,7,209,8],[209,9,209,10],[209,11,209,12],[215,10,215,11]]}
["Обрасци за припрему програмског буџета",{"$nulls":24},2015,null,2016,null,2017,null,2018,{"$nulls":3},"2. ПРОГРАМСКА АКТИВНОСТ",null,null,{"$f":"IF(A2=AJ1,\"\",\" - захтев за додатна средства\")","v":""}]
["2. ПРОГРАМСКА АКТИВНОСТ",{"$nulls":20},{"$f":"VLOOKUP($D$4,Упутство!$B$38:$C$52,2,FALSE)","v":{"$error":"#N/A"}},null,"suma",{"$f":"$C$190&AM1&\" (\"&$D$7&\")\"","v":"0 ()"},{"$f":"$D$190","v":0},{"$f":"$E$190","v":0},{"$f":"$F$190","v":0},{"$f":"$G$190","v":0},{"$f":"$H$190","v":0},{"$f":"$I$190","v":0},{"$f":"$J$190","v":0},{"$f":"$K$190","v":0},null,null,"2. ПРОГРАМСКА АКТИВНОСТ - ЗАХТЕВ ЗА ДОДАТНА СРЕДСТВА"]
[{"$nulls":21},{"$f":"VLOOKUP($D$5,Упутство!$A$130:$B$186,2,FALSE)","v":{"$error":"#N/A"}},null,"izvori",{"$f":"$B$193","v":0},{"$f":"$D$193","v":0},null,{"$f":"$F$193","v":0},null,{"$f":"$H$193","v":0},null,{"$f":"$J$193","v":0}]
["Програм коме припада:",null,null,{"$f":"IF(Програм!$D$4=\"\",\"\",Програм!$D$4)","v":""},{"$nulls":17},{"$f":"VLOOKUP($B$16,Упутство!$A$191:$B$316,2,FALSE)","v":{"$error":"#N/A"}},null,null,{"$f":"$B$194","v":0},{"$f":"$D$194","v":0},null,{"$f":"$F$194","v":0},null,{"$f":"$H$194","v":0},null,{"$f":"$J$194","v":0}]
["Шифра и назив:",{"$nulls":20},{"$f":"VLOOKUP($B$22,Упутство!$A$191:$B$316,2,FALSE)","v":{"$error":"#N/A"}},null,null,{"$f":"$B$195","v":0},{"$f":"$D$195","v":0},null,{"$f":"$F$195","v":0},null,{"$f":"$H$195","v":0},null,{"$f":"$J$195","v":0}]
["Функција:",{"$nulls":20},{"$f":"VLOOKUP($B$28,Упутство!$A$191:$B$316,2,FALSE)","v":{"$error":"#N/A"}},null,null,{"$f":"$B$196","v":0},{"$f":"$D$196","v":0},null,{"$f":"$F$196","v":0},null,{"$f":"$H$196","v":0},null,{"$f":"$J$196","v":0}]
["Назив организационе јединице/Буџетски корисник:",{"$nulls":20},{"$f":"VLOOKUP($B$34,Упутство!$A$191:$B$316,2,FALSE)","v":{"$error":"#N/A"}},null,null,{"$f":"$B$197","v":0},{"$f":"$D$197","v":0},null,{"$f":"$F$197","v":0},null,{"$f":"$H$197","v":0},null,{"$f":"$J$197","v":0}]
["Сврхa:",{"$nulls":20},{"$f":"VLOOKUP($B$40,Упутство!$A$191:$B$316,2,FALSE)","v":{"$error":"#N/A"}},null,null,{"$f":"$B$198","v":0},{"$f":"$D$198","v":0},null,{"$f":"$F$198","v":0},null,{"$f":"$H$198","v":0},null,{"$f":"$J$198","v":0}]
["Основ:",{"$nulls":23},{"$f":"$B$199","v":0},{"$f":"$D$199","v":0},null,{"$f":"$F$199","v":0},null,{"$f":"$H$199","v":0},null,{"$f":"$J$199","v":0}]
["Опис:",{"$nulls":23},{"$f":"$B$200","v":0},{"$f":"$D$200","v":0},null,{"$f":"$F$200","v":0},null,{"$f":"$H$200","v":0},null,{"$f":"$J$200","v":0}]
["Мере и поглавље преговора о приступању ЕУ:",null,null,"(Анекс 3 Упутства за израду програмског буџета) релевантно само за Републику Србију)",{"$nulls":20},{"$f":"$B$201","v":0},{"$f":"$D$201","v":0},null,{"$f":"$F$201","v":0},null,{"$f":"$H$201","v":0},null,{"$f":"$J$201","v":0}]
["Одговорно лице за спровођење прог. aктивности:",{"$nulls":23},{"$f":"$B$202","v":0},{"$f":"$D$202","v":0},null,{"$f":"$F$202","v":0},null,{"$f":"$H$202","v":0},null,{"$f":"$J$202","v":0}]
[{"$nulls":24},{"$f":"$B$203","v":0},{"$f":"$D$203","v":0},null,{"$f":"$F$203","v":0},null,{"$f":"$H$203","v":0},null,{"$f":"$J$203","v":0}]
[null,"Циљ*",null,"Индикатори**",{"$nulls":20},{"$f":"$B$204","v":0},{"$f":"$D$204","v":0},null,{"$f":"$F$204","v":0},null,{"$f":"$H$204","v":0},null,{"$f":"$J$204","v":0}]
[{"$nulls":3},"Назив индикатора",null,null,"Вредност у базној години (крај 2014.)","Очекивана вредност у 2015. години","Циљана вредност 2016.","Циљана вредност 2017.","Циљана вредност 2018.","Извор верификације",{"$nulls":12},{"$f":"$B$205","v":0},{"$f":"$D$205","v":0},null,{"$f":"$F$205","v":0},null,{"$f":"$H$205","v":0},null,{"$f":"$J$205","v":0}]
[1,{"$nulls":23},{"$f":"$B$206","v":0},{"$f":"$D$206","v":0},null,{"$f":"$F$206","v":0},null,{"$f":"$H$206","v":0},null,{"$f":"$J$206","v":0}]
[{"$nulls":24},{"$f":"$B$207","v":0},{"$f":"$D$207","v":0},null,{"$f":"$F$207","v":0},null,{"$f":"$H$207","v":0},null,{"$f":"$J$207","v":0}]
[{"$nulls":24},{"$f":"$B$208","v":0},{"$f":"$D$208","v":0},null,{"$f":"$F$208","v":0},null,{"$f":"$H$208","v":0},null,{"$f":"$J$208","v":0}]
[{"$nulls":24},{"$f":"$B$209","v":0},{"$f":"$D$209","v":0},null,{"$f":"$F$209","v":0},null,{"$f":"$H$209","v":0},null,{"$f":"$J$209","v":0}]
[null,"Циљ",null,"Индикатори"]
[{"$nulls":3},"Назив индикатора",null,null,"Вредност у базној години (крај 2014.)","Очекивана вредност у 2015. години","Циљана вредност 2016.","Циљана вредност 2017.","Циљана вредност 2018.","Извор верификације"]
[2]
[]
[]
[]
[null,"Циљ",null,"Индикатори"]
[{"$nulls":3},"Назив индикатора",null,null,"Вредност у базној години (крај 2014.)","Очекивана вредност у 2015. години","Циљана вредност 2016.","Циљана вредност 2017.","Циљана вредност 2018.","Извор верификације"]
[3]
[]
[{"$nulls":14},"Између 31. и 43. реда се налазе још 2 циља уколико је потребно . Активирају се маркирањем целог  31. и 43. реда > десни клик> опција \"Unhide\". Графичку илустрацију поступка видети у Упутству"]
[]
[null,"Циљ",null,"Индикатори"]
[{"$nulls":3},"Назив индикатора",null,null,"Вредност у базној години (крај 2014.)","Очекивана вредност у 2015. години","Циљана вредност 2016.","Циљана вредност 2017.","Циљана вредност 2018.","Извор верификације"]
[4]
[]
[]
[]
[null,"Циљ",null,"Индикатори"]
[{"$nulls":3},"Назив индикатора",null,null,"Вредност у базној години (крај 2014.)","Очекивана вредност у 2015. години","Циљана вредност 2016.","Циљана вредност 2017.","Циљана вредност 2018.","Извор верификације"]
[5]
[]
[]
[]
["Рбр.","Конто","Расходи и издаци програмске активности","Вредност у базној години (2015)",null,"Вредност у 2016.",null,"Вредност у 2017.",null,"Вредност у 2018.",null,"Укупно (2016-2018)"]
[{"$nulls":3},"Буџетска средства","Средства из осталих извора","Буџетска средства","Средства из осталих извора","Буџетска средства","Средства из осталих извора","Буџетска средства","Средства из осталих извора","Буџетска средства","Средства из осталих извора"]
["1",411000,{"$f":"IF(B46=\"\",\"\",VLOOKUP(B46,Упутство!$BE$2:$BF$1740,2,FALSE))","v":"Плате, додаци и накнаде запослених (зараде)"},{"$f":"SUM(D47:D50)","v":0},0,0,0,0,0,0,0,{"$f":"SUM(F46,H46,J46)","v":0},{"$f":"SUM(G46,I46,K46)","v":0}]
["2",null,{"$f":"IF(B47=\"\",\"\",VLOOKUP(B47,Упутство!$BE$2:$BF$1740,2,FALSE))","v":""},{"$nulls":8},{"$f":"SUM(F47,H47,J47)","v":0},{"$f":"SUM(G47,I47,K47)","v":0}]
["3",null,{"$f":"IF(B48=\"\",\"\",VLOOKUP(B48,Упутство!$BE$2:$BF$1740,2,FALSE))","v":""},{"$nulls":8},0,0]
["4",null,{"$f":"IF(B49=\"\",\"\",VLOOKUP(B49,Упутство!$BE$2:$BF$1740,2,FALSE))","v":""},{"$nulls":8},0,0]
["5",null,{"$f":"IF(B50=\"\",\"\",VLOOKUP(B50,Упутство!$BE$2:$BF$1740,2,FALSE))","v":""},{"$nulls":8},0,0]
["6",412000,{"$f":"IF(B51=\"\",\"\",VLOOKUP(B51,Упутство!$BE$2:$BF$1740,2,FALSE))","v":"Социјални доприноси на терет послодавца"},{"$f":"SUM(D52:D54)","v":0},0,0,0,0,0,0,0,0,0]
["7",null,{"$f":"IF(B52=\"\",\"\",VLOOKUP(B52,Упутство!$BE$2:$BF$1740,2,FALSE))","v":""},{"$nulls":8},0,0]
["8",null,{"$f":"IF(B53=\"\",\"\",VLOOKUP(B53,Упутство!$BE$2:$BF$1740,2,FALSE))","v":""},{"$nulls":8},0,0]
["9",null,{"$f":"IF(B54=\"\",\"\",VLOOKUP(B54,Упутство!$BE$2:$BF$1740,2,FALSE))","v":""},{"$nulls":8},0,0]
["10",413000,{"$f":"IF(B55=\"\",\"\",VLOOKUP(B55,Упутство!$BE$2:$BF$1740,2,FALSE))","v":"Накнаде у натури"},{"$f":"SUM(D56:D58)","v":0},0,0,0,0,0,0,0,0,0]
["11",null,{"$f":"IF(B56=\"\",\"\",VLOOKUP(B56,Упутство!$BE$2:$BF$1740,2,FALSE))","v":""},{"$nulls":8},0,0]
["12",null,{"$f":"IF(B57=\"\",\"\",VLOOKUP(B57,Упутство!$BE$2:$BF$1740,2,FALSE))","v":""},{"$nulls":8},0,0]
["13",null,{"$f":"IF(B58=\"\",\"\",VLOOKUP(B58,Упутство!$BE$2:$BF$1740,2,FALSE))","v":""},{"$nulls":8},0,0]
["14",414000,{"$f":"IF(B59=\"\",\"\",VLOOKUP(B59,Упутство!$BE$2:$BF$1740,2,FALSE))","v":"Социјална давања запосленима"},{"$f":"SUM(D60:D62)","v":0},{"$f":"SUM(E60:E62)","v":0},{"$f":"SUM(F60:F62)","v":0},{"$f":"SUM(G60:G62)","v":0},0,0,0,0,0,0]
["15",null,{"$f":"IF(B60=\"\",\"\",VLOOKUP(B60,Упутство!$BE$2:$BF$1740,2,FALSE))","v":""},{"$nulls":8},0,0]
["16",null,{"$f":"IF(B61=\"\",\"\",VLOOKUP(B61,Упутство!$BE$2:$BF$1740,2,FALSE))","v":""},{"$nulls":8},0,0]
["17",null,{"$f":"IF(B62=\"\",\"\",VLOOKUP(B62,Упутство!$BE$2:$BF$1740,2,FALSE))","v":""},{"$nulls":8},0,0]
["18",415000,{"$f":"IF(B63=\"\",\"\",VLOOKUP(B63,Упутство!$BE$2:$BF$1740,2,FALSE))","v":"Накнаде трошкова за запослене"},{"$f":"SUM(D64:D66)","v":0},{"$f":"SUM(E64:E66)","v":0},{"$f":"SUM(F64:F66)","v":0},{"$f":"SUM(G64:G66)","v":0},0,0,0,0,0,0]
["19",null,{"$f":"IF(B64=\"\",\"\",VLOOKUP(B64,Упутство!$BE$2:$BF$1740,2,FALSE))","v":""},{"$nulls":8},0,0]
["20",null,{"$f":"IF(B65=\"\",\"\",VLOOKUP(B65,Упутство!$BE$2:$BF$1740,2,FALSE))","v":""},{"$nulls":8},0,0]
["21",null,{"$f":"IF(B66=\"\",\"\",VLOOKUP(B66,Упутство!$BE$2:$BF$1740,2,FALSE))","v":""},{"$nulls":8},0,0]
["22",416000,{"$f":"IF(B67=\"\",\"\",VLOOKUP(B67,Упутство!$BE$2:$BF$1740,2,FALSE))","v":"Награде запосленима и остали посебни расходи"},{"$f":"SUM(D68:D70)","v":0},{"$f":"SUM(E68:E70)","v":0},{"$f":"SUM(F68:F70)","v":0},{"$f":"SUM(G68:G70)","v":0},0,0,0,0,0,0]
["23",null,{"$f":"IF(B68=\"\",\"\",VLOOKUP(B68,Упутство!$BE$2:$BF$1740,2,FALSE))","v":""},{"$nulls":8},0,0]
["24",null,{"$f":"IF(B69=\"\",\"\",VLOOKUP(B69,Упутство!$BE$2:$BF$1740,2,FALSE))","v":""},{"$nulls":8},0,0]
["25",null,{"$f":"IF(B70=\"\",\"\",VLOOKUP(B70,Упутство!$BE$2:$BF$1740,2,FALSE))","v":""},{"$nulls":8},0,0]
["26",417000,{"$f":"IF(B71=\"\",\"\",VLOOKUP(B71,Упутство!$BE$2:$BF$1740,2,FALSE))","v":"Посланички додатак"},{"$f":"SUM(D72)","v":0},{"$f":"SUM(E72)","v":0},0,{"$f":"SUM(G72)","v":0},0,0,0,0,0,0]
["27",null,{"$f":"IF(B72=\"\",\"\",VLOOKUP(B72,Упутство!$BE$2:$BF$1740,2,FALSE))","v":""},{"$nulls":8},0,0]
["28",421000,{"$f":"IF(B73=\"\",\"\",VLOOKUP(B73,Упутство!$BE$2:$BF$1740,2,FALSE))","v":"Стални трошкови"},{"$f":"SUM(D74:D89)","v":0},{"$f":"SUM(E74:E89)","v":0},{"$f":"SUM(F74:F89)","v":0},{"$f":"SUM(G74:G89)","v":0},0,0,0,0,0,0]
["29",null,{"$f":"IF(B74=\"\",\"\",VLOOKUP(B74,Упутство!$BE$2:$BF$1740,2,FALSE))","v":""},{"$nulls":8},0,0]
["30",null,{"$f":"IF(B75=\"\",\"\",VLOOKUP(B75,Упутство!$BE$2:$BF$1740,2,FALSE))","v":""},{"$nulls":8},0,0]
["31",null,{"$f":"IF(B76=\"\",\"\",VLOOKUP(B76,Упутство!$BE$2:$BF$1740,2,FALSE))","v":""},{"$nulls":8},0,0]
["32",null,{"$f":"IF(B77=\"\",\"\",VLOOKUP(B77,Упутство!$BE$2:$BF$1740,2,FALSE))","v":""},{"$nulls":8},0,0]
["33",null,{"$f":"IF(B78=\"\",\"\",VLOOKUP(B78,Упутство!$BE$2:$BF$1740,2,FALSE))","v":""},{"$nulls":8},0,0]
["34",null,{"$f":"IF(B79=\"\",\"\",VLOOKUP(B79,Упутство!$BE$2:$BF$1740,2,FALSE))","v":""},{"$nulls":8},0,0]
["35",null,{"$f":"IF(B80=\"\",\"\",VLOOKUP(B80,Упутство!$BE$2:$BF$1740,2,FALSE))","v":""},{"$nulls":8},0,0]
["36",null,{"$f":"IF(B81=\"\",\"\",VLOOKUP(B81,Упутство!$BE$2:$BF$1740,2,FALSE))","v":""},{"$nulls":8},0,0]
["37",null,{"$f":"IF(B82=\"\",\"\",VLOOKUP(B82,Упутство!$BE$2:$BF$1740,2,FALSE))","v":""},{"$nulls":8},0,0]
["38",null,{"$f":"IF(B83=\"\",\"\",VLOOKUP(B83,Упутство!$BE$2:$BF$1740,2,FALSE))","v":""},{"$nulls":8},0,0]
["39",null,{"$f":"IF(B84=\"\",\"\",VLOOKUP(B84,Упутство!$BE$2:$BF$1740,2,FALSE))","v":""},{"$nulls":8},0,0]
["40",null,{"$f":"IF(B85=\"\",\"\",VLOOKUP(B85,Упутство!$BE$2:$BF$1740,2,FALSE))","v":""},{"$nulls":8},0,0]
["41",null,{"$f":"IF(B86=\"\",\"\",VLOOKUP(B86,Упутство!$BE$2:$BF$1740,2,FALSE))","v":""},{"$nulls":8},0,0]
["42",null,{"$f":"IF(B87=\"\",\"\",VLOOKUP(B87,Упутство!$BE$2:$BF$1740,2,FALSE))","v":""},{"$nulls":8},0,0]
["43",null,{"$f":"IF(B88=\"\",\"\",VLOOKUP(B88,Упутство!$BE$2:$BF$1740,2,FALSE))","v":""},{"$nulls":8},0,0]
["44",null,{"$f":"IF(B89=\"\",\"\",VLOOKUP(B89,Упутство!$BE$2:$BF$1740,2,FALSE))","v":""},{"$nulls":8},0,0]
["45",422000,{"$f":"IF(B90=\"\",\"\",VLOOKUP(B90,Упутство!$BE$2:$BF$1740,2,FALSE))","v":"Трошкови путовања"},{"$f":"SUM(D91:D95)","v":0},{"$f":"SUM(E91:E95)","v":0},{"$f":"SUM(F91:F95)","v":0},{"$f":"SUM(G91:G95)","v":0},0,0,0,0,0,0]
["46",null,{"$f":"IF(B91=\"\",\"\",VLOOKUP(B91,Упутство!$BE$2:$BF$1740,2,FALSE))","v":""},{"$nulls":8},0,0]
["47",null,{"$f":"IF(B92=\"\",\"\",VLOOKUP(B92,Упутство!$BE$2:$BF$1740,2,FALSE))","v":""},{"$nulls":8},0,0]
["48",null,{"$f":"IF(B93=\"\",\"\",VLOOKUP(B93,Упутство!$BE$2:$BF$1740,2,FALSE))","v":""},{"$nulls":8},0,0]
["49",null,{"$f":"IF(B94=\"\",\"\",VLOOKUP(B94,Упутство!$BE$2:$BF$1740,2,FALSE))","v":""},{"$nulls":8},0,0]
["50",null,{"$f":"IF(B95=\"\",\"\",VLOOKUP(B95,Упутство!$BE$2:$BF$1740,2,FALSE))","v":""},{"$nulls":8},0,0]
["51",423000,{"$f":"IF(B96=\"\",\"\",VLOOKUP(B96,Упутство!$BE$2:$BF$1740,2,FALSE))","v":"Услуге по уговору"},{"$f":"SUM(D97:D103)","v":0},0,0,0,0,0,0,0,0,0]
["52",null,{"$f":"IF(B97=\"\",\"\",VLOOKUP(B97,Упутство!$BE$2:$BF$1740,2,FALSE))","v":""},{"$nulls":8},0,0]
["53",null,{"$f":"IF(B98=\"\",\"\",VLOOKUP(B98,Упутство!$BE$2:$BF$1740,2,FALSE))","v":""},{"$nulls":8},0,0]
["54",null,{"$f":"IF(B99=\"\",\"\",VLOOKUP(B99,Упутство!$BE$2:$BF$1740,2,FALSE))","v":""},{"$nulls":8},0,0]
["55",null,{"$f":"IF(B100=\"\",\"\",VLOOKUP(B100,Упутство!$BE$2:$BF$1740,2,FALSE))","v":""},{"$nulls":8},0,0]
["56",null,{"$f":"IF(B101=\"\",\"\",VLOOKUP(B101,Упутство!$BE$2:$BF$1740,2,FALSE))","v":""},{"$nulls":8},0,0]
["57",null,{"$f":"IF(B102=\"\",\"\",VLOOKUP(B102,Упутство!$BE$2:$BF$1740,2,FALSE))","v":""},{"$nulls":8},0,0]
["58",null,{"$f":"IF(B103=\"\",\"\",VLOOKUP(B103,Упутство!$BE$2:$BF$1740,2,FALSE))","v":""},{"$nulls":8},0,0]
["59",424000,{"$f":"IF(B104=\"\",\"\",VLOOKUP(B104,Упутство!$BE$2:$BF$1740,2,FALSE))","v":"Специјализоване услуге"},{"$f":"SUM(D105:D109)","v":0},0,0,0,0,0,0,0,0,0]
["60",null,{"$f":"IF(B105=\"\",\"\",VLOOKUP(B105,Упутство!$BE$2:$BF$1740,2,FALSE))","v":""},{"$nulls":8},0,0]
["61",null,{"$f":"IF(B106=\"\",\"\",VLOOKUP(B106,Упутство!$BE$2:$BF$1740,2,FALSE))","v":""},{"$nulls":8},{"$f":"SUM(F106,H106,J106)","v":0},{"$f":"SUM(G106,I106,K106)","v":0}]
["62",null,{"$f":"IF(B107=\"\",\"\",VLOOKUP(B107,Упутство!$BE$2:$BF$1740,2,FALSE))","v":""},{"$nulls":8},0,0]
["63",null,{"$f":"IF(B108=\"\",\"\",VLOOKUP(B108,Упутство!$BE$2:$BF$1740,2,FALSE))","v":""},{"$nulls":8},0,0]
["64",null,{"$f":"IF(B109=\"\",\"\",VLOOKUP(B109,Упутство!$BE$2:$BF$1740,2,FALSE))","v":""},{"$nulls":8},0,0]
["65",425000,{"$f":"IF(B110=\"\",\"\",VLOOKUP(B110,Упутство!$BE$2:$BF$1740,2,FALSE))","v":"Текуће поправке и одржавање"},{"$f":"SUM(D111:D116)","v":0},{"$f":"SUM(E111:E116)","v":0},{"$f":"SUM(F111:F116)","v":0},{"$f":"SUM(G111:G116)","v":0},0,0,0,0,0,0]
["66",null,{"$f":"IF(B111=\"\",\"\",VLOOKUP(B111,Упутство!$BE$2:$BF$1740,2,FALSE))","v":""},{"$nulls":8},0,0]
["67",null,{"$f":"IF(B112=\"\",\"\",VLOOKUP(B112,Упутство!$BE$2:$BF$1740,2,FALSE))","v":""},{"$nulls":8},0,0]
["68",null,{"$f":"IF(B113=\"\",\"\",VLOOKUP(B113,Упутство!$BE$2:$BF$1740,2,FALSE))","v":""},{"$nulls":8},0,0]
["69",null,{"$f":"IF(B114=\"\",\"\",VLOOKUP(B114,Упутство!$BE$2:$BF$1740,2,FALSE))","v":""},{"$nulls":8},0,0]
["70",null,{"$f":"IF(B115=\"\",\"\",VLOOKUP(B115,Упутство!$BE$2:$BF$1740,2,FALSE))","v":""},{"$nulls":8},0,0]
["71",null,{"$f":"IF(B116=\"\",\"\",VLOOKUP(B116,Упутство!$BE$2:$BF$1740,2,FALSE))","v":""},{"$nulls":8},0,0]
["72",426000,{"$f":"IF(B117=\"\",\"\",VLOOKUP(B117,Упутство!$BE$2:$BF$1740,2,FALSE))","v":"Материјал"},{"$f":"SUM(D118:D128)","v":0},{"$f":"SUM(E118:E128)","v":0},{"$f":"SUM(F118:F128)","v":0},{"$f":"SUM(G118:G128)","v":0},0,0,0,0,0,0]
["73",null,{"$f":"IF(B118=\"\",\"\",VLOOKUP(B118,Упутство!$BE$2:$BF$1740,2,FALSE))","v":""},{"$nulls":8},0,0]
["74",null,{"$f":"IF(B119=\"\",\"\",VLOOKUP(B119,Упутство!$BE$2:$BF$1740,2,FALSE))","v":""},{"$nulls":8},0,0]
["75",null,{"$f":"IF(B120=\"\",\"\",VLOOKUP(B120,Упутство!$BE$2:$BF$1740,2,FALSE))","v":""},{"$nulls":8},0,0]
["76",null,{"$f":"IF(B121=\"\",\"\",VLOOKUP(B121,Упутство!$BE$2:$BF$1740,2,FALSE))","v":""},{"$nulls":8},0,0]
["77",null,{"$f":"IF(B122=\"\",\"\",VLOOKUP(B122,Упутство!$BE$2:$BF$1740,2,FALSE))","v":""},{"$nulls":8},0,0]
["78",null,{"$f":"IF(B123=\"\",\"\",VLOOKUP(B123,Упутство!$BE$2:$BF$1740,2,FALSE))","v":""},{"$nulls":8},0,0]
["79",null,{"$f":"IF(B124=\"\",\"\",VLOOKUP(B124,Упутство!$BE$2:$BF$1740,2,FALSE))","v":""},{"$nulls":8},0,0]
["80",null,{"$f":"IF(B125=\"\",\"\",VLOOKUP(B125,Упутство!$BE$2:$BF$1740,2,FALSE))","v":""},{"$nulls":8},0,0]
["81",null,{"$f":"IF(B126=\"\",\"\",VLOOKUP(B126,Упутство!$BE$2:$BF$1740,2,FALSE))","v":""},{"$nulls":8},0,0]
["82",null,{"$f":"IF(B127=\"\",\"\",VLOOKUP(B127,Упутство!$BE$2:$BF$1740,2,FALSE))","v":""},{"$nulls":8},0,0]
["83",null,{"$f":"IF(B128=\"\",\"\",VLOOKUP(B128,Упутство!$BE$2:$BF$1740,2,FALSE))","v":""},{"$nulls":8},0,0]
["84",431000,{"$f":"IF(B129=\"\",\"\",VLOOKUP(B129,Упутство!$BE$2:$BF$1740,2,FALSE))","v":"Амортизација некретнина и опреме"},{"$f":"SUM(D130:D131)","v":0},{"$f":"SUM(E130:E131)","v":0},{"$f":"SUM(F130:F131)","v":0},{"$f":"SUM(G130:G131)","v":0},0,0,0,0,0,0]
["85",null,{"$f":"IF(B130=\"\",\"\",VLOOKUP(B130,Упутство!$BE$2:$BF$1740,2,FALSE))","v":""},{"$nulls":8},0,0]
["86",null,{"$f":"IF(B131=\"\",\"\",VLOOKUP(B131,Упутство!$BE$2:$BF$1740,2,FALSE))","v":""},{"$nulls":8},0,0]
["87",441000,{"$f":"IF(B132=\"\",\"\",VLOOKUP(B132,Упутство!$BE$2:$BF$1740,2,FALSE))","v":"Отплата домаћих камата"},{"$f":"SUM(D133:D135)","v":0},{"$f":"SUM(E133:E135)","v":0},{"$f":"SUM(F133:F135)","v":0},{"$f":"SUM(G133:G135)","v":0},0,0,0,0,0,0]
["88",null,{"$f":"IF(B133=\"\",\"\",VLOOKUP(B133,Упутство!$BE$2:$BF$1740,2,FALSE))","v":""},{"$nulls":8},0,0]
["89",null,{"$f":"IF(B134=\"\",\"\",VLOOKUP(B134,Упутство!$BE$2:$BF$1740,2,FALSE))","v":""},{"$nulls":8},0,0]
["90",null,{"$f":"IF(B135=\"\",\"\",VLOOKUP(B135,Упутство!$BE$2:$BF$1740,2,FALSE))","v":""},{"$nulls":8},0,0]
["91",451000,{"$f":"IF(B136=\"\",\"\",VLOOKUP(B136,Упутство!$BE$2:$BF$1740,2,FALSE))","v":"Субвенције јавним нефинансијским предузећима и организацијама"},{"$f":"SUM(D137:D141)","v":0},{"$f":"SUM(E137:E141)","v":0},{"$f":"SUM(F137:F141)","v":0},{"$f":"SUM(G137:G141)","v":0},0,0,0,0,0,0]
["92",null,{"$f":"IF(B137=\"\",\"\",VLOOKUP(B137,Упутство!$BE$2:$BF$1740,2,FALSE))","v":""},{"$nulls":8},0,0]
["93",null,{"$f":"IF(B138=\"\",\"\",VLOOKUP(B138,Упутство!$BE$2:$BF$1740,2,FALSE))","v":""},{"$nulls":8},0,0]
["94",null,{"$f":"IF(B139=\"\",\"\",VLOOKUP(B139,Упутство!$BE$2:$BF$1740,2,FALSE))","v":""},{"$nulls":8},0,0]
["95",null,{"$f":"IF(B140=\"\",\"\",VLOOKUP(B140,Упутство!$BE$2:$BF$1740,2,FALSE))","v":""},{"$nulls":8},0,0]
["96",null,{"$f":"IF(B141=\"\",\"\",VLOOKUP(B141,Упутство!$BE$2:$BF$1740,2,FALSE))","v":""},{"$nulls":8},0,0]
["97",463000,{"$f":"IF(B142=\"\",\"\",VLOOKUP(B142,Упутство!$BE$2:$BF$1740,2,FALSE))","v":"Трансфери осталим нивоима власти"},{"$f":"SUM(D143:D146)","v":0},0,0,0,0,0,0,0,0,0]
["98",null,{"$f":"IF(B143=\"\",\"\",VLOOKUP(B143,Упутство!$BE$2:$BF$1740,2,FALSE))","v":""},{"$nulls":8},0,0]
["99",null,{"$f":"IF(B144=\"\",\"\",VLOOKUP(B144,Упутство!$BE$2:$BF$1740,2,FALSE))","v":""},{"$nulls":8},0,0]
["100",null,{"$f":"IF(B145=\"\",\"\",VLOOKUP(B145,Упутство!$BE$2:$BF$1740,2,FALSE))","v":""},{"$nulls":8},0,0]
["101",null,{"$f":"IF(B146=\"\",\"\",VLOOKUP(B146,Упутство!$BE$2:$BF$1740,2,FALSE))","v":""},{"$nulls":8},0,0]
["102",465000,{"$f":"IF(B147=\"\",\"\",VLOOKUP(B147,Упутство!$BE$2:$BF$1740,2,FALSE))","v":"Остале дотације и трансфери"},{"$f":"SUM(D148:D149)","v":0},0,0,0,0,0,0,0,0,0]
["103",null,{"$f":"IF(B148=\"\",\"\",VLOOKUP(B148,Упутство!$BE$2:$BF$1740,2,FALSE))","v":""},{"$nulls":8},0,0]
["104",null,{"$f":"IF(B149=\"\",\"\",VLOOKUP(B149,Упутство!$BE$2:$BF$1740,2,FALSE))","v":""},{"$nulls":8},0,0]
["105",472000,{"$f":"IF(B150=\"\",\"\",VLOOKUP(B150,Упутство!$BE$2:$BF$1740,2,FALSE))","v":"Накнаде за социјалну заштиту из буџета"},{"$f":"SUM(D151:D154)","v":0},{"$f":"SUM(E151:E154)","v":0},{"$f":"SUM(F151:F154)","v":0},{"$f":"SUM(G151:G154)","v":0},0,0,0,0,0,0]
["106",null,{"$f":"IF(B151=\"\",\"\",VLOOKUP(B151,Упутство!$BE$2:$BF$1740,2,FALSE))","v":""},{"$nulls":8},0,0]
["107",null,{"$f":"IF(B152=\"\",\"\",VLOOKUP(B152,Упутство!$BE$2:$BF$1740,2,FALSE))","v":""},{"$nulls":8},0,0]
["108",null,{"$f":"IF(B153=\"\",\"\",VLOOKUP(B153,Упутство!$BE$2:$BF$1740,2,FALSE))","v":""},{"$nulls":8},0,0]
["109",null,{"$f":"IF(B154=\"\",\"\",VLOOKUP(B154,Упутство!$BE$2:$BF$1740,2,FALSE))","v":""},{"$nulls":8},0,0]
["110",481000,{"$f":"IF(B155=\"\",\"\",VLOOKUP(B155,Упутство!$BE$2:$BF$1740,2,FALSE))","v":"Дотације невладиним организацијама"},{"$f":"SUM(D156:D158)","v":0},{"$f":"SUM(E156:E158)","v":0},{"$f":"SUM(F156:F158)","v":0},{"$f":"SUM(G156:G158)","v":0},0,0,0,0,0,0]
["111",null,{"$f":"IF(B156=\"\",\"\",VLOOKUP(B156,Упутство!$BE$2:$BF$1740,2,FALSE))","v":""},{"$nulls":8},0,0]
["112",null,{"$f":"IF(B157=\"\",\"\",VLOOKUP(B157,Упутство!$BE$2:$BF$1740,2,FALSE))","v":""},{"$nulls":8},0,0]
["113",null,{"$f":"IF(B158=\"\",\"\",VLOOKUP(B158,Упутство!$BE$2:$BF$1740,2,FALSE))","v":""},{"$nulls":8},0,0]
["114",482000,{"$f":"IF(B159=\"\",\"\",VLOOKUP(B159,Упутство!$BE$2:$BF$1740,2,FALSE))","v":"Порези, обавезне таксе, казне и пенали"},{"$f":"SUM(D160:D162)","v":0},{"$f":"SUM(E160:E162)","v":0},{"$f":"SUM(F160:F162)","v":0},{"$f":"SUM(G160:G162)","v":0},0,0,0,0,0,0]
["115",null,{"$f":"IF(B160=\"\",\"\",VLOOKUP(B160,Упутство!$BE$2:$BF$1740,2,FALSE))","v":""},{"$nulls":8},0,0]
["116",null,{"$f":"IF(B161=\"\",\"\",VLOOKUP(B161,Упутство!$BE$2:$BF$1740,2,FALSE))","v":""},{"$nulls":8},0,0]
["117",null,{"$f":"IF(B162=\"\",\"\",VLOOKUP(B162,Упутство!$BE$2:$BF$1740,2,FALSE))","v":""},{"$nulls":8},0,0]
["118",483000,{"$f":"IF(B163=\"\",\"\",VLOOKUP(B163,Упутство!$BE$2:$BF$1740,2,FALSE))","v":"Новчане казне и пенали по решењу судова"},{"$f":"SUM(D164:D164)","v":0},{"$f":"SUM(E164:E164)","v":0},0,{"$f":"SUM(G164:G164)","v":0},0,0,0,0,0,0]
["119",null,{"$f":"IF(B164=\"\",\"\",VLOOKUP(B164,Упутство!$BE$2:$BF$1740,2,FALSE))","v":""},{"$nulls":8},0,0]
["120",511000,{"$f":"IF(B165=\"\",\"\",VLOOKUP(B165,Упутство!$BE$2:$BF$1740,2,FALSE))","v":"Зграде и грађевински објекти"},{"$f":"SUM(D166:D168)","v":0},{"$f":"SUM(E166:E168)","v":0},{"$f":"SUM(F166:F168)","v":0},{"$f":"SUM(G166:G168)","v":0},{"$f":"SUM(H166:H168)","v":0},0,0,0,0,0]
["121",null,{"$f":"IF(B166=\"\",\"\",VLOOKUP(B166,Упутство!$BE$2:$BF$1740,2,FALSE))","v":""},{"$nulls":8},0,0]
["122",null,{"$f":"IF(B167=\"\",\"\",VLOOKUP(B167,Упутство!$BE$2:$BF$1740,2,FALSE))","v":""},{"$nulls":8},{"$f":"SUM(F167,H167,J167)","v":0},{"$f":"SUM(G167,I167,K167)","v":0}]
["123",null,{"$f":"IF(B168=\"\",\"\",VLOOKUP(B168,Упутство!$BE$2:$BF$1740,2,FALSE))","v":""},{"$nulls":8},0,0]
["124",512000,{"$f":"IF(B169=\"\",\"\",VLOOKUP(B169,Упутство!$BE$2:$BF$1740,2,FALSE))","v":"Машине и опрема"},{"$f":"SUM(D170:D172)","v":0},{"$f":"SUM(E170:E172)","v":0},{"$f":"SUM(F170:F172)","v":0},{"$f":"SUM(G170:G172)","v":0},0,0,0,0,0,0]
["125",null,{"$f":"IF(B170=\"\",\"\",VLOOKUP(B170,Упутство!$BE$2:$BF$1740,2,FALSE))","v":""},{"$nulls":8},0,0]
["126",null,{"$f":"IF(B171=\"\",\"\",VLOOKUP(B171,Упутство!$BE$2:$BF$1740,2,FALSE))","v":""},{"$nulls":8},0,0]
["127",null,{"$f":"IF(B172=\"\",\"\",VLOOKUP(B172,Упутство!$BE$2:$BF$1740,2,FALSE))","v":""},{"$nulls":8},0,0]
["128",514000,{"$f":"IF(B173=\"\",\"\",VLOOKUP(B173,Упутство!$BE$2:$BF$1740,2,FALSE))","v":"Култивисана имовина"},{"$f":"SUM(D174:D175)","v":0},{"$f":"SUM(E174:E175)","v":0},{"$f":"SUM(F174:F175)","v":0},{"$f":"SUM(G174:G175)","v":0},0,0,0,0,0,0]
["129",null,{"$f":"IF(B174=\"\",\"\",VLOOKUP(B174,Упутство!$BE$2:$BF$1740,2,FALSE))","v":""},{"$nulls":8},0,0]
["130",null,{"$f":"IF(B175=\"\",\"\",VLOOKUP(B175,Упутство!$BE$2:$BF$1740,2,FALSE))","v":""},{"$nulls":8},0,0]
["131",515000,{"$f":"IF(B176=\"\",\"\",VLOOKUP(B176,Упутство!$BE$2:$BF$1740,2,FALSE))","v":"Нематеријална имовина"},{"$f":"SUM(D177:D178)","v":0},{"$f":"SUM(E177:E178)","v":0},{"$f":"SUM(F177:F178)","v":0},{"$f":"SUM(G177:G178)","v":0},0,0,0,0,0,0]
["132",null,{"$f":"IF(B177=\"\",\"\",VLOOKUP(B177,Упутство!$BE$2:$BF$1740,2,FALSE))","v":""},{"$nulls":8},0,0]
["133",null,{"$f":"IF(B178=\"\",\"\",VLOOKUP(B178,Упутство!$BE$2:$BF$1740,2,FALSE))","v":""},{"$nulls":8},0,0]
["134",520000,{"$f":"IF(B179=\"\",\"\",VLOOKUP(B179,Упутство!$BE$2:$BF$1740,2,FALSE))","v":"Залихе"},{"$f":"SUM(D180:D181)","v":0},{"$f":"SUM(E180:E181)","v":0},{"$f":"SUM(F180:F181)","v":0},{"$f":"SUM(G180:G181)","v":0},0,0,0,0,0,0]
["135",null,{"$f":"IF(B180=\"\",\"\",VLOOKUP(B180,Упутство!$BE$2:$BF$1740,2,FALSE))","v":""},{"$nulls":8},0,0]
["136",null,{"$f":"IF(B181=\"\",\"\",VLOOKUP(B181,Упутство!$BE$2:$BF$1740,2,FALSE))","v":""},{"$nulls":8},0,0]
["137",540000,{"$f":"IF(B182=\"\",\"\",VLOOKUP(B182,Упутство!$BE$2:$BF$1740,2,FALSE))","v":"Природна имовина"},{"$f":"SUM(D183:D184)","v":0},{"$f":"SUM(E183:E184)","v":0},{"$f":"SUM(F183:F184)","v":0},{"$f":"SUM(G183:G184)","v":0},0,0,0,0,0,0]
["138",null,{"$f":"IF(B183=\"\",\"\",VLOOKUP(B183,Упутство!$BE$2:$BF$1740,2,FALSE))","v":""},{"$nulls":8},0,0]
["139",null,{"$f":"IF(B184=\"\",\"\",VLOOKUP(B184,Упутство!$BE$2:$BF$1740,2,FALSE))","v":""},{"$nulls":8},0,0]
["140",611000,{"$f":"IF(B185=\"\",\"\",VLOOKUP(B185,Упутство!$BE$2:$BF$1740,2,FALSE))","v":"Отплата главнице домаћим кредиторима"},{"$f":"SUM(D186:D187)","v":0},{"$f":"SUM(E186:E187)","v":0},{"$f":"SUM(F186:F187)","v":0},{"$f":"SUM(G186:G187)","v":0},0,0,0,0,0,0]
["141",null,{"$f":"IF(B186=\"\",\"\",VLOOKUP(B186,Упутство!$BE$2:$BF$1740,2,FALSE))","v":""},{"$nulls":8},0,0]
["142",null,{"$f":"IF(B187=\"\",\"\",VLOOKUP(B187,Упутство!$BE$2:$BF$1740,2,FALSE))","v":""},{"$nulls":8},0,0]
["143",620000,{"$f":"IF(B188=\"\",\"\",VLOOKUP(B188,Упутство!$BE$2:$BF$1740,2,FALSE))","v":"Набавка финансијске имовине"},{"$f":"SUM(D189:D189)","v":0},0,0,{"$f":"SUM(G189:G189)","v":0},0,0,0,0,0,0]
["144",null,{"$f":"IF(B189=\"\",\"\",VLOOKUP(B189,Упутство!$BE$2:$BF$1740,2,FALSE))","v":""},{"$nulls":8},0,0]
["УКУПНО ЗА:",null,{"$f":"$D$5","v":0},{"$f":"SUM(D46:D189)/2","v":0},0,0,0,0,0,0,0,{"$f":"SUM(F190,H190,J190)","v":0},0]
[]
["Рбр.","Извори финансирања",null,"Вредност у базној години (2015.)",null,"Вредност у 2016.",null,"Вредност у 2017.",null,"Вредност у 2018.",null,"Укупно (2016-2018)"]
["1",{"$nulls":10},{"$f":"SUM(F193,H193,J193)","v":0}]
["2",{"$nulls":10},{"$f":"SUM(F194,H194,J194)","v":0}]
["3",{"$nulls":10},{"$f":"SUM(F195,H195,J195)","v":0}]
["4",{"$nulls":10},{"$f":"SUM(F196,H196,J196)","v":0}]
["5",{"$nulls":10},{"$f":"SUM(F197,H197,J197)","v":0}]
["6",{"$nulls":10},0]
["7",{"$nulls":10},{"$f":"SUM(F199,H199,J199)","v":0}]
["8",{"$nulls":10},0]
["9",{"$nulls":10},{"$f":"SUM(F201,H201,J201)","v":0},null,null,"Између 202. и 210. реда се налазе додатни редови за додатне изворе финансирања уколико је потребно . Активирају се заједничким маркирањем 202. и 210. реда > десни клик> опција \"Unhide\". Графичку илустрацију поступка видети у Упутству."]
["10",{"$nulls":10},0]
["11",{"$nulls":10},0]
["12",{"$nulls":10},0]
["13",{"$nulls":10},0]
["14",{"$nulls":10},0]
["15",{"$nulls":10},0]
["16",{"$nulls":10},0]
["17",{"$nulls":10},0]
["УКУПНО  ЗА:",null,{"$f":"$D$5","v":0},{"$f":"SUM(D193:E209)","v":0},null,{"$f":"SUM(F193:G209)","v":0},null,{"$f":"SUM(H193:I209)","v":0},null,{"$f":"SUM(J193:K209)","v":0},null,{"$f":"SUM(F210,H210,J210)","v":0}]
[]
["*","1-3 циља за сваку програмску активност"]
["**","1-3 индикатора исхода/излазног резултата за сваки циљ"]
[]
[]
[{"$nulls":10},"Одговорно лице"]
[]
[null,"Датум:"]

{"sheet":"Пројекат","index":2,"n_rows":126,"n_cols":39,"rows_kept":126,"merged":[[0,0,0,12],[1,0,1,12],[2,25,2,26],[2,27,2,28],[2,29,2,30],[2,31,2,32],[3,0,3,2],[3,3,3,10],[3,25,3,26],[3,27,3,28],[3,29,3,30],[3,31,3,32],[4,0,4,2],[4,25,4,26],[4,27,4,28],[4,29,4,30],[4,31,4,32],[5,0,5,2],[5,3,5,12],[5,25,5,26],[5,27,5,28],[5,29,5,30],[5,31,5,32],[6,0,6,2],[6,3,6,10],[6,25,6,26],[6,27,6,28],[6,29,6,30],[6,31,6,32],[7,0,7,2],[7,3,7,12],[7,25,7,26],[7,27,7,28],[7,29,7,30],[7,31,7,32],[8,0,8,2],[8,3,8,12],[8,25,8,26],[8,27,8,28],[8,29,8,30],[8,31,8,32],[9,0,9,2],[9,3,9,12],[9,25,9,26],[9,27,9,28],[9,29,9,30],[9,31,9,32],[10,0,10,2],[10,3,10,12],[10,25,10,26],[10,27,10,28],[10,29,10,30],[10,31,10,32],[11,0,11,2],[11,3,11,12],[11,25,11,26],[11,27,11,28],[11,29,11,30],[11,31,11,32],[12,0,12,2],[12,3,12,12],[12,25,12,26],[12,27,12,28],[12,29,12,30],[12,31,12,32],[13,0,13,2],[13,3,13,12],[13,25,13,26],[13,27,13,28],[13,29,13,30],[13,31,13,32],[14,0,14,2],[14,3,14,12],[14,25,14,26],[14,27,14,28],[14,29,14,30],[14,31,14,32],[15,0,15,2],[15,3,15,12],[15,25,15,26],[15,27,15,28],[15,29,15,30],[15,31,15,32],[16,25,16,26],[16,27,16,28],[16,29,16,30],[16,31,16,32],[17,0,18,0],[17,1,18,2],[17,3,17,12],[17,25,17,26],[17,27,17,28],[17,29,17,30],[17,31,17,32],[18,3,18,5],[18,11,18,12],[18,25,18,26],[18,27,18,28],[18,29,18,30],[18,31,18,32],[19,0,21,0],[19,1,21,2],[19,3,19,5],[19,11,19,12],[20,3,20,5],[20,11,20,12],[21,3,21,5],[21,11,21,12],[23,0,24,0],[23,1,24,2],[23,3,23,12],[24,3,24,5],[24,11,24,12],[25,0,27,0],[25,1,27,2],[25,3,25,5],[25,11,25,12],[26,3,26,5],[26,11,26,12],[27,3,27,5],[27,11,27,12],[29,0,30,0],[29,1,30,2],[29,3,29,12],[30,3,30,5],[30,11,30,12],[31,0,33,0],[31,1,33,2],[31,3,31,5],[31,11,31,12],[32,3,32,5],[32,11,32,12],[33,3,33,5],[33,11,33,12],[36,0,37,0],[36,1,37,1],[36,2,37,2],[36,3,36,4],[36,5,36,6],[36,7,36,8],[36,9,36,10],[36,11,36,12],[97,0,97,1],[99,1,99,2],[99,3,99,4],[99,5,99,6],[99,7,99,8],[99,9,99,10],[99,11,99,12],[100,1,100,2],[100,3,100,4],[100,5,100,6],[100,7,100,8],[100,9,100,10],[100,11,100,12],[101,1,101,2],[101,3,101,4],[101,5,101,6],[101,7,101,8],[101,9,101,10],[101,11,101,12],[102,1,102,2],[102,3,102,4],[102,5,102,6],[102,7,102,8],[102,9,102,10],[102,11,102,12],[103,1,103,2],[103,3,103,4],[103,5,103,6],[103,7,103,8],[103,9,103,10],[103,11,103,12],[104,1,104,2],[104,3,104,4],[104,5,104,6],[104,7,104,8],[104,9,104,10],[104,11,104,12],[105,1,105,2],[105,3,105,4],[105,5,105,6],[105,7,105,8],[105,9,105,10],[105,11,105,12],[106,1,106,2],[106,3,106,4],[106,5,106,6],[106,7,106,8],[106,9,106,10],[106,11,106,12],[107,1,107,2],[107,3,107,4],[107,5,107,6],[107,7,107,8],[107,9,107,10],[107,11,107,12],[108,1,108,2],[108,3,108,4],[108,5,108,6],[108,7,108,8],[108,9,108,10],[108,11,108,12],[108,14,109,20],[109,1,109,2],[109,3,109,4],[109,5,109,6],[109,7,109,8],[109,9,109,10],[109,11,109,12],[110,1,110,2],[110,3,110,4],[110,5,110,6],[110,7,110,8],[110,9,110,10],[110,11,110,12],[111,1,111,2],[111,3,111,4],[111,5,111,6],[111,7,111,8],[111,9,111,10],[111,11,111,12],[112,1,112,2],[112,3,112,4],[112,5,112,6],[112,7,112,8],[112,9,112,10],[112,11,112,12],[113,1,113,2],[113,3,113,4],[113,5,113,6],[113,7,113,8],[113,9,113,10],[113,11,113,12],[114,1,114,2],[114,3,114,4],[114,5,114,6],[114,7,114,8],[114,9,114,10],[114,11,114,12],[115,1,115,2],[115,3,115,4],[115,5,115,6],[115,7,115,8],[115,9,115,10],[115,11,115,12],[116,1,116,2],[116,3,116,4],[116,5,116,6],[116,7,116,8],[116,9,116,10],[116,11,116,12],[117,0,117,1],[117,3,117,4],[117,5,117,6],[117,7,117,8],[117,9,117,10],[117,11,117,12],[119,15,122,25],[123,10,123,11]]}
["Обрасци за припрему програмског буџета",{"$nulls":24},2015,null,2016,null,2017,null,2018]
["3. ПРОЈЕКАТ",{"$nulls":22},"suma",{"$f":"C98&AM2&\" (\"&$D$8&\")\"","v":"-    ()"},{"$f":"$D$98","v":0},{"$f":"$E$98","v":0},{"$f":"$F$98","v":0},{"$f":"$G$98","v":0},{"$f":"$H$98","v":0},{"$f":"$I$98","v":0},{"$f":"$J$98","v":0},{"$f":"$K$98","v":0},null,null,"3. ПРОЈЕКАТ",null,null,{"$f":"IF(A2=AJ2,\"\",\" - захтев за додатна средства\")","v":""}]
[{"$nulls":23},"izvori",{"$f":"$B$101","v":0},{"$f":"$D$101","v":0},null,{"$f":"$F$101","v":0},null,{"$f":"$H$101","v":0},null,{"$f":"$J$101","v":0},{"$nulls":3},"3. ПРОЈЕКАТ - ЗАХТЕВ ЗА ДОДАТНА СРЕДСТВА"]
["Програм коме припада:",null,null,{"$f":"IF(Програм!$D$4=\"\",\"\",Програм!$D$4)","v":""},{"$nulls":20},{"$f":"$B$102","v":0},{"$f":"$D$102","v":0},null,{"$f":"$F$102","v":0},null,{"$f":"$H$102","v":0},null,{"$f":"$J$102","v":0}]
["Шифра пројекта:",null,null,{"$f":"Програм!$D$5","v":""},{"$nulls":20},{"$f":"$B$103","v":0},{"$f":"$D$103","v":0},null,{"$f":"$F$103","v":0},null,{"$f":"$H$103","v":0},null,{"$f":"$J$103","v":0}]
["Назив пројекта:",{"$nulls":23},{"$f":"$B$104","v":0},{"$f":"$D$104","v":0},null,{"$f":"$F$104","v":0},null,{"$f":"$H$104","v":0},null,{"$f":"$J$104","v":0}]
["Функција:",{"$nulls":23},{"$f":"$B$105","v":0},{"$f":"$D$105","v":0},null,{"$f":"$F$105","v":0},null,{"$f":"$H$105","v":0},null,{"$f":"$J$105","v":0}]
["Назив организационе јединице/Буџетски корисник:",{"$nulls":23},{"$f":"$B$106","v":0},{"$f":"$D$106","v":0},null,{"$f":"$F$106","v":0},null,{"$f":"$H$106","v":0},null,{"$f":"$J$106","v":0}]
["Сврха:",{"$nulls":23},{"$f":"$B$107","v":0},{"$f":"$D$107","v":0},null,{"$f":"$F$107","v":0},null,{"$f":"$H$107","v":0},null,{"$f":"$J$107","v":0}]
["Основ:",{"$nulls":23},{"$f":"$B$108","v":0},{"$f":"$D$108","v":0},null,{"$f":"$F$108","v":0},null,{"$f":"$H$108","v":0},null,{"$f":"$J$108","v":0}]
["Опис:",{"$nulls":23},{"$f":"$B$109","v":0},{"$f":"$D$109","v":0},null,{"$f":"$F$109","v":0},null,{"$f":"$H$109","v":0},null,{"$f":"$J$109","v":0}]
["Трајање пројекта:",{"$nulls":23},{"$f":"$B$110","v":0},{"$f":"$D$110","v":0},null,{"$f":"$F$110","v":0},null,{"$f":"$H$110","v":0},null,{"$f":"$J$110","v":0}]
["Ознака за капитални пројекат:",null,null,"(статус пројектно техничке документације, постоји или не постоји, статус имовинско правних односа, решени или нерешени)",{"$nulls":20},{"$f":"$B$111","v":0},{"$f":"$D$111","v":0},null,{"$f":"$F$111","v":0},null,{"$f":"$H$111","v":0},null,{"$f":"$J$111","v":0}]
["Ознака да ли је ИПА пројекат:",null,null,"(бира се ИПА година финансирања и ИПА програм/мере из предефинисане листе коју у базу уноси Министарство финансија",{"$nulls":20},{"$f":"$B$112","v":0},{"$f":"$D$112","v":0},null,{"$f":"$F$112","v":0},null,{"$f":"$H$112","v":0},null,{"$f":"$J$112","v":0}]
["Мере и поглавље преговора о приступању ЕУ:",null,null,"(Анекс 3 Упутства за израду програмског буџета) релевантно само за Републику Србију)",{"$nulls":20},{"$f":"$B$113","v":0},{"$f":"$D$113","v":0},null,{"$f":"$F$113","v":0},null,{"$f":"$H$113","v":0},null,{"$f":"$J$113","v":0}]
["Одговорно лице за спровођење пројекта:",{"$nulls":23},{"$f":"$B$114","v":0},{"$f":"$D$114","v":0},null,{"$f":"$F$114","v":0},null,{"$f":"$H$114","v":0},null,{"$f":"$J$114","v":0}]
[{"$nulls":24},{"$f":"$B$115","v":0},{"$f":"$D$115","v":0},null,{"$f":"$F$115","v":0},null,{"$f":"$H$115","v":0},null,{"$f":"$J$115","v":0}]
[null,"Циљ*",null,"Индикатори**",{"$nulls":20},{"$f":"$B$116","v":0},{"$f":"$D$116","v":0},null,{"$f":"$F$116","v":0},null,{"$f":"$H$116","v":0},null,{"$f":"$J$116","v":0}]
[{"$nulls":3},"Назив индикатора",null,null,"Вредност у базној години (крај 2014.)","Очекивана вредност у 2015. години","Циљана вредност 2016.","Циљана вредност 2017.","Циљана вредност 2018.","Извор верификације",{"$nulls":12},{"$f":"$B$117","v":0},{"$f":"$D$117","v":0},null,{"$f":"$F$117","v":0},null,{"$f":"$H$117","v":0},null,{"$f":"$J$117","v":0}]
[1]
[]
[]
[]
[null,"Циљ",null,"Индикатори"]
[{"$nulls":3},"Назив индикатора",null,null,"Вредност у базној години (крај 2014.)","Очекивана вредност у 2015. години","Циљана вредност 2016.","Циљана вредност 2017.","Циљана вредност 2018.","Извор верификације"]
[2]
[]
[]
[]
[null,"Циљ",null,"Индикатори"]
[{"$nulls":3},"Назив индикатора",null,null,"Вредност у базној години (крај 2014.)","Очекивана вредност у 2015. години","Циљана вредност 2016.","Циљана вредност 2017.","Циљана вредност 2018.","Извор верификације"]
[3]
[]
[]
[]
[]
["Рбр.","Конто","Расходи и издаци програмске активности","Расходи и издаци у базној години",null,"Расходи и издаци у 2016.",null,"Расходи и издаци у 2017.",null,"Расходи и издаци у 2018.",null,"Укупно (2016-2018)"]
[{"$nulls":3},"Буџетска средства","Средства из осталих извора","Буџетска средства","Средства из осталих извора","Буџетска средства","Средства из осталих извора","Буџетска средства","Средства из осталих извора","Буџетска средства","Средства из осталих извора"]
["1",411000,{"$f":"IF(B39=\"\",\"\",VLOOKUP(B39,Упутство!$BE$2:$BF$1740,2,FALSE))","v":"Плате, додаци и накнаде запослених (зараде)"},{"$f":"SUM(D40:D41)","v":0},0,0,0,0,0,0,0,{"$f":"SUM(F39,H39,J39)","v":0},{"$f":"SUM(G39,I39,K39)","v":0}]
["2",null,{"$f":"IF(B40=\"\",\"\",VLOOKUP(B40,Упутство!$BE$2:$BF$1740,2,FALSE))","v":""},{"$nulls":8},{"$f":"SUM(F40,H40,J40)","v":0},{"$f":"SUM(G40,I40,K40)","v":0}]
["3",null,{"$f":"IF(B41=\"\",\"\",VLOOKUP(B41,Упутство!$BE$2:$BF$1740,2,FALSE))","v":""},{"$nulls":8},0,0]
["4",412000,{"$f":"IF(B42=\"\",\"\",VLOOKUP(B42,Упутство!$BE$2:$BF$1740,2,FALSE))","v":"Социјални доприноси на терет послодавца"},{"$f":"SUM(D43:D45)","v":0},{"$f":"SUM(E43:E45)","v":0},0,{"$f":"SUM(G43:G45)","v":0},0,0,0,0,0,0]
["5",null,{"$f":"IF(B43=\"\",\"\",VLOOKUP(B43,Упутство!$BE$2:$BF$1740,2,FALSE))","v":""},{"$nulls":8},0,0]
["6",null,{"$f":"IF(B44=\"\",\"\",VLOOKUP(B44,Упутство!$BE$2:$BF$1740,2,FALSE))","v":""},{"$nulls":8},0,0]
["7",null,{"$f":"IF(B45=\"\",\"\",VLOOKUP(B45,Упутство!$BE$2:$BF$1740,2,FALSE))","v":""},{"$nulls":8},0,0]
["8",421000,{"$f":"IF(B46=\"\",\"\",VLOOKUP(B46,Упутство!$BE$2:$BF$1740,2,FALSE))","v":"Стални трошкови"},{"$f":"SUM(D47:D48)","v":0},0,0,0,0,0,0,0,0,0]
["9",null,{"$f":"IF(B47=\"\",\"\",VLOOKUP(B47,Упутство!$BE$2:$BF$1740,2,FALSE))","v":""},{"$nulls":8},0,0]
["10",null,{"$f":"IF(B48=\"\",\"\",VLOOKUP(B48,Упутство!$BE$2:$BF$1740,2,FALSE))","v":""},{"$nulls":8},0,0]
["11",422000,{"$f":"IF(B49=\"\",\"\",VLOOKUP(B49,Упутство!$BE$2:$BF$1740,2,FALSE))","v":"Трошкови путовања"},{"$f":"SUM(D50:D52)","v":0},0,0,0,0,0,0,0,0,0]
["12",null,{"$f":"IF(B50=\"\",\"\",VLOOKUP(B50,Упутство!$BE$2:$BF$1740,2,FALSE))","v":""},{"$nulls":8},0,0]
["13",null,{"$f":"IF(B51=\"\",\"\",VLOOKUP(B51,Упутство!$BE$2:$BF$1740,2,FALSE))","v":""},{"$nulls":8},0,0]
["14",null,{"$f":"IF(B52=\"\",\"\",VLOOKUP(B52,Упутство!$BE$2:$BF$1740,2,FALSE))","v":""},{"$nulls":8},0,0]
["15",423000,{"$f":"IF(B53=\"\",\"\",VLOOKUP(B53,Упутство!$BE$2:$BF$1740,2,FALSE))","v":"Услуге по уговору"},{"$f":"SUM(D54:D57)","v":0},0,0,0,0,0,0,0,0,0]
["16",null,{"$f":"IF(B54=\"\",\"\",VLOOKUP(B54,Упутство!$BE$2:$BF$1740,2,FALSE))","v":""},{"$nulls":8},0,0]
["17",null,{"$f":"IF(B55=\"\",\"\",VLOOKUP(B55,Упутство!$BE$2:$BF$1740,2,FALSE))","v":""},{"$nulls":8},0,0]
["18",null,{"$f":"IF(B56=\"\",\"\",VLOOKUP(B56,Упутство!$BE$2:$BF$1740,2,FALSE))","v":""},{"$nulls":8},0,0]
["19",null,{"$f":"IF(B57=\"\",\"\",VLOOKUP(B57,Упутство!$BE$2:$BF$1740,2,FALSE))","v":""},{"$nulls":8},0,0]
["20",424000,{"$f":"IF(B58=\"\",\"\",VLOOKUP(B58,Упутство!$BE$2:$BF$1740,2,FALSE))","v":"Специјализоване услуге"},{"$f":"SUM(D59:D62)","v":0},0,0,0,0,0,0,0,0,0]
["21",null,{"$f":"IF(B59=\"\",\"\",VLOOKUP(B59,Упутство!$BE$2:$BF$1740,2,FALSE))","v":""},{"$nulls":8},0,0]
["22",null,{"$f":"IF(B60=\"\",\"\",VLOOKUP(B60,Упутство!$BE$2:$BF$1740,2,FALSE))","v":""},{"$nulls":8},0,0]
["23",null,{"$f":"IF(B61=\"\",\"\",VLOOKUP(B61,Упутство!$BE$2:$BF$1740,2,FALSE))","v":""},{"$nulls":8},0,0]
["24",null,{"$f":"IF(B62=\"\",\"\",VLOOKUP(B62,Упутство!$BE$2:$BF$1740,2,FALSE))","v":""},{"$nulls":8},0,0]
["25",426000,{"$f":"IF(B63=\"\",\"\",VLOOKUP(B63,Упутство!$BE$2:$BF$1740,2,FALSE))","v":"Материјал"},{"$f":"SUM(D64:D69)","v":0},{"$f":"SUM(E64:E69)","v":0},0,{"$f":"SUM(G64:G69)","v":0},0,0,0,0,0,0]
["26",null,{"$f":"IF(B64=\"\",\"\",VLOOKUP(B64,Упутство!$BE$2:$BF$1740,2,FALSE))","v":""},{"$nulls":8},0,0]
["27",null,{"$f":"IF(B65=\"\",\"\",VLOOKUP(B65,Упутство!$BE$2:$BF$1740,2,FALSE))","v":""},{"$nulls":8},0,0]
["28",null,{"$f":"IF(B66=\"\",\"\",VLOOKUP(B66,Упутство!$BE$2:$BF$1740,2,FALSE))","v":""},{"$nulls":8},0,0]
["29",null,{"$f":"IF(B67=\"\",\"\",VLOOKUP(B67,Упутство!$BE$2:$BF$1740,2,FALSE))","v":""},{"$nulls":8},0,0]
["30",null,{"$f":"IF(B68=\"\",\"\",VLOOKUP(B68,Упутство!$BE$2:$BF$1740,2,FALSE))","v":""},{"$nulls":8},0,0]
["31",null,{"$f":"IF(B69=\"\",\"\",VLOOKUP(B69,Упутство!$BE$2:$BF$1740,2,FALSE))","v":""},{"$nulls":8},0,0]
["32",481000,{"$f":"IF(B70=\"\",\"\",VLOOKUP(B70,Упутство!$BE$2:$BF$1740,2,FALSE))","v":"Дотације невладиним организацијама"},{"$f":"SUM(D71:D72)","v":0},0,0,0,0,0,0,0,0,0]
["33",null,{"$f":"IF(B71=\"\",\"\",VLOOKUP(B71,Упутство!$BE$2:$BF$1740,2,FALSE))","v":""},{"$nulls":8},0,0]
["34",null,{"$f":"IF(B72=\"\",\"\",VLOOKUP(B72,Упутство!$BE$2:$BF$1740,2,FALSE))","v":""},{"$nulls":8},0,0]
["35",482000,{"$f":"IF(B73=\"\",\"\",VLOOKUP(B73,Упутство!$BE$2:$BF$1740,2,FALSE))","v":"Порези, обавезне таксе, казне и пенали"},{"$f":"SUM(D74:D75)","v":0},0,0,0,0,0,0,0,{"$f":"SUM(F73,H73,J73)","v":0},{"$f":"SUM(G73,I73,K73)","v":0}]
["36",null,{"$f":"IF(B74=\"\",\"\",VLOOKUP(B74,Упутство!$BE$2:$BF$1740,2,FALSE))","v":""},{"$nulls":8},0,0]
["37",null,{"$f":"IF(B75=\"\",\"\",VLOOKUP(B75,Упутство!$BE$2:$BF$1740,2,FALSE))","v":""},{"$nulls":8},0,0]
["38",511000,{"$f":"IF(B76=\"\",\"\",VLOOKUP(B76,Упутство!$BE$2:$BF$1740,2,FALSE))","v":"Зграде и грађевински објекти"},{"$f":"SUM(D77:D80)","v":0},{"$f":"SUM(E77:E80)","v":0},0,{"$f":"SUM(G77:G80)","v":0},0,0,0,0,0,0]
["39",null,{"$f":"IF(B77=\"\",\"\",VLOOKUP(B77,Упутство!$BE$2:$BF$1740,2,FALSE))","v":""},{"$nulls":8},0,0]
["40",null,{"$f":"IF(B78=\"\",\"\",VLOOKUP(B78,Упутство!$BE$2:$BF$1740,2,FALSE))","v":""},{"$nulls":8},0,0]
["41",null,{"$f":"IF(B79=\"\",\"\",VLOOKUP(B79,Упутство!$BE$2:$BF$1740,2,FALSE))","v":""},{"$nulls":8},0,0]
["42",null,{"$f":"IF(B80=\"\",\"\",VLOOKUP(B80,Упутство!$BE$2:$BF$1740,2,FALSE))","v":""},{"$nulls":8},0,0]
["43",512000,{"$f":"IF(B81=\"\",\"\",VLOOKUP(B81,Упутство!$BE$2:$BF$1740,2,FALSE))","v":"Машине и опрема"},{"$f":"SUM(D82:D84)","v":0},{"$f":"SUM(E82:E84)","v":0},0,{"$f":"SUM(G82:G84)","v":0},0,0,0,0,0,0]
["44",null,{"$f":"IF(B82=\"\",\"\",VLOOKUP(B82,Упутство!$BE$2:$BF$1740,2,FALSE))","v":""},{"$nulls":8},0,0]
["45",null,{"$f":"IF(B83=\"\",\"\",VLOOKUP(B83,Упутство!$BE$2:$BF$1740,2,FALSE))","v":""},{"$nulls":8},0,0]
["46",null,{"$f":"IF(B84=\"\",\"\",VLOOKUP(B84,Упутство!$BE$2:$BF$1740,2,FALSE))","v":""},{"$nulls":8},0,0]
["47",513000,{"$f":"IF(B85=\"\",\"\",VLOOKUP(B85,Упутство!$BE$2:$BF$1740,2,FALSE))","v":"Остале некретнине и опрема"},{"$f":"SUM(D86:D86)","v":0},0,0,0,0,0,0,0,0,0]
["48",null,{"$f":"IF(B86=\"\",\"\",VLOOKUP(B86,Упутство!$BE$2:$BF$1740,2,FALSE))","v":""},{"$nulls":8},0,0]
["49",514000,{"$f":"IF(B87=\"\",\"\",VLOOKUP(B87,Упутство!$BE$2:$BF$1740,2,FALSE))","v":"Култивисана имовина"},{"$f":"SUM(D88:D90)","v":0},{"$f":"SUM(E88:E90)","v":0},0,{"$f":"SUM(G88:G90)","v":0},0,0,0,0,0,0]
["50",null,{"$f":"IF(B88=\"\",\"\",VLOOKUP(B88,Упутство!$BE$2:$BF$1740,2,FALSE))","v":""},{"$nulls":8},0,0]
["51",null,{"$f":"IF(B89=\"\",\"\",VLOOKUP(B89,Упутство!$BE$2:$BF$1740,2,FALSE))","v":""},{"$nulls":8},0,0]
["52",null,{"$f":"IF(B90=\"\",\"\",VLOOKUP(B90,Упутство!$BE$2:$BF$1740,2,FALSE))","v":""},{"$nulls":8},0,0]
["53",515000,{"$f":"IF(B91=\"\",\"\",VLOOKUP(B91,Упутство!$BE$2:$BF$1740,2,FALSE))","v":"Нематеријална имовина"},{"$f":"SUM(D92:D93)","v":0},0,0,0,0,0,0,0,0,0]
["54",null,{"$f":"IF(B92=\"\",\"\",VLOOKUP(B92,Упутство!$BE$2:$BF$1740,2,FALSE))","v":""},{"$nulls":8},0,0]
["55",null,{"$f":"IF(B93=\"\",\"\",VLOOKUP(B93,Упутство!$BE$2:$BF$1740,2,FALSE))","v":""},{"$nulls":8},0,0]
["56",541000,{"$f":"IF(B94=\"\",\"\",VLOOKUP(B94,Упутство!$BE$2:$BF$1740,2,FALSE))","v":"Земљиште"},{"$f":"SUM(D95)","v":0},{"$f":"SUM(E95)","v":0},0,0,0,0,0,0,0,0]
["57",null,{"$f":"IF(B95=\"\",\"\",VLOOKUP(B95,Упутство!$BE$2:$BF$1740,2,FALSE))","v":""},{"$nulls":8},0,0]
["58",543000,{"$f":"IF(B96=\"\",\"\",VLOOKUP(B96,Упутство!$BE$2:$BF$1740,2,FALSE))","v":"Шуме и воде"},{"$f":"SUM(D97)","v":0},{"$f":"SUM(E97)","v":0},0,0,0,0,0,0,0,0]
["59",null,{"$f":"IF(B97=\"\",\"\",VLOOKUP(B97,Упутство!$BE$2:$BF$1740,2,FALSE))","v":""},{"$nulls":8},0,0]
["УКУПНО ЗА:",null,{"$f":"$D$5&\"-\"&$E$5&\"   \"&$D$6","v":"-   "},{"$f":"SUM(D39:D97)/2","v":0},{"$f":"SUM(E39:E97)/2","v":0},0,{"$f":"SUM(G39:G97)/2","v":0},0,0,0,0,{"$f":"SUM(F98,H98,J98)","v":0},0]
[]
["Рбр.","Извори финансирања пројекта",null,"Извори у базној години (2015)",null,"Извори у 2016.",null,"Извори у 2017",null,"Извори у 2018.",null,"Укупно (2016-2018)"]
["1",{"$nulls":10},{"$f":"SUM(F101:K101)","v":0}]
["2",{"$nulls":10},{"$f":"SUM(F102:K102)","v":0}]
["3",{"$nulls":10},0]
["4",{"$nulls":10},0]
["5",{"$nulls":10},0]
["6",{"$nulls":10},0]
["7",{"$nulls":10},0]
["8",{"$nulls":10},0]
["9",{"$nulls":10},0,null,null,"Између 110. и 118. реда се налазе додатни редови за додатне изворе финансирања уколико је потребно . Активирају се заједничким маркирањем 110. и 118. реда > десни клик> опција \"Unhide\". Графичку илустрацију поступка видети у Упутству."]
["10",{"$nulls":10},{"$f":"SUM(F110:K110)","v":0}]
["11",{"$nulls":10},{"$f":"SUM(F111:K111)","v":0}]
["12",{"$nulls":10},0]
["13",{"$nulls":10},0]
["14",{"$nulls":10},0]
["15",{"$nulls":10},0]
["16",{"$nulls":10},{"$f":"SUM(F116:K116)","v":0}]
["17",{"$nulls":10},{"$f":"SUM(F117:K117)","v":0}]
["УКУПНО  ЗА:",null,{"$f":"$D$5&\"-\"&$E$5&\"   \"&$D$6","v":"-   "},{"$f":"SUM(D101:E117)","v":0},null,{"$f":"SUM(F101:G117)","v":0},null,{"$f":"SUM(H101:I117)","v":0},null,{"$f":"SUM(J101:K117)","v":0},null,{"$f":"SUM(L101:M117)","v":0}]
[]
["*","1-3 циља за сваку програмску активност"]
["**","1-3 индикатора исхода/излазног резултата за сваки циљ"]
[]
[]
[{"$nulls":10},"Одговорно лице"]
[]
[null,"Датум:"]

{"sheet":"Упутство","index":3,"n_rows":1872,"n_cols":180,"rows_kept":1872,"merged":[[1772,153,1772,154],[1772,155,1772,156],[1772,157,1772,158],[1772,159,1772,160],[1772,163,1772,164],[1772,165,1772,166],[1772,167,1772,168],[1772,169,1772,170],[1773,153,1773,154],[1773,155,1773,156],[1773,157,1773,158],[1773,159,1773,160],[1773,163,1773,164],[1773,165,1773,166],[1773,167,1773,168],[1773,169,1773,170],[1774,153,1774,154],[1774,155,1774,156],[1774,157,1774,158],[1774,159,1774,160],[1774,163,1774,164],[1774,165,1774,166],[1774,167,1774,168],[1774,169,1774,170],[1775,153,1775,154],[1775,155,1775,156],[1775,157,1775,158],[1775,159,1775,160],[1775,163,1775,164],[1775,165,1775,166],[1775,167,1775,168],[1775,169,1775,170],[1776,153,1776,154],[1776,155,1776,156],[1776,157,1776,158],[1776,159,1776,160],[1776,163,1776,164],[1776,165,1776,166],[1776,167,1776,168],[1776,169,1776,170],[1777,153,1777,154],[1777,155,1777,156],[1777,157,1777,158],[1777,159,1777,160],[1777,163,1777,164],[1777,165,1777,166],[1777,167,1777,168],[1777,169,1777,170],[1778,153,1778,154],[1778,155,1778,156],[1778,157,1778,158],[1778,159,1778,160],[1778,163,1778,164],[1778,165,1778,166],[1778,167,1778,168],[1778,169,1778,170],[1779,153,1779,154],[1779,155,1779,156],[1779,157,1779,158],[1779,159,1779,160],[1779,163,1779,164],[1779,165,1779,166],[1779,167,1779,168],[1779,169,1779,170],[1780,153,1780,154],[1780,155,1780,156],[1780,157,1780,158],[1780,159,1780,160],[1780,163,1780,164],[1780,165,1780,166],[1780,167,1780,168],[1780,169,1780,170],[1781,153,1781,154],[1781,155,1781,156],[1781,157,1781,158],[1781,159,1781,160],[1781,163,1781,164],[1781,165,1781,166],[1781,167,1781,168],[1781,169,1781,170],[1782,153,1782,154],[1782,155,1782,156],[1782,157,1782,158],[1782,159,1782,160],[1782,163,1782,164],[1782,165,1782,166],[1782,167,1782,168],[1782,169,1782,170],[1783,153,1783,154],[1783,155,1783,156],[1783,157,1783,158],[1783,159,1783,160],[1783,163,1783,164],[1783,165,1783,166],[1783,167,1783,168],[1783,169,1783,170],[1784,153,1784,154],[1784,155,1784,156],[1784,157,1784,158],[1784,159,1784,160],[1784,163,1784,164],[1784,165,1784,166],[1784,167,1784,168],[1784,169,1784,170],[1785,153,1785,154],[1785,155,1785,156],[1785,157,1785,158],[1785,159,1785,160],[1785,163,1785,164],[1785,165,1785,166],[1785,167,1785,168],[1785,169,1785,170],[1786,153,1786,154],[1786,155,1786,156],[1786,157,1786,158],[1786,159,1786,160],[1786,163,1786,164],[1786,165,1786,166],[1786,167,1786,168],[1786,169,1786,170],[1787,153,1787,154],[1787,155,1787,156],[1787,157,1787,158],[1787,159,1787,160],[1787,163,1787,164],[1787,165,1787,166],[1787,167,1787,168],[1787,169,1787,170],[1788,153,1788,154],[1788,155,1788,156],[1788,157,1788,158],[1788,159,1788,160],[1788,163,1788,164],[1788,165,1788,166],[1788,167,1788,168],[1788,169,1788,170],[1789,153,1789,154],[1789,155,1789,156],[1789,157,1789,158],[1789,159,1789,160],[1789,163,1789,164],[1789,165,1789,166],[1789,167,1789,168],[1789,169,1789,170],[1790,153,1790,154],[1790,155,1790,156],[1790,157,1790,158],[1790,159,1790,160],[1790,163,1790,164],[1790,165,1790,166],[1790,167,1790,168],[1790,169,1790,170],[1791,153,1791,154],[1791,155,1791,156],[1791,157,1791,158],[1791,159,1791,160],[1791,163,1791,164],[1791,165,1791,166],[1791,167,1791,168],[1791,169,1791,170],[1792,153,1792,154],[1792,155,1792,156],[1792,157,1792,158],[1792,159,1792,160],[1792,163,1792,164],[1792,165,1792,166],[1792,167,1792,168],[1792,169,1792,170],[1793,153,1793,154],[1793,155,1793,156],[1793,157,1793,158],[1793,159,1793,160],[1793,163,1793,164],[1793,165,1793,166],[1793,167,1793,168],[1793,169,1793,170],[1794,153,1794,154],[1794,155,1794,156],[1794,157,1794,158],[1794,159,1794,160],[1794,163,1794,164],[1794,165,1794,166],[1794,167,1794,168],[1794,169,1794,170],[1795,153,1795,154],[1795,155,1795,156],[1795,157,1795,158],[1795,159,1795,160],[1795,163,1795,164],[1795,165,1795,166],[1795,167,1795,168],[1795,169,1795,170],[1796,153,1796,154],[1796,155,1796,156],[1796,157,1796,158],[1796,159,1796,160],[1796,163,1796,164],[1796,165,1796,166],[1796,167,1796,168],[1796,169,1796,170],[1797,153,1797,154],[1797,155,1797,156],[1797,157,1797,158],[1797,159,1797,160],[1797,163,1797,164],[1797,165,1797,166],[1797,167,1797,168],[1797,169,1797,170],[1798,153,1798,154],[1798,155,1798,156],[1798,157,1798,158],[1798,159,1798,160],[1798,163,1798,164],[1798,165,1798,166],[1798,167,1798,168],[1798,169,1798,170],[1799,153,1799,154],[1799,155,1799,156],[1799,157,1799,158],[1799,159,1799,160],[1799,163,1799,164],[1799,165,1799,166],[1799,167,1799,168],[1799,169,1799,170],[1800,153,1800,154],[1800,155,1800,156],[1800,157,1800,158],[1800,159,1800,160],[1800,163,1800,164],[1800,165,1800,166],[1800,167,1800,168],[1800,169,1800,170],[1801,153,1801,154],[1801,155,1801,156],[1801,157,1801,158],[1801,159,1801,160],[1801,163,1801,164],[1801,165,1801,166],[1801,167,1801,168],[1801,169,1801,170],[1802,153,1802,154],[1802,155,1802,156],[1802,157,1802,158],[1802,159,1802,160],[1802,163,1802,164],[1802,165,1802,166],[1802,167,1802,168],[1802,169,1802,170],[1803,153,1803,154],[1803,155,1803,156],[1803,157,1803,158],[1803,159,1803,160],[1803,163,1803,164],[1803,165,1803,166],[1803,167,1803,168],[1803,169,1803,170],[1804,153,1804,154],[1804,155,1804,156],[1804,157,1804,158],[1804,159,1804,160],[1804,163,1804,164],[1804,165,1804,166],[1804,167,1804,168],[1804,169,1804,170],[1805,153,1805,154],[1805,155,1805,156],[1805,157,1805,158],[1805,159,1805,160],[1805,163,1805,164],[1805,165,1805,166],[1805,167,1805,168],[1805,169,1805,170],[1806,153,1806,154],[1806,155,1806,156],[1806,157,1806,158],[1806,159,1806,160],[1806,163,1806,164],[1806,165,1806,166],[1806,167,1806,168],[1806,169,1806,170],[1807,153,1807,154],[1807,155,1807,156],[1807,157,1807,158],[1807,159,1807,160],[1807,163,1807,164],[1807,165,1807,166],[1807,167,1807,168],[1807,169,1807,170],[1808,153,1808,154],[1808,155,1808,156],[1808,157,1808,158],[1808,159,1808,160],[1808,163,1808,164],[1808,165,1808,166],[1808,167,1808,168],[1808,169,1808,170],[1809,153,1809,154],[1809,155,1809,156],[1809,157,1809,158],[1809,159,1809,160],[1809,163,1809,164],[1809,165,1809,166],[1809,167,1809,168],[1809,169,1809,170],[1810,153,1810,154],[1810,155,1810,156],[1810,157,1810,158],[1810,159,1810,160],[1810,163,1810,164],[1810,165,1810,166],[1810,167,1810,168],[1810,169,1810,170],[1811,153,1811,154],[1811,155,1811,156],[1811,157,1811,158],[1811,159,1811,160],[1811,163,1811,164],[1811,165,1811,166],[1811,167,1811,168],[1811,169,1811,170],[1812,153,1812,154],[1812,155,1812,156],[1812,157,1812,158],[1812,159,1812,160],[1812,163,1812,164],[1812,165,1812,166],[1812,167,1812,168],[1812,169,1812,170],[1813,153,1813,154],[1813,155,1813,156],[1813,157,1813,158],[1813,159,1813,160],[1813,163,1813,164],[1813,165,1813,166],[1813,167,1813,168],[1813,169,1813,170],[1814,153,1814,154],[1814,155,1814,156],[1814,157,1814,158],[1814,159,1814,160],[1814,163,1814,164],[1814,165,1814,166],[1814,167,1814,168],[1814,169,1814,170],[1815,153,1815,154],[1815,155,1815,156],[1815,157,1815,158],[1815,159,1815,160],[1815,163,1815,164],[1815,165,1815,166],[1815,167,1815,168],[1815,169,1815,170],[1816,153,1816,154],[1816,155,1816,156],[1816,157,1816,158],[1816,159,1816,160],[1816,163,1816,164],[1816,165,1816,166],[1816,167,1816,168],[1816,169,1816,170],[1817,153,1817,154],[1817,155,1817,156],[1817,157,1817,158],[1817,159,1817,160],[1817,163,1817,164],[1817,165,1817,166],[1817,167,1817,168],[1817,169,1817,170],[1818,153,1818,154],[1818,155,1818,156],[1818,157,1818,158],[1818,159,1818,160],[1818,163,1818,164],[1818,165,1818,166],[1818,167,1818,168],[1818,169,1818,170],[1819,153,1819,154],[1819,155,1819,156],[1819,157,1819,158],[1819,159,1819,160],[1819,163,1819,164],[1819,165,1819,166],[1819,167,1819,168],[1819,169,1819,170],[1820,153,1820,154],[1820,155,1820,156],[1820,157,1820,158],[1820,159,1820,160],[1820,163,1820,164],[1820,165,1820,166],[1820,167,1820,168],[1820,169,1820,170],[1821,153,1821,154],[1821,155,1821,156],[1821,157,1821,158],[1821,159,1821,160],[1821,163,1821,164],[1821,165,1821,166],[1821,167,1821,168],[1821,169,1821,170],[1822,143,1822,144],[1822,145,1822,146],[1822,147,1822,148],[1822,149,1822,150],[1822,153,1822,154],[1822,155,1822,156],[1822,157,1822,158],[1822,159,1822,160],[1822,163,1822,164],[1822,165,1822,166],[1822,167,1822,168],[1822,169,1822,170],[1823,143,1823,144],[1823,145,1823,146],[1823,147,1823,148],[1823,149,1823,150],[1823,153,1823,154],[1823,155,1823,156],[1823,157,1823,158],[1823,159,1823,160],[1823,163,1823,164],[1823,165,1823,166],[1823,167,1823,168],[1823,169,1823,170],[1824,143,1824,144],[1824,145,1824,146],[1824,147,1824,148],[1824,149,1824,150],[1824,153,1824,154],[1824,155,1824,156],[1824,157,1824,158],[1824,159,1824,160],[1824,163,1824,164],[1824,165,1824,166],[1824,167,1824,168],[1824,169,1824,170],[1825,143,1825,144],[1825,145,1825,146],[1825,147,1825,148],[1825,149,1825,150],[1825,153,1825,154],[1825,155,1825,156],[1825,157,1825,158],[1825,159,1825,160],[1825,163,1825,164],[1825,165,1825,166],[1825,167,1825,168],[1825,169,1825,170],[1826,143,1826,144],[1826,145,1826,146],[1826,147,1826,148],[1826,149,1826,150],[1826,153,1826,154],[1826,155,1826,156],[1826,157,1826,158],[1826,159,1826,160],[1826,163,1826,164],[1826,165,1826,166],[1826,167,1826,168],[1826,169,1826,170],[1827,143,1827,144],[1827,145,1827,146],[1827,147,1827,148],[1827,149,1827,150],[1827,153,1827,154],[1827,155,1827,156],[1827,157,1827,158],[1827,159,1827,160],[1827,163,1827,164],[1827,165,1827,166],[1827,167,1827,168],[1827,169,1827,170],[1828,143,1828,144],[1828,145,1828,146],[1828,147,1828,148],[1828,149,1828,150],[1828,153,1828,154],[1828,155,1828,156],[1828,157,1828,158],[1828,159,1828,160],[1828,163,1828,164],[1828,165,1828,166],[1828,167,1828,168],[1828,169,1828,170],[1829,143,1829,144],[1829,145,1829,146],[1829,147,1829,148],[1829,149,1829,150],[1829,153,1829,154],[1829,155,1829,156],[1829,157,1829,158],[1829,159,1829,160],[1829,163,1829,164],[1829,165,1829,166],[1829,167,1829,168],[1829,169,1829,170],[1830,143,1830,144],[1830,145,1830,146],[1830,147,1830,148],[1830,149,1830,150],[1830,153,1830,154],[1830,155,1830,156],[1830,157,1830,158],[1830,159,1830,160],[1830,163,1830,164],[1830,165,1830,166],[1830,167,1830,168],[1830,169,1830,170],[1831,143,1831,144],[1831,145,1831,146],[1831,147,1831,148],[1831,149,1831,150],[1831,153,1831,154],[1831,155,1831,156],[1831,157,1831,158],[1831,159,1831,160],[1831,163,1831,164],[1831,165,1831,166],[1831,167,1831,168],[1831,169,1831,170],[1832,143,1832,144],[1832,145,1832,146],[1832,147,1832,148],[1832,149,1832,150],[1832,153,1832,154],[1832,155,1832,156],[1832,157,1832,158],[1832,159,1832,160],[1832,163,1832,164],[1832,165,1832,166],[1832,167,1832,168],[1832,169,1832,170],[1833,143,1833,144],[1833,145,1833,146],[1833,147,1833,148],[1833,149,1833,150],[1833,153,1833,154],[1833,155,1833,156],[1833,157,1833,158],[1833,159,1833,160],[1833,163,1833,164],[1833,165,1833,166],[1833,167,1833,168],[1833,169,1833,170],[1834,143,1834,144],[1834,145,1834,146],[1834,147,1834,148],[1834,149,1834,150],[1834,153,1834,154],[1834,155,1834,156],[1834,157,1834,158],[1834,159,1834,160],[1834,163,1834,164],[1834,165,1834,166],[1834,167,1834,168],[1834,169,1834,170],[1835,143,1835,144],[1835,145,1835,146],[1835,147,1835,148],[1835,149,1835,150],[1835,153,1835,154],[1835,155,1835,156],[1835,157,1835,158],[1835,159,1835,160],[1835,163,1835,164],[1835,165,1835,166],[1835,167,1835,168],[1835,169,1835,170],[1836,143,1836,144],[1836,145,1836,146],[1836,147,1836,148],[1836,149,1836,150],[1836,153,1836,154],[1836,155,1836,156],[1836,157,1836,158],[1836,159,1836,160],[1836,163,1836,164],[1836,165,1836,166],[1836,167,1836,168],[1836,169,1836,170],[1837,143,1837,144],[1837,145,1837,146],[1837,147,1837,148],[1837,149,1837,150],[1837,153,1837,154],[1837,155,1837,156],[1837,157,1837,158],[1837,159,1837,160],[1837,163,1837,164],[1837,165,1837,166],[1837,167,1837,168],[1837,169,1837,170],[1838,143,1838,144],[1838,145,1838,146],[1838,147,1838,148],[1838,149,1838,150],[1838,153,1838,154],[1838,155,1838,156],[1838,157,1838,158],[1838,159,1838,160],[1838,163,1838,164],[1838,165,1838,166],[1838,167,1838,168],[1838,169,1838,170],[1839,143,1839,144],[1839,145,1839,146],[1839,147,1839,148],[1839,149,1839,150],[1839,153,1839,154],[1839,155,1839,156],[1839,157,1839,158],[1839,159,1839,160],[1839,163,1839,164],[1839,165,1839,166],[1839,167,1839,168],[1839,169,1839,170],[1840,143,1840,144],[1840,145,1840,146],[1840,147,1840,148],[1840,149,1840,150],[1840,153,1840,154],[1840,155,1840,156],[1840,157,1840,158],[1840,159,1840,160],[1840,163,1840,164],[1840,165,1840,166],[1840,167,1840,168],[1840,169,1840,170],[1841,143,1841,144],[1841,145,1841,146],[1841,147,1841,148],[1841,149,1841,150],[1841,153,1841,154],[1841,155,1841,156],[1841,157,1841,158],[1841,159,1841,160],[1841,163,1841,164],[1841,165,1841,166],[1841,167,1841,168],[1841,169,1841,170],[1842,143,1842,144],[1842,145,1842,146],[1842,147,1842,148],[1842,149,1842,150],[1842,153,1842,154],[1842,155,1842,156],[1842,157,1842,158],[1842,159,1842,160],[1842,163,1842,164],[1842,165,1842,166],[1842,167,1842,168],[1842,169,1842,170],[1843,143,1843,144],[1843,145,1843,146],[1843,147,1843,148],[1843,149,1843,150],[1843,153,1843,154],[1843,155,1843,156],[1843,157,1843,158],[1843,159,1843,160],[1843,163,1843,164],[1843,165,1843,166],[1843,167,1843,168],[1843,169,1843,170],[1844,143,1844,144],[1844,145,1844,146],[1844,147,1844,148],[1844,149,1844,150],[1844,153,1844,154],[1844,155,1844,156],[1844,157,1844,158],[1844,159,1844,160],[1844,163,1844,164],[1844,165,1844,166],[1844,167,1844,168],[1844,169,1844,170],[1845,143,1845,144],[1845,145,1845,146],[1845,147,1845,148],[1845,149,1845,150],[1845,153,1845,154],[1845,155,1845,156],[1845,157,1845,158],[1845,159,1845,160],[1845,163,1845,164],[1845,165,1845,166],[1845,167,1845,168],[1845,169,1845,170],[1846,143,1846,144],[1846,145,1846,146],[1846,147,1846,148],[1846,149,1846,150],[1846,153,1846,154],[1846,155,1846,156],[1846,157,1846,158],[1846,159,1846,160],[1846,163,1846,164],[1846,165,1846,166],[1846,167,1846,168],[1846,169,1846,170],[1847,143,1847,144],[1847,145,1847,146],[1847,147,1847,148],[1847,149,1847,150],[1847,153,1847,154],[1847,155,1847,156],[1847,157,1847,158],[1847,159,1847,160],[1847,163,1847,164],[1847,165,1847,166],[1847,167,1847,168],[1847,169,1847,170],[1848,143,1848,144],[1848,145,1848,146],[1848,147,1848,148],[1848,149,1848,150],[1848,153,1848,154],[1848,155,1848,156],[1848,157,1848,158],[1848,159,1848,160],[1848,163,1848,164],[1848,165,1848,166],[1848,167,1848,168],[1848,169,1848,170],[1849,143,1849,144],[1849,145,1849,146],[1849,147,1849,148],[1849,149,1849,150],[1849,153,1849,154],[1849,155,1849,156],[1849,157,1849,158],[1849,159,1849,160],[1849,163,1849,164],[1849,165,1849,166],[1849,167,1849,168],[1849,169,1849,170],[1850,143,1850,144],[1850,145,1850,146],[1850,147,1850,148],[1850,149,1850,150],[1850,153,1850,154],[1850,155,1850,156],[1850,157,1850,158],[1850,159,1850,160],[1850,163,1850,164],[1850,165,1850,166],[1850,167,1850,168],[1850,169,1850,170],[1851,143,1851,144],[1851,145,1851,146],[1851,147,1851,148],[1851,149,1851,150],[1851,153,1851,154],[1851,155,1851,156],[1851,157,1851,158],[1851,159,1851,160],[1851,163,1851,164],[1851,165,1851,166],[1851,167,1851,168],[1851,169,1851,170],[1852,143,1852,144],[1852,145,1852,146],[1852,147,1852,148],[1852,149,1852,150],[1852,153,1852,154],[1852,155,1852,156],[1852,157,1852,158],[1852,159,1852,160],[1852,163,1852,164],[1852,165,1852,166],[1852,167,1852,168],[1852,169,1852,170],[1853,143,1853,144],[1853,145,1853,146],[1853,147,1853,148],[1853,149,1853,150],[1853,153,1853,154],[1853,155,1853,156],[1853,157,1853,158],[1853,159,1853,160],[1853,163,1853,164],[1853,165,1853,166],[1853,167,1853,168],[1853,169,1853,170],[1854,143,1854,144],[1854,145,1854,146],[1854,147,1854,148],[1854,149,1854,150],[1854,153,1854,154],[1854,155,1854,156],[1854,157,1854,158],[1854,159,1854,160],[1854,163,1854,164],[1854,165,1854,166],[1854,167,1854,168],[1854,169,1854,170],[1855,143,1855,144],[1855,145,1855,146],[1855,147,1855,148],[1855,149,1855,150],[1855,153,1855,154],[1855,155,1855,156],[1855,157,1855,158],[1855,159,1855,160],[1855,163,1855,164],[1855,165,1855,166],[1855,167,1855,168],[1855,169,1855,170],[1856,143,1856,144],[1856,145,1856,146],[1856,147,1856,148],[1856,149,1856,150],[1856,153,1856,154],[1856,155,1856,156],[1856,157,1856,158],[1856,159,1856,160],[1856,163,1856,164],[1856,165,1856,166],[1856,167,1856,168],[1856,169,1856,170],[1857,143,1857,144],[1857,145,1857,146],[1857,147,1857,148],[1857,149,1857,150],[1857,153,1857,154],[1857,155,1857,156],[1857,157,1857,158],[1857,159,1857,160],[1857,163,1857,164],[1857,165,1857,166],[1857,167,1857,168],[1857,169,1857,170],[1858,143,1858,144],[1858,145,1858,146],[1858,147,1858,148],[1858,149,1858,150],[1858,153,1858,154],[1858,155,1858,156],[1858,157,1858,158],[1858,159,1858,160],[1858,163,1858,164],[1858,165,1858,166],[1858,167,1858,168],[1858,169,1858,170],[1859,143,1859,144],[1859,145,1859,146],[1859,147,1859,148],[1859,149,1859,150],[1859,153,1859,154],[1859,155,1859,156],[1859,157,1859,158],[1859,159,1859,160],[1859,163,1859,164],[1859,165,1859,166],[1859,167,1859,168],[1859,169,1859,170],[1860,143,1860,144],[1860,145,1860,146],[1860,147,1860,148],[1860,149,1860,150],[1860,153,1860,154],[1860,155,1860,156],[1860,157,1860,158],[1860,159,1860,160],[1860,163,1860,164],[1860,165,1860,166],[1860,167,1860,168],[1860,169,1860,170],[1861,143,1861,144],[1861,145,1861,146],[1861,147,1861,148],[1861,149,1861,150],[1861,153,1861,154],[1861,155,1861,156],[1861,157,1861,158],[1861,159,1861,160],[1861,163,1861,164],[1861,165,1861,166],[1861,167,1861,168],[1861,169,1861,170],[1862,143,1862,144],[1862,145,1862,146],[1862,147,1862,148],[1862,149,1862,150],[1862,153,1862,154],[1862,155,1862,156],[1862,157,1862,158],[1862,159,1862,160],[1862,163,1862,164],[1862,165,1862,166],[1862,167,1862,168],[1862,169,1862,170],[1863,143,1863,144],[1863,145,1863,146],[1863,147,1863,148],[1863,149,1863,150],[1863,153,1863,154],[1863,155,1863,156],[1863,157,1863,158],[1863,159,1863,160],[1863,163,1863,164],[1863,165,1863,166],[1863,167,1863,168],[1863,169,1863,170],[1864,143,1864,144],[1864,145,1864,146],[1864,147,1864,148],[1864,149,1864,150],[1864,153,1864,154],[1864,155,1864,156],[1864,157,1864,158],[1864,159,1864,160],[1864,163,1864,164],[1864,165,1864,166],[1864,167,1864,168],[1864,169,1864,170],[1865,143,1865,144],[1865,145,1865,146],[1865,147,1865,148],[1865,149,1865,150],[1865,153,1865,154],[1865,155,1865,156],[1865,157,1865,158],[1865,159,1865,160],[1865,163,1865,164],[1865,165,1865,166],[1865,167,1865,168],[1865,169,1865,170],[1866,143,1866,144],[1866,145,1866,146],[1866,147,1866,148],[1866,149,1866,150],[1866,153,1866,154],[1866,155,1866,156],[1866,157,1866,158],[1866,159,1866,160],[1866,163,1866,164],[1866,165,1866,166],[1866,167,1866,168],[1866,169,1866,170],[1867,143,1867,144],[1867,145,1867,146],[1867,147,1867,148],[1867,149,1867,150],[1867,153,1867,154],[1867,155,1867,156],[1867,157,1867,158],[1867,159,1867,160],[1867,163,1867,164],[1867,165,1867,166],[1867,167,1867,168],[1867,169,1867,170],[1868,143,1868,144],[1868,145,1868,146],[1868,147,1868,148],[1868,149,1868,150],[1868,153,1868,154],[1868,155,1868,156],[1868,157,1868,158],[1868,159,1868,160],[1868,163,1868,164],[1868,165,1868,166],[1868,167,1868,168],[1868,169,1868,170],[1869,143,1869,144],[1869,145,1869,146],[1869,147,1869,148],[1869,149,1869,150],[1869,153,1869,154],[1869,155,1869,156],[1869,157,1869,158],[1869,159,1869,160],[1869,163,1869,164],[1869,165,1869,166],[1869,167,1869,168],[1869,169,1869,170],[1870,143,1870,144],[1870,145,1870,146],[1870,147,1870,148],[1870,149,1870,150],[1870,153,1870,154],[1870,155,1870,156],[1870,157,1870,158],[1870,159,1870,160],[1870,163,1870,164],[1870,165,1870,166],[1870,167,1870,168],[1870,169,1870,170],[1871,143,1871,144],[1871,145,1871,146],[1871,147,1871,148],[1871,149,1871,150],[1871,153,1871,154],[1871,155,1871,156],[1871,157,1871,158],[1871,159,1871,160],[1871,163,1871,164],[1871,165,1871,166],[1871,167,1871,168],[1871,169,1871,170]],"merged_total":6845,"flags":["merged_cut"]}
["Програми","Шифра","Сврха",{"$nulls":53},"ЕКОНОМСКА КЛАСИФИКАЦИЈА 6-nivo",{"$nulls":12},"ФУНКЦИОНАЛНА КЛАСИФИКАЦИЈА",null,null,"КЛАСИФИКАЦИЈА ПО ИЗВОРИМА ФИНАНСИРАЊА",{"$nulls":3},"ЕКОНОМСКА КЛАСИФИКАЦИЈА - 3 nivo",{"$nulls":11},"000","СОЦИЈАЛНА ЗАШТИТА",null,null,{"$f":"CK1&\" - \"&CL1","v":"000 - СОЦИЈАЛНА ЗАШТИТА"},{"$nulls":4},"КЛАСИФИКАЦИЈА ПО ИЗВОРИМА ФИНАНСИРАЊА"]
["Програм 1.  Локални развој и просторно планирање","1101","Планско одређивање праваца развоја локалне средине и ефикасно администрирање захтева за издавање грађевинских дозвола",{"$nulls":53},400000,"Текући расходи",{"$nulls":11},0,"СОЦИЈАЛНА ЗАШТИТА",null,"01","Приходи из буџета","01",null,411,"Плате, додаци и накнаде запослених (зараде)",411,{"$nulls":9},"010","Болест и инвалидност",null,null,"010 - Болест и инвалидност",{"$nulls":4},"01","Приходи из буџета",null,null,{"$f":"CT2&\" - \"&CU2","v":"01 - Приходи из буџета"}]
["Програм 2.  Комунална делатност","0601","Унапређење квалитета живота становника на територији града/општине и стварање услова за економски развој кроз обезбеђивање рационалног обављања комуналних делатности, повећање обухвата пружања комуналних услуга и развој комуналне инфраструктуре становништва успостављањем ефикасног система комуналних услуга",{"$nulls":53},410000,"Расходи за запослене",{"$nulls":11},10,"Болест и инвалидност",null,"02","Трансфери између корисника на истом нивоу","02",null,412,"Социјални доприноси на терет послодавца",412,{"$nulls":9},"020","Старост",null,null,"020 - Старост",{"$nulls":4},"02","Трансфери између корисника на истом нивоу",null,null,{"$f":"CT3&\" - \"&CU3","v":"02 - Трансфери између корисника на истом нивоу"}]
["Програм 3.  Локални економски развој","1501","Обезбеђивање стимулативног оквира за пословање и адекватног привредног амбијента за привлачење инвестиција",{"$nulls":53},411000,"Плате, додаци и накнаде запослених (зараде)",{"$nulls":11},20,"Старост",null,"03","Социјални доприноси","03",null,413,"Накнаде у натури",413,{"$nulls":9},"030","Корисници породичне пензије",null,null,"030 - Корисници породичне пензије",{"$nulls":4},"03","Социјални доприноси",null,null,"03 - Социјални доприноси"]
["Програм 4.  Развој туризма","1502","Унапређење туристичке понуде у граду/општини",{"$nulls":53},411100,"Плате, додаци и накнаде запослених",{"$nulls":11},30,"Корисници породичне пензије",null,"04","Сопствени приходи буџетских корисника","04",null,414,"Социјална давања запосленима",414,{"$nulls":9},"040","Породица и деца",null,null,"040 - Породица и деца",{"$nulls":4},"04","Сопствени приходи буџетских корисника",null,null,"04 - Сопствени приходи буџетских корисника"]
["Програм 5.  Развој пољопривреде","0101","Унапређење пољопривредне производње у граду/општини",{"$nulls":53},411110,"Плате, додаци и накнаде запослених",{"$nulls":11},40,"Породица и деца",null,"05","Донације од иностраних земаља","05",null,415,"Накнаде трошкова за запослене",415,{"$nulls":9},"050","Незапосленост",null,null,"050 - Незапосленост",{"$nulls":4},"05","Донације од иностраних земаља",null,null,"05 - Донације од иностраних земаља"]
["Програм 6.  Заштита животне средине","0401","Обезбеђивање услова за одрживи развој локалне заједнице одговорним односом према животној средини",{"$nulls":53},411111,"Плате по основу цене рада",{"$nulls":11},50,"Незапосленост",null,"06","Донације од међународних организација","06",null,416,"Награде запосленима и остали посебни расходи",416,{"$nulls":9},"060","Становање",null,null,"060 - Становање",{"$nulls":4},"06","Донације од међународних организација",null,null,"06 - Донације од међународних организација"]
["Програм 7.  Путна инфраструктура","0701","Унапређење путне инфраструктуре у граду/општини",{"$nulls":53},411112,"Додатак за рад дужи од пуног радног времена",{"$nulls":11},60,"Становање",null,"07","Донације од осталих нивоа власти","07",null,417,"Посланички додатак",417,{"$nulls":9},"070","Социјална помоћ угроженом становништву, некласификована на другом месту",null,null,"070 - Социјална помоћ угроженом становништву, некласификована на другом месту",{"$nulls":4},"07","Трансфери од других нивоа власти",null,null,{"$f":"CT8&\" - \"&CU8","v":"07 - Трансфери од других нивоа власти"}]
["Програм 8.  Предшколско васпитање","2001","Омогућавање обухвата предшколске деце у вртићима ",{"$nulls":53},411113,"Додатак за рад на дан државног и верског празника",{"$nulls":11},70,"Социјална помоћ угроженом становништву, некласификована на другом месту",null,"08","Донације од невладиних организација и појединаца","08",null,418,"Судијски додатак.",418,{"$nulls":9},"080","Социјална заштита -  истраживање и развој",null,null,"080 - Социјална заштита -  истраживање и развој",{"$nulls":4},"08","Добровољни трансфери од физичких и правних лица",null,null,"08 - Добровољни трансфери од физичких и правних лица",{"$nulls":6},"Поступак за попуњавање образаца "]
["Програм 9.  Основно образовање","2002","Доступност основног образовања свој деци са територије града/општине у складу са прописаним стандардима",{"$nulls":53},411114,"Додатак за рад ноћу",{"$nulls":11},80,"Социјална заштита -  истраживање и развој",null,"09","Примања од продаје нефинансијске имовине","09",null,421,"Стални трошкови",421,{"$nulls":9},"090","Социјална заштита некласификована на другом месту",null,null,"090 - Социјална заштита некласификована на другом месту",{"$nulls":4},"09","Примања од продаје нефинансијске имовине",null,null,"09 - Примања од продаје нефинансијске имовине"]
["Програм 10.  Средње образовање","2003","Доступност средњег образовања у складу са прописаним стандардима и потребама за образовним профилима који одговарају циљевима развоја града/општине и привреде",{"$nulls":53},411115,"Додатак за време проведено на раду (минули рад)",{"$nulls":11},90,"Социјална заштита некласификована на другом месту",null,"10","Примања од домаћих задуживања","10",null,422,"Трошкови путовања",422,{"$nulls":9},100,"ОПШТЕ ЈАВНЕ УСЛУГЕ",null,null,"100 - ОПШТЕ ЈАВНЕ УСЛУГЕ",{"$nulls":4},"10","Примања од домаћих задуживања",null,null,"10 - Примања од домаћих задуживања"]
[{"$nulls":56},411116,"Теренски додатак",{"$nulls":34},{"$f":"CK13&\" - \"&CL13","v":"110 - Извршни и законодавни органи, финансијски и фискални послови и спољни послови"},{"$nulls":8},{"$f":"CT13&\" - \"&CU13","v":"11 - Примања од иностраних задуживања"},{"$nulls":6},"I","ПОДЕШАВАЊЕ ПОЧЕТНИХ ПАРАМЕТАРА:"]
["Програм 11.  Социјална и дечја заштита","0901","Обезбеђивање свеобухватне социјалне заштите и помоћи најугроженијем становништву града/општине",{"$nulls":53},411117,"Накнада зараде за време привремене спречености за рад до 30 дана услед болести",{"$nulls":11},100,"ОПШТЕ ЈАВНЕ УСЛУГЕ",null,"11","Примања од иностраних задуживања","11",null,423,"Услуге по уговору",423,{"$nulls":9},110,"Извршни и законодавни органи, финансијски и фискални послови и спољни послови",null,null,{"$f":"CK14&\" - \"&CL14","v":"111 - Извршни и законодавни органи"},{"$nulls":4},"11","Примања од иностраних задуживања",null,null,{"$f":"CT14&\" - \"&CU14","v":"12 - Примања од отплате датих кредита и продаје финансијске имовине"},{"$nulls":7},"Прво што је потребно урадити јесте да омогућите макрое у Вашој верзији Ексела. У зависности од верзије по покретању документа добићете обавештење да су макрои онемогућени и питање да ли желите да омогућите макрое. Кликом на опцију \"Еnable this content\" или \"Enable macros\" омогућавају се програмске процедуре које су неопходне за рад документа. "]
["Програм 12.  Примарна здравствена заштита","1801","Доступност примарне здравствене заштите у складу са националним стандардима",{"$nulls":53},411118,"Накнада зараде за време одсуствовања са рада на дан празника који је нерадни дан, годишњег одмора, плаћеног одсуства, војне вежбе и одазивања на позив државног органа",{"$nulls":11},110,"Извршни и законодавни органи, финансијски и фискални послови и спољни послови",null,"12","Примања од отплате датих кредита и продаје финансијске имовине","12",null,424,"Специјализоване услуге",424,{"$nulls":9},111,"Извршни и законодавни органи",null,null,{"$f":"CK15&\" - \"&CL15","v":"112 - Финансијски и фискални послови"},{"$nulls":4},"12","Примања од отплате датих кредита и продаје финансијске имовине",null,null,{"$f":"CT15&\" - \"&CU15","v":"13 - Нераспоређени вишак прихода из ранијих година"},{"$nulls":7},"Након омогућавања макроа у радном листу \"Програм\", у ћелији \"D4\" изаберете назив Програма. Овим поступком сте подесили параметре за рад у радним листовима \"Програмска активност\" и \"Пројекат\"."]
["Програм 13.  Развој културе","1201","Очување, унапређење и представљање локалног културног наслеђа, добара и баштине",{"$nulls":53},411119,"Остали додаци и накнаде запосленима",{"$nulls":11},111,"Извршни и законодавни органи",null,"13","Нераспоређени вишак прихода из ранијих година","13",null,425,"Текуће поправке и одржавање",425,{"$nulls":9},112,"Финансијски и фискални послови",null,null,{"$f":"CK16&\" - \"&CL16","v":"113 - Спољни послови"},{"$nulls":4},"13","Нераспоређени вишак прихода из ранијих година",null,null,{"$f":"CT16&\" - \"&CU16","v":"14 - Неутрошена средства од приватизације из ранијих година"}]
["Програм 14.  Развој спорта и омладине","1301","Обезбеђивање приступа спорту и подршка пројектима везаним за развој омладине и спорта ",{"$nulls":53},411120,"Плате приправника",{"$nulls":11},112,"Финансијски и фискални послови",null,"14","Неутрошена средства од приватизације из претходних година","14",null,426,"Материјал",426,{"$nulls":9},113,"Спољни послови",null,null,{"$f":"CK18&\" - \"&CL18","v":"120 - Економска помоћ иностранству"},{"$nulls":4},"14","Неутрошена средства од приватизације из ранијих година",null,null,{"$f":"CT18&\" - \"&CU18","v":"15 - Неутрошена средства донација из ранијих година"}]
[{"$nulls":56},411121,"Плате приправника које плаћа послодавац",{"$nulls":34},"121 - Економска помоћ земљама у развоју и земљама у транзицији",{"$nulls":8},{"$f":"CT19&\" - \"&CU19","v":"16 - Родитељски динар за ваннаставне активности"},{"$nulls":6},"II ","КОПИРАЊЕ ПОТРЕБНОГ БРОЈA SHEET-ОВА ЗА ПРОГРАМСКЕ АКТИВНОСТИ И ПРОЈЕКТЕ"]
["Програм 15.  Локална самоуправа","0602","Обезбеђивање услова за остварење права грађана на лакши и бржи начин у граду/општини",{"$nulls":53},411122,"Плате приправника које плаћа Национална служба за запошљавање",{"$nulls":11},113,"Спољни послови",null,"15","Неутрошена средства донација из претходних година","15",null,431,"Амортизација некретнина и опреме",431,{"$nulls":9},120,"Економска помоћ иностранству",null,null,"122 - Економска помоћ преко међународних организација",{"$nulls":4},"15","Неутрошена средства донација из ранијих година",null,null,{"$f":"CT20&\" - \"&CU20","v":"56 - Финансијска помоћ ЕУ"},{"$nulls":7},"Сваки програм се састоји из различитог броја програмских активности и пројеката те је неопходно да за онај број програмских активности и пројеката који Вам је потребан ископирате радне листове \"Програмска активност\" и \"Пројекат\". Поступак копирања је следећи:"]
[{"$nulls":56},411130,"Плате привремено запослених",{"$nulls":11},120,"Економска помоћ иностранству",null,"16","Родитељски динар за ваннаставне активности","16",null,432,"Амортизација култивисане имовине",432,{"$nulls":9},121,"Економска помоћ земљама у развоју и земљама у транзицији",null,null,"130 - Опште услуге",{"$nulls":4},"16","Родитељски динар за ваннаставне активности",{"$nulls":10},"1) За нову програмску активност : Кликните десним кликом на радни лист - \"Програмска активност\" и изаберите опцију \"Move or copy\". Након тога приказаће Вам се прозор у коме треба у одељку \"Before sheet\" одабрати позицију новог радног листа (\"Sheet\"-a) односно Програмске активности. Kликом на један од понуђених радних листова бирате позицију нове програмске активности, и то тако што се нова програмска активност позиционира испред изабраног постојећег радног листа. Након избора позиције обавезно штиклирате опцију \"Create a copy\" а затим кликните на ОК.  "]
[{"$nulls":56},411131,"Плате привремено запослених",{"$nulls":11},121,"Економска помоћ земљама у развоју и земљама у транзицији",{"$nulls":5},433,"Употреба драгоцености",433,{"$nulls":9},122,"Економска помоћ преко међународних организација",null,null,"131 - Опште кадровске услуге",{"$nulls":4},56,"Финансијска помоћ ЕУ",{"$nulls":10},"Препоручљиво је да приликом избора позиције за нову програмску активност  у одељку \"Before sheet\" изаберете радни лист - \"Пројекат\" како би се испоштовао редослед у позиционирању (најпре програм, затим све програмске активности у оквиру  програма и на крају сви пројекти у оквиру изабраног програма)."]
[{"$nulls":56},411140,"Плате по основу судских пресуда",{"$nulls":11},122,"Економска помоћ преко међународних организација",{"$nulls":5},434,"Употреба природне имовине",434,{"$nulls":9},130,"Опште услуге",null,null,"132 - Опште услуге планирања и статистике",{"$nulls":16},"2) За нови пројекат:  Кликните десним кликом на радни лист \"Пројекат\" и изаберите опцију \"Move or copy\". Након тога приказаће Вам се прозор у коме треба у одељку \"Before sheet\" одабрати позицију новог радног листа (\"Sheet\"-a) односно Пројекта. Kликом на један од понуђених радних листова бирате позицију новог пројекта, и то тако што се нови пројекат позиционира испред изабраног постојећег радног листа. Препоручљиво је да у одељку \"Before sheet\" за нови пројекат изаберете радни лист - \"Упутство\". Након избора позиције штиклирате опцију \"Create a copy\" затим кликнете на ОК."]
[{"$nulls":56},411141,"Плате по основу судских пресуда",{"$nulls":11},130,"Опште услуге",{"$nulls":5},435,"Амортизација нематеријалне имовине",435,{"$nulls":9},131,"Опште кадровске услуге",null,null,"133 - Остале опште услуге"]
[{"$nulls":56},411150,"Накнада штете запослених",{"$nulls":11},131,"Опште кадровске услуге",{"$nulls":5},441,"Отплата домаћих камата",441,{"$nulls":9},132,"Опште услуге планирања и статистике",null,null,"140 - Основно истраживање",{"$nulls":15},"III","ЗНАЧЕЊЕ ПОЈЕДИНИХ НАСЛОВА КОД ПРОГРАМА, ПРОГРАМСКИХ АКТИВНОСТИ И ПРОЈЕКАТА И ИНФОРМАЦИЈЕ КОЈЕ СЕ УНОСЕ"]
[{"$nulls":56},411151,"Накнада штете запосленом за неискоришћени годишњи одмор",{"$nulls":11},132,"Опште услуге планирања и статистике",{"$nulls":5},442,"Отплата страних камата",442,{"$nulls":9},133,"Остале опште услуге",null,null,"160 - Опште јавне услуге некласификоване на другом месту",{"$nulls":16},"1)  У табелама у којима се исказују индикатори: "]
[{"$nulls":56},411159,"Остале накнаде штете запосленом",{"$nulls":11},133,"Остале опште услуге",{"$nulls":5},443,"Отплата камата по гаранцијама",443,{"$nulls":9},140,"Основно истраживање",null,null,"170 - Трансакције јавног  дуга"]
[{"$nulls":56},411190,"Остале исплате зарада за специјалне задатке или пројекте",{"$nulls":11},150,"Опште јавне услуге -  истраживање и развој",{"$nulls":5},4511,"Текуће субвенције јавним нефинансијским предузећима и организацијама",451,{"$nulls":9},160,"Опште јавне услуге некласификоване на другом месту",null,null,"180 - Трансфери општег карактера између различитих нивоа власти",{"$nulls":16}," - наслов колоне \"Вредност у базној години (крај 2014. године)\" односи се на иницијалну референтну вредност индикатора у односу на коју настојимо да пратимо промене током времена (кроз наредне буџетске циклусе када ће бити расположиве вредности са краја 2015/2016/итд.). Као иницијалну референтну вредност у ову колону треба унети вредност према расположивим подацима за крај 2014. године. Уколико нису познати подаци о вредности индикатора за крај 2014. године, унети вредност индикатора из периода који претходи крају 2014. године и за који су подаци доступни (нпр. средина 2014. године, крај 2013. године и сл.)"]
[{"$nulls":56},411191,"Остале исплате зарада за специјалне задатке или пројекте",{"$nulls":11},160,"Опште јавне услуге некласификоване на другом месту",{"$nulls":5},4512,"Капиталне субвенције јавним нефинансијским предузећима и организацијама",{"$nulls":10},170,"Трансакције јавног  дуга",null,null,"200 - ОДБРАНА",{"$nulls":16}," - наслов колоне \"Вредност у 2015. години\" односи се на вредност индикатора пројектовану за крај 2015. године. Будући да у периоду припреме буџета за 2016. годину нису познате вредности индикатора које ће бити коначно остварене до краја текуће 2015. године, у ову колону уносе се планиране/очекиване вредности индикатора. Уколико се у циклусу припреме буџета за 2016. годину користи исти индикатор који је коришћен и у циклусу за 2015. годину, у ову колону уноси се иста вредност индикатора која је исказана као пројекција за 2015. годину (ако је индикатор исказан у Одлуци о буџету за 2015. годину, корисник треба да ископира вредност индикатора која је планирана за 2015. годину).  "]
[{"$nulls":56},412000,"Социјални доприноси на терет послодавца",{"$nulls":11},170,"Трансакције јавног  дуга",{"$nulls":5},452,"Субвенције приватним финансијским институцијама",452,{"$nulls":9},180,"Трансфери општег карактера између различитих нивоа власти",null,null,"210 - Војна одбрана",{"$nulls":16},"Уколико корисник није исказао вредност индикатора за 2015. годину у претходном циклусу, или се у циклусу припреме буџета за 2016. годину користи нови индикатор, у ову колону уноси се вредност индикатора коју корисник очекује (пројектује) за крај 2015. године;"]
[{"$nulls":56},412100,"Допринос за пензијско и инвалидско осигурање",{"$nulls":11},180,"Трансфери општег карактера између различитих нивоа власти",{"$nulls":5},453,"Субвенције јавним финансијским институцијама",453,{"$nulls":9},200,"ОДБРАНА",null,null,"220 - Цивилна одбрана",{"$nulls":16}," - у колонама које се односе на циљане вредности за 2016., 2017. и 2018. годину, корисник уноси очекиване вредности индикатора према пројекцијама за крај сваке односне године.                   "]
[{"$nulls":56},412110,"Допринос за пензијско и инвалидско осигурање",{"$nulls":11},200,"ОДБРАНА",{"$nulls":5},454,"Субвенције приватним предузећима",454,{"$nulls":9},210,"Војна одбрана",null,null,"230 - Војна помоћ иностранству"]
[{"$nulls":56},412111,"Допринос за пензијско и инвалидско осигурање",{"$nulls":11},210,"Војна одбрана",{"$nulls":5},461,"Донације страним владама",461,{"$nulls":9},220,"Цивилна одбрана",null,null,{"$f":"CK34&\" - \"&CL34","v":"250 - Одбрана некласификована на другом месту"},{"$nulls":16}," У наредним буџетским циклусима, уз задржавање вредности индикатора у базној години, биће уведена и нова колона у којој ће се исказивати остварена вредност индикатора у складу са завршним рачунима и извештајима о остварењу циљева и индикатора."]
[{"$nulls":56},412112,"Допринос за добровољно пензијско и инвалидско осигурање",{"$nulls":11},220,"Цивилна одбрана",{"$nulls":5},462,"Донације и дотације међународним организацијама",462,{"$nulls":9},230,"Војна помоћ иностранству",null,null,"300 - ЈАВНИ РЕД И БЕЗБЕДНОСТ"]
[{"$nulls":56},412113,"Допринос за пензијско и инвалидско осигурање - за радни стаж који се рачуна са увећаним доприносом",{"$nulls":34},"310 - Услуге полиције",{"$nulls":16},"2)  У табелама у којима се исказују расходи и издаци:"]
[{"$nulls":56},412200,"Допринос за здравствено осигурање",{"$nulls":11},240,"Одбрана - истраживање и развој",{"$nulls":5},4632,"Капитални трансфери осталим нивоима власти",4632,{"$nulls":9},250,"Одбрана некласификована на другом месту",null,null,"320 - Услуге противпожарне заштите",{"$nulls":16}," -  наслов колоне \"Расходи и издаци у 2015. години\" односи се на расходе и издатке предвиђене Одлуком о буџету за 2015. годину, односно сходно вредностима према последњем ребалансу буџета за 2015. годину (уколико је било ребаланса буџета). У наредним буџетским циклусима, ова колона биће измењена тако да се у њој исказују расходи и издаци остварени у складу са годишњим финансијским извештајем о извршењу буџета."]
[{"$nulls":56},412210,"Допринос за здравствено осигурање",{"$nulls":11},250,"Одбрана некласификована на другом месту",{"$nulls":5},464,"Дотације организацијама обавезног социјалног осигурања",464,{"$nulls":9},300,"ЈАВНИ РЕД И БЕЗБЕДНОСТ",null,null,"330 - Судови",{"$nulls":16}," -  у колоне које се односе на расходе и издатке за 2016., 2017. и 2018. годину, корисник уноси износе расхода очекиване према пројекцијама за крај сваке односне године."]
[{"$nulls":56},412211,"Допринос за здравствено осигурање",{"$nulls":11},300,"ЈАВНИ РЕД И БЕЗБЕДНОСТ",{"$nulls":5},465,"Остале донације, дотације и трансфери",465,{"$nulls":9},310,"Услуге полиције",null,null,"350 - Јавни ред и безбедност - истраживање и развој"]
["Врста Активности","Програми",{"$nulls":54},412221,"Допринос за добровољно здравствено осигурање",{"$nulls":11},310,"Услуге полиције",{"$nulls":5},472,"Накнаде за социјалну заштиту из буџета",472,{"$nulls":9},320,"Услуге противпожарне заштите",null,null,"360 - Јавни ред и безбедност  некласификован на другом месту",{"$nulls":15},"IV","ПОПУЊАВАЊЕ ПРОГАМА, ПРОГРАМСКИХ АКТИВНОСТИ И ПРОЈЕКАТА"]
["Активност","Програм 1.  Локални развој и просторно планирање","п1","1101-0001  Стратешко, просторно и урбанистичко планирање","1101-0002  Уређивање грађевинског земљишта",{"$nulls":51},412300,"Допринос за незапосленост",{"$nulls":11},320,"Услуге противпожарне заштите",{"$nulls":5},481,"Дотације невладиним организацијама",481,{"$nulls":9},330,"Судови",null,null,"400 - ЕКОНОМСКИ ПОСЛОВИ",{"$nulls":16},"1) За Програм:  Након завршеног избора програма , шифра програма, сектор коме припада програм и сврха програма се учитавају аутоматски, тако да почетак попуњавања креће од Основа програма. Унета је заштита за ћелије у којима се налазе функције, како их корисник не би случајно променио или обрисао. У радном листу \"Програм\" су на располагању кориснику још два циља са индикаторима који се приказују опцијом \"Unhide\" како је објашњено на слици (видети поступак откривања редова у финансиском плану)."]
["Пројекат","Програм 2.  Комунална делатност","п2","0601-0001  Водоснабдевање","0601-0002  Управљање отпадним водама  ","0601-0003  Одржавање депонија","0601-0004  Даљинско грејање","0601-0005  Јавни превоз","0601-0006  Паркинг сервис","0601-0007  Уређивање, одржавање и коришћење пијаца","0601-0008  Јавна хигијена","0601-0009  Уређење и одржавање зеленила","0601-0010  Јавна расвета","0601-0011  Одржавање гробаља и погребне услуге","0601-0012  Одржавање стамбених зграда","0601-0013  Ауто-такси превоз путника","0601-0014  Остале комуналне услуге",{"$nulls":39},412310,"Допринос за незапосленост",{"$nulls":11},330,"Судови",{"$nulls":5},482,"Порези, обавезне таксе, казне и пенали",482,{"$nulls":9},350,"Јавни ред и безбедност - истраживање и развој",null,null,"410 - Општи економски и комерцијални послови и послови по питању рада",{"$nulls":16},"Након попуњених циљева и индикатора корисник не мора да попуњава остатак обрасца јер матрица аутоматски повлачи податке из других радних листова . Уколико је потребно више редова опцијом \"unhide\", добијате још 30-ак поља за пројекте. "]
[null,"Програм 3.  Локални економски развој","п3","1501-0001  Подршка постојећој привреди","1501-0002  Унапређење привредног амбијента","1501-0003  Подстицаји за развој предузетништва","1501-0004  Одржавање економске инфраструктуре","1501-0005  Финансијска подршка локалном економском развоју",{"$nulls":48},412311,"Допринос за незапосленост",{"$nulls":11},350,"Јавни ред и безбедност - истраживање и развој",{"$nulls":5},483,"Новчане казне и пенали по решењу судова",483,{"$nulls":9},360,"Јавни ред и безбедност  некласификован на другом месту",null,null,"411 - Општи економски и комерцијални послови"]
[null,"Програм 4.  Развој туризма","п4","1502-0001  Управљање развојем туризма","1502-0002  Туристичка промоција",{"$nulls":51},413000,"Накнаде у натури",{"$nulls":11},360,"Јавни ред и безбедност  некласификован на другом месту",{"$nulls":5},484,"Накнада штете за повреде или штету насталу услед елементарних непогода или других природних узрока",484,{"$nulls":9},400,"ЕКОНОМСКИ ПОСЛОВИ",null,null,"412 - Општи послови по питању рада",{"$nulls":16},"2) За програмску активност:  Пошто се назив програма аутоматски учитава корисник бира програмску активност из листе програмских активности које потпадају под изабрани програм. Свака појединачна програмска активност се попуњавана у посебном радном листу. У зависности од изабране програмске активности, у делу обрасца који се односи на дефинисање циљева и индикатора, из падајућих листа можете одабрати понуђене циљеве и индикаторе који су дефинисани од стране СКГО-а, али је остављена могућност за сопствено дефинисање. "]
[null,"Програм 5.  Развој пољопривреде","п5","0101-0001  Унапређење  услова за пољопривредну делатност","0101-0002  Подстицаји пољопривредној производњи","0101-0003  Рурални развој",{"$nulls":50},413100,"Накнаде у натури",{"$nulls":11},400,"ЕКОНОМСКИ ПОСЛОВИ",{"$nulls":5},485,"Накнада штете за повреде или штету нанету од стране државних органа",485,{"$nulls":9},410,"Општи економски и комерцијални послови и послови по питању рада",null,null,"420 - Пољопривреда, шумарство, лов и риболов",{"$nulls":16},"Након попуњеног описног дела и дела везаног за циљеве и индикаторе, део обрасца који се односи на издатке и изворе финансирања попуњавати тако што се прво уносе шифре конта на шестоцифреном нивоу, тиме се аутоматски учитава назив конта из Правилника о стандардном класификационом оквиру и контном плану за буџетски систем((\"Службени гласник РС\", бр. 103/2011, 10/2012, 18/2012, 95/2012, 99/2012, 22/2013, 48/2013, 61/2013, 63/2013 - испр., 106/2013, 120/2013, 20/2014, 64/2014, 81/2014, 117/2014, 128/2014, 131/2014, 32/2015, 59/2015 и 63/2015)."]
[null,"Програм 6.  Заштита животне средине","п6","0401-0001  Управљање заштитом животне средине и природних вредности","0401-0002  Управљање комуналним отпадом","0401-0003  Праћење квалитета елемената животне средине","0401-0004  Заштита природних вредности и унапређење подручја са природним својствима",{"$nulls":49},413110,"Накнаде у натури",{"$nulls":11},410,"Општи економски и комерцијални послови и послови по питању рада",{"$nulls":5},489,"Расходи који се финансирају из средстава за реализацију националног инвестиционог плана",489,{"$nulls":9},411,"Општи економски и комерцијални послови",null,null,"421 - Пољопривреда",{"$nulls":16},"У матрици су унети међузбирови на нивоу група (троцифрени ниво) са слободним редовима за унос расхода и издатака по намени, како би се крисницима олакшао и убрзао процес попуњавања, међутим, у овом делу обрасца је могуће додадавати и брисати/сакривати редове и подешавати формулу збира по годинама (ред 198.) у складу са потребама тј комплексношћу финансијског плана буџетског корисниника. Уколико се модификује формула збира потребно је пажљиво проверити жељени обухват формуле."]
[null,"Програм 7.  Путна инфраструктура","п7","0701-0001  Управљање саобраћајном инфраструктуром","0701-0002  Одржавање путева",{"$nulls":51},413111,"Оброци (храна)",{"$nulls":11},411,"Општи економски и комерцијални послови",{"$nulls":5},494,"Административни трансфери из буџета - Текући расходи",494,{"$nulls":9},412,"Општи послови по питању рада",null,null,"422 - Шумарство",{"$nulls":16},"Брисање колона није дозвољено.  За извор финансирања у падајућем менију изаберите из којих извора се финансира програмска активност. Ради лакшег рада можете мењати називе радних листова."]
[null,"Програм 8.  Предшколско васпитање","п8","2001-0001  Функционисање предшколских установа ",{"$nulls":52},413112,"Пиће",{"$nulls":11},412,"Општи послови по питању рада",{"$nulls":5},495,"Административни трансфери из буџета - Издаци за нефинансијску имовину",495,{"$nulls":9},420,"Пољопривреда, шумарство, лов и риболов",null,null,"423 - Лов и риболов"]
[null,"Програм 9.  Основно образовање","п9","2002-0001  Функционисање основних школа",{"$nulls":52},413119,"Остале накнаде у натури у смислу заштите здравља запослених",{"$nulls":11},420,"Пољопривреда, шумарство, лов и риболов",{"$nulls":5},496,"Административни трансфери из буџета - Издаци за отплату главнице и набавку финансијске имовине",496,{"$nulls":9},421,"Пољопривреда",null,null,"430 - Гориво и енергија",{"$nulls":16},"3) За пројекте: у ћелији \"Е5\" упишите шифру пројекта у формату П1,П2,П3...итд у зависности од редоследа пројеката у оквиру програма. Поступак попуњавања дела који се односи на трошкове и изворе финансирања је идентичан као и код програмске активности."]
[null,"Програм 10.  Средње образовање","п10","2003-0001  Функционисање средњих школа",{"$nulls":52},413120,"Обезбеђивање стамбеног простора запосленима",{"$nulls":11},421,"Пољопривреда",{"$nulls":5},499,"Административни трансфери из буџета - Средства резерве",499,{"$nulls":9},422,"Шумарство",null,null,"431 - Угаљ и остала чврста минерална горива"]
[null,"Програм 11.  Социјална и дечја заштита","п11","0901-0001  Социјалне помоћи","0901-0002  Прихватилишта, прихватне станице и друге врсте смештаја ","0901-0003  Подршка социо-хуманитарним организацијама","0901-0004  Саветодавно-терапијске и социјално-едукативне услуге","0901-0005  Активности Црвеног крста","0901-0006  Дечја заштита",{"$nulls":47},413121,"Обезбеђивање стамбеног простора запосленима",{"$nulls":11},422,"Шумарство",{"$nulls":5},511,"Зграде и грађевински објекти",511,{"$nulls":9},423,"Лов и риболов",null,null,"432 - Нафта и природни гас",{"$nulls":15},"V","ПОПУЊАВАЊЕ ЗАХТЕВА ЗА ДОДАТНА СРЕДСТВА"]
[null,"Програм 12.  Примарна здравствена заштита","п12","1801-0001  Функционисање установа примарне здравствене заштите",{"$nulls":52},413130,"Дуготрајна роба",{"$nulls":11},423,"Лов и риболов",{"$nulls":5},512,"Машине и опрема",512,{"$nulls":9},430,"Гориво и енергија",null,null,"433 - Нуклеарно гориво",{"$nulls":16},"Уколико одобреним лимитом буџетском кориснику недостају средства за одређене програмске активности односно пројекте, за  програмску активност/пројекат за који се траже додатна средства ископирати потребан радни лист (у зависности од тога да ли се ради о програмској активности или пројекту) као што је објашњено у Одељку II  - Копирање потребног броја Sheet-ова за програмске активности и пројекте, а затим у ископираном радном листу у наслову обрасца (ред 2.) из падајуће листе изабрати други наслов односно програмска активност/пројекат - Захтев за додатна средства. На овај начин у радном листу \"Програм\" у списку програмских активности и пројеката биће посебно приказани захтеви за додатним средствима за програмске активности и пројекте за износе преко одобреног лимита."]
[null,"Програм 13.  Развој културе","п13","1201-0001  Функционисање локалних установа културе ","1201-0002  Подстицаји културном и уметничком стваралаштву",{"$nulls":51},413131,"Возила за приватне и пословне потребе",{"$nulls":11},430,"Гориво и енергија",{"$nulls":5},513,"Остале некретнине и опрема",513,{"$nulls":9},431,"Угаљ и остала чврста минерална горива",null,null,"434 - Остала горива"]
[null,"Програм 14.  Развој спорта и омладине","п14","1301-0001  Подршка локалним спортским организацијама, удружењима и савезима","1301-0002  Подршка предшколском, школском и рекреативном спорту и масовној физичкој култури","1301-0003  Одржавање спортске инфраструктуре",{"$nulls":50},413139,"Остала дуготрајна роба",{"$nulls":11},431,"Угаљ и остала чврста минерална горива",{"$nulls":5},514,"Култивисана имовина",514,{"$nulls":9},432,"Нафта и природни гас",null,null,"435 - Електрична енергија",{"$nulls":15},"VI ","ЗАШТИТА ФОРМУЛА И ВАЛИДАЦИЈА ПОДАТАКА"]
[null,"Програм 15.  Локална самоуправа","п15","0602-0001  Функционисање локалне самоуправе и градских општина","0602-0002  Месне заједнице","0602-0003  Управљање јавним дугом","0602-0004  Општинско јавно правобранилаштво","0602-0005  Заштитник грађана","0602-0006  Информисање","0602-0007  Канцеларија за младе","0602-0008  Програми националних мањина","0602-0009  Правна помоћ","0602-0010  Резерве",{"$nulls":43},413140,"Роба и услуге које обезбеђује послодавац",{"$nulls":11},432,"Нафта и природни гас",{"$nulls":5},515,"Нематеријална имовина",515,{"$nulls":9},433,"Нуклеарно гориво",null,null,"436 - Остала енергија",{"$nulls":16},"Одређени број ћелија у документу је заштићен од измена како би се заштитиле кључне формуле и процедуре документа. Sheet- ове је могуће откључати опцијом \"Unprotect Sheet\" чиме се могу вршити неограничене измене.  \"Sheet\" \"Упутство\" се не сме брисати."]
[{"$nulls":56},413141,"Одмаралишта, спортски и рекреациони објекти",{"$nulls":11},433,"Нуклеарно гориво",{"$nulls":5},521,"Робне резерве",521,{"$nulls":9},434,"Остала горива",null,null,"440 - Рударство, производња и изградња"]
[{"$nulls":56},413142,"Поклони за децу запослених",{"$nulls":11},434,"Остала горива",{"$nulls":5},522,"Залихе производње",522,{"$nulls":9},435,"Електрична енергија",null,null,"441 - Ископавање минералних ресурса, изузев минералних горива"]
[{"$nulls":56},413150,"Превоз на посао и са посла (маркица)",{"$nulls":11},435,"Електрична енергија",{"$nulls":5},523,"Залихе робе за даљу продају",523,{"$nulls":9},436,"Остала енергија",null,null,"442 - Производња"]
["Сектори",{"$nulls":55},413151,"Превоз на посао и са посла (маркица)",{"$nulls":11},436,"Остала енергија",{"$nulls":5},531,"Драгоцености",531,{"$nulls":9},440,"Рударство, производња и изградња",null,null,"443 - Изградња"]
["Сектор_1__Пољопривреда_и_рурални_развој","Програм_5__Развој_пољопривреде",{"$nulls":54},413160,"Паркирање",{"$nulls":11},440,"Рударство, производња и изградња",{"$nulls":5},541,"Земљиште",541,{"$nulls":9},441,"Ископавање минералних ресурса, изузев минералних горива",null,null,"450 - Саобраћај"]
["Сектор_4__Заштита_животне_средине","Програм_6__Заштита_животне_средине",{"$nulls":54},413161,"Паркирање",{"$nulls":11},441,"Ископавање минералних ресурса, изузев минералних горива",{"$nulls":5},542,"Рудна богатства",542,{"$nulls":9},442,"Производња",null,null,"451 - Друмски саобраћај"]
["Сектор_6__Опште_услуге_јавне_управе","Програм_2__Комунална_делатност","Програм_15__Локална_самоуправа",{"$nulls":53},413170,"Дечији вртић који плаћа послодавац",{"$nulls":11},442,"Производња",{"$nulls":5},543,"Шуме и воде",543,{"$nulls":9},443,"Изградња",null,null,"452 - Водени саобраћај"]
["Сектор_7__Саобраћај_и_саобраћајна_инфраструктура","Програм_7__Путна_инфраструктура",{"$nulls":54},413171,"Дечији вртић који плаћа послодавац",{"$nulls":11},443,"Изградња",{"$nulls":5},551,"Нефинансијска имовина која се финансира из средстава за реализацију националног инвестиционог плана",551,{"$nulls":9},450,"Саобраћај",null,null,"453 - Железнички саобраћај"]
["Сектор_9__Социјална_заштита","Програм_11__Социјална_и_дечја_заштита",{"$nulls":54},413180,"Износ разлике између редовне и снижене каматне стопе код давања кредита запосленима",{"$nulls":11},450,"Саобраћај",{"$nulls":5},611,"Отплата главнице домаћим кредиторима",611,{"$nulls":9},451,"Друмски саобраћај",null,null,"454 - Ваздушни саобраћај"]
["Сектор_11__Урбанизам_и_просторно_планирање","Програм_1__Локални_развој_и_просторно_планирање",{"$nulls":54},413181,"Износ разлике између редовне и снижене каматне стопе код давања кредита запосленима",{"$nulls":11},451,"Друмски саобраћај",{"$nulls":5},620,"Набавка финансијске имовине",620,{"$nulls":9},452,"Водени саобраћај",null,null,"455 - Цевоводи и други облици саобраћаја"]
["Сектор_12__Култура_комуникације_и_медији","Програм_13__Развој_културе",{"$nulls":54},414000,"Социјална давања запосленима",{"$nulls":11},452,"Водени саобраћај",{"$nulls":17},453,"Железнички саобраћај",null,null,{"$f":"CK66&\" - \"&CL66","v":"460 - Комуникације"}]
["Сектор_13__Спорт_и_омладина","Програм_14__Развој_спорта_и_омладине",{"$nulls":54},414100,"Исплата накнада за време одсуствовања с посла на терет фондова",{"$nulls":11},453,"Железнички саобраћај",{"$nulls":17},454,"Ваздушни саобраћај",null,null,"470 - Остале делатности"]
["Сектор_15__Економска_и_развојна_политика","Програм_3__Локални_економски_развој","Програм_4__Развој_туризма",{"$nulls":53},414110,"Породиљско боловање",{"$nulls":11},454,"Ваздушни саобраћај",{"$nulls":17},455,"Цевоводи и други облици саобраћаја",null,null,"471 - Трговина, смештај и складиштење"]
["Сектор_18__Здравство","Програм_12__Примарна_здравствена_заштита",{"$nulls":54},414111,"Породиљско боловање",{"$nulls":11},455,"Цевоводи и други облици саобраћаја",{"$nulls":17},460,"Комуникације",null,null,"472 - Хотели и ресторани"]
["Сектор_20__Образовање","Програм_8__Предшколско_васпитање","Програм_9__Основно_образовање","Програм_10_Средње_образовање",{"$nulls":52},414120,"Боловање преко 30 дана",{"$nulls":11},460,"Комуникације",{"$nulls":17},470,"Остале делатности",null,null,"473 - Туризам"]
[{"$nulls":56},414121,"Боловање преко 30 дана",{"$nulls":11},470,"Остале делатности",{"$nulls":17},471,"Трговина, смештај и складиштење",null,null,"474 - Вишенаменски развојни пројекти"]
[{"$nulls":56},414130,"Инвалидност рада другог степена",{"$nulls":11},471,"Трговина, смештај и складиштење",{"$nulls":17},472,"Хотели и ресторани",null,null,"480 - Економски послови -  истраживање и развој"]
[{"$nulls":56},414131,"Инвалидност рада другог степена",{"$nulls":11},472,"Хотели и ресторани",{"$nulls":17},473,"Туризам",null,null,"481 - Истраживање и развој - Општи економски и комерцијални послови и послови по питању рада"]
[{"$nulls":56},414200,"Расходи за образовање деце запослених",{"$nulls":11},473,"Туризам",{"$nulls":17},474,"Вишенаменски развојни пројекти",null,null,"482 - Истраживање и развој - Пољопривреда, шумарство, лов и риболов"]
[{"$nulls":56},414210,"Расходи за образовање деце запослених",{"$nulls":11},474,"Вишенаменски развојни пројекти",{"$nulls":17},480,"Економски послови -  истраживање и развој",null,null,"483 - Истраживање и развој - Гориво и енергија"]
[{"$nulls":56},414211,"Расходи за образовање деце запослених",{"$nulls":11},480,"Економски послови -  истраживање и развој",{"$nulls":17},481,"Истраживање и развој - Општи економски и комерцијални послови и послови по питању рада",null,null,"484 - Истраживање и развој - Рударство, производња и изградња"]
[{"$nulls":56},414300,"Отпремнине и помоћи",{"$nulls":11},481,"Истраживање и развој - Општи економски и комерцијални послови и послови по питању рада",{"$nulls":17},482,"Истраживање и развој - Пољопривреда, шумарство, лов и риболов",null,null,"485 - Истраживање и развој - Саобраћај"]
[{"$nulls":56},414310,"Отпремнине и помоћи",{"$nulls":11},482,"Истраживање и развој - Пољопривреда, шумарство, лов и риболов",{"$nulls":17},483,"Истраживање и развој - Гориво и енергија",null,null,"486 - Истраживање и развој - Комуникације"]
["1101","ПГ_1",null,"Развој локалне заједнице у складу са усвојеном стратегијом развоја ","Повећање покривености територије планском документацијом",{"$nulls":51},414311,"Отпремнина приликом одласка у пензију",{"$nulls":11},483,"Истраживање и развој - Гориво и енергија",{"$nulls":17},484,"Истраживање и развој - Рударство, производња и изградња",null,null,"487 - Истраживање и развој - Остале делатности"]
["0601","ПГ_2",null,"Адекватан квалитет пружених услуга комуналне делатности","Ефикасно и рационално спровођење комуналне делатности",{"$nulls":51},414312,"Отпремнина у случају отпуштања с посла",{"$nulls":11},484,"Истраживање и развој - Рударство, производња и изградња",{"$nulls":17},485,"Истраживање и развој - Саобраћај",null,null,"490 - Економски послови некласификовани на другом месту"]
["1501","ПГ_3",null,"Повећање запослености на територији града/општине","Повећање просечне зараде на територији града/општине","Отварање нових предузећа и предузетничких радњи на  \nтериторији града/општине ",{"$nulls":50},414314,"Помоћ у случају смрти запосленог или члана уже породице",{"$nulls":11},485,"Истраживање и развој - Саобраћај",{"$nulls":17},486,"Истраживање и развој - Комуникације",null,null,"500 - ЗАШТИТА ЖИВОТНЕ СРЕДИНЕ"]
["1502","ПГ_4",null,"Повећање прихода од туризма  ","Повећање смештајних капацитета туристичке понуде",{"$nulls":51},414400,"Помоћ у медицинском лечењу запосленог или чланова уже породице и друге помоћи запосленом",{"$nulls":11},486,"Истраживање и развој - Комуникације",{"$nulls":17},487,"Истраживање и развој - Остале делатности",null,null,"510 - Управљање отпадом"]
["0101","ПГ_5",null,"Спровођење усвојене пољопривредне политике и политике руралног развоја на подручју града/општине",{"$nulls":52},414410,"Помоћ у медицинском лечењу запосленог или чланова уже породице и друге помоћи запосленом",{"$nulls":11},487,"Истраживање и развој - Остале делатности",{"$nulls":17},490,"Економски послови некласификовани на другом месту",null,null,"520 - Управљање отпадним водама"]
["0401","ПГ_6",null,"Унапређење  квалитета животне  средине",{"$nulls":52},414411,"Помоћ у медицинском лечењу запосленог или члана уже породице",{"$nulls":11},490,"Економски послови некласификовани на другом месту",{"$nulls":17},500,"ЗАШТИТА ЖИВОТНЕ СРЕДИНЕ",null,null,"530 - Смањење загађености"]
["0701","ПГ_7",null,"Развијеност инфраструктуре у контексту доприноса социо економском развоју","Повећање безбедности учесника у саобраћају и смањење броја саобраћајних незгода",{"$nulls":51},414412,"Помоћ у случају оштећења или уништења имовине",{"$nulls":11},500,"ЗАШТИТА ЖИВОТНЕ СРЕДИНЕ",{"$nulls":17},510,"Управљање отпадом",null,null,"540 - Заштита биљног и животињског света  и крајолика"]
["2001","ПГ_8",null,"Повећање  обухвата деце предшколским васпитањем  и  образовањем","Унапређење доступности предшколског васпитања за децу из осетљивих група ",{"$nulls":51},414419,"Остале помоћи запосленим радницима",{"$nulls":11},510,"Управљање отпадом",{"$nulls":17},520,"Управљање отпадним водама",null,null,"550 - Заштита животне средине -  истраживање и развој"]
["2002","ПГ_9",null,"Потпуни обухват основним  образовањем и васпитањем","Унапређење доступности основног образовања деци из осетљивих група","Унапређен квалитет основног образовања",{"$nulls":50},415000,"Накнаде трошкова за запослене",{"$nulls":11},520,"Управљање отпадним водама",{"$nulls":17},530,"Смањење загађености",null,null,"560 - Заштита животне средине некласификована на другом месту"]
["2003","ПГ_10",null,"Повећање обухвата средњошколског образовања  ","Унапређење доступности средњег образовања",{"$nulls":51},415100,"Накнаде трошкова за запослене",{"$nulls":11},530,"Смањење загађености",{"$nulls":17},540,"Заштита биљног и животињског света  и крајолика",null,null,"600 - ПОСЛОВИ СТАНОВАЊА И  ЗАЈЕДНИЦЕ"]
["0901","ПГ_11",null,"Јачање локалних ресурса за имплементацију стратегије развоја система социјалне заштите","Развој услуга социјалне заштите које су у мандату града / општине којима се доприноси унапређењу положаја грађана који припадају угроженим групама ","Унапређење положаја грађана који припадају угроженим групама обезбеђивањем мера материјалне подршке ",{"$nulls":50},415110,"Накнаде трошкова за запослене",{"$nulls":11},540,"Заштита биљног и животињског света  и крајолика",{"$nulls":17},550,"Заштита животне средине -  истраживање и развој",null,null,"610 - Стамбени развој"]
["1801","ПГ_12",null,"Унапређење квалитета живота становника града/општине ","Унапређење партнерства за здравље","Унапређење заштите права пацијената",{"$nulls":50},415111,"Накнаде трошкова за одвојен живот од породице",{"$nulls":11},550,"Заштита животне средине -  истраживање и развој",{"$nulls":17},560,"Заштита животне средине некласификована на другом месту",null,null,"620 - Развој заједнице"]
["1201","ПГ_13",null,"Подстицање развоја културе кроз јачање капацитета културне инфраструктуре","Унапређење очувања културно-историјског наслеђа",{"$nulls":51},415112,"Накнаде трошкова за превоз на посао и са посла",{"$nulls":11},560,"Заштита животне средине некласификована на другом месту",{"$nulls":17},600,"ПОСЛОВИ СТАНОВАЊА И  ЗАЈЕДНИЦЕ",null,null,"630 - Водоснабдевање"]
["1301","ПГ_14",null,"Планско подстицање и креирање услова за бављење спортом свих грађана и  грађанки  града/општине","Развој и сповођење омладинске политике","Активно партнерство субјеката омладинске политике у развоју омладинске политике и спровођењу омладинских активности, као и у развоју и спровођењу локалних политика које се тичу младих",{"$nulls":50},415113,"Накнаде трошкова за смештај изабраних, постављених и именованих лица",{"$nulls":11},600,"ПОСЛОВИ СТАНОВАЊА И  ЗАЈЕДНИЦЕ",{"$nulls":17},610,"Стамбени развој",null,null,"640 - Улична расвета"]
["0602","ПГ_15",null,"Одрживо управно и финансијско функционисање града/општине у складу надлежностима и пословима локалне самоуправе",{"$nulls":52},415114,"Накнаде за селидбене трошкове запослених",{"$nulls":11},610,"Стамбени развој",{"$nulls":17},620,"Развој заједнице",null,null,"650 - Послови становања и заједнице - истраживање и развој"]
[{"$nulls":56},415119,"Остале накнаде трошкова запослених",{"$nulls":11},620,"Развој заједнице",{"$nulls":17},630,"Водоснабдевање",null,null,"660 - Послови становања и заједнице некласификовани на другом месту"]
[{"$nulls":56},416000,"Награде запосленима и остали посебни расходи",{"$nulls":11},630,"Водоснабдевање",{"$nulls":17},640,"Улична расвета",null,null,"700 - ЗДРАВСТВО"]
["Развој локалне заједнице у складу са усвојеном стратегијом развоја ","ПГЦ_1","Усвојена стратегија развоја локалне заједнице","Проценат остварења мера (циљева) усвојене стратегије развоја      ",{"$nulls":52},416100,"Награде запосленима и остали посебни расходи",{"$nulls":11},640,"Улична расвета",{"$nulls":17},650,"Послови становања и заједнице - истраживање и развој",null,null,"710 - Медицински производи, помагала и опрема"]
["Повећање покривености територије планском документацијом","ПГЦ_2","Проценат покривености територије планском документацијом","Проценат грађевинског земљишта потпуно опремљеног комуналном инфраструктуром ",{"$nulls":52},416110,"Награде запосленима",{"$nulls":11},650,"Послови становања и заједнице - истраживање и развој",{"$nulls":17},660,"Послови становања и заједнице некласификовани на другом месту",null,null,"711 - Фармацеутски производи"]
["Адекватан квалитет пружених услуга комуналне делатности","ПГЦ_3","Укупан број притужби грађана на услуге комуналне делатности (достављених комуналном предузећу или комуналној  инспекцији)","Укупан број притужби привредних субјеката на услуге комуналне делатности достављених комуналном предузећу или комуналној  инспекцији)","Степен задовољства квалитетом рада ЈКП",{"$nulls":51},416111,"Јубиларне награде",{"$nulls":11},660,"Послови становања и заједнице некласификовани на другом месту",{"$nulls":17},700,"ЗДРАВСТВО",null,null,{"$f":"CK98&\" - \"&CL98","v":"712 - Остали медицински производи"}]
["Ефикасно и рационално спровођење комуналне делатности","ПГЦ_4","Степен наплате комуналних услуга (изражен у %)","Проценат од укупног броја јавних комуналних  предузећа  која остварују позитиван резултат у односу на укупан број ЈКП",{"$nulls":52},416112,"Награде за посебне резултате рада",{"$nulls":11},700,"ЗДРАВСТВО",{"$nulls":17},710,"Медицински производи, помагала и опрема",null,null,"713 - Терапеутска помагала и опрема"]
["Повећање запослености на територији града/општине","ПГЦ_5","Број становника града/општине који су запослени на новим радним местима, а налазили су се на евиденцији НСЗ (разврстаних  по полу и старости)","Број евидентираних незапослених лица на евиденцији НСЗ (разврстаних по полу и старости)",{"$nulls":52},416119,"Остале награде запосленима",{"$nulls":11},710,"Медицински производи, помагала и опрема",{"$nulls":17},711,"Фармацеутски производи",null,null,"720 - Ванболничке услуге"]
["Повећање просечне зараде на територији града/општине","ПГЦ_6","Просечна бруто плате на годишњем нивоу ",{"$nulls":53},416120,"Бонуси",{"$nulls":11},711,"Фармацеутски производи",{"$nulls":17},712,"Остали медицински производи",null,null,"721 - Опште медицинске услуге"]
["Отварање нових предузећа и предузетничких радњи на  \nтериторији града/општине ","ПГЦ_7","Број отворених  / број затворених предузећа","Број отворених/затворених предузетничких радњи ","Број предузетника/предузетница по становнику у граду/општини у односу на просек РС","Број предузетничких радњи активних након прве две године од оснивања;",{"$nulls":50},416121,"Бонуси за државне празнике",{"$nulls":11},712,"Остали медицински производи",{"$nulls":17},713,"Терапеутска помагала и опрема",null,null,"722 - Специјализоване медицинске услуге"]
["Повећање прихода од туризма  ","ПГЦ_8","Проценат повећања броја ноћења","Проценат повећања укупног броја гостију","Пораст/смањење прихода од боравишне таксе",{"$nulls":51},416130,"Накнаде члановима управних, надзорних одбора и комисија",{"$nulls":11},713,"Терапеутска помагала и опрема",{"$nulls":17},720,"Ванболничке услуге",null,null,"723 - Стоматолошке услуге"]
["Повећање смештајних капацитета туристичке понуде","ПГЦ_9","Проценат смањења/пораста регистрованих пружалаца услуга ноћења у граду/општини","Број регистрованих соба/кревета ",{"$nulls":52},416131,"Накнаде члановима управних и надзорних одбора",{"$nulls":11},720,"Ванболничке услуге",{"$nulls":17},721,"Опште медицинске услуге",null,null,"724 - Парамедицинске услуге"]
["Спровођење усвојене пољопривредне политике и политике руралног развоја на подручју града/општине","ПГЦ_10","Коришћење пољопривредних површина у односу на укупне пољопривредне површине","Проценат остварења мера (циљева) усвојене стратегије развоја    ","Број регистрованих пољопривредних газдинстава ",{"$nulls":51},416132,"Накнаде члановима комисија",{"$nulls":11},721,"Опште медицинске услуге",{"$nulls":17},722,"Специјализоване медицинске услуге",null,null,"730 - Болничке услуге"]
["Унапређење  квалитета животне  средине","ПГЦ_11","Проценат територије под заштитом",{"$nulls":53},417000,"Посланички додатак",{"$nulls":11},722,"Специјализоване медицинске услуге",{"$nulls":17},723,"Стоматолошке услуге",null,null,"731 - Опште болничке услуге"]
["Развијеност инфраструктуре у контексту доприноса социо економском развоју","ПГЦ_12","Дужина изграђених саобраћајница које су у надлежности града/општине (у км) ","Повећање просечне густине мреже улица и локалних путева (однос површине града/општине и км изграђене саобраћајне мреже)",{"$nulls":52},417100,"Посланички додатак",{"$nulls":11},723,"Стоматолошке услуге",{"$nulls":17},724,"Парамедицинске услуге",null,null,"732 - Специјализоване болничке услуге"]
["Повећање безбедности учесника у саобраћају и смањење броја саобраћајних незгода","ПГЦ_13","Број саобраћајних незгода/инцидената","Број смртних исхода","Број повређених људи",{"$nulls":51},417110,"Посланички додатак",{"$nulls":11},724,"Парамедицинске услуге",{"$nulls":17},730,"Болничке услуге",null,null,"733 - Услуге медицинских центара и породилишта"]
["Повећање  обухвата деце предшколским васпитањем  и  образовањем","ПГЦ_14","Број деце која су уписана у предшколске установе у односу на укупан број деце у граду/општини (јаслена група, предшколска група и ППП)"," Број уписане деце у односу на број укупно пријављене деце ",{"$nulls":52},417111,"Посланички додатак",{"$nulls":11},730,"Болничке услуге",{"$nulls":17},731,"Опште болничке услуге",null,null,"734 - Услуге домова  за негу и опоравак"]
["Унапређење доступности предшколског васпитања за децу из осетљивих група ","ПГЦ_15","Поценат деце са додатним образовним потребама која су укључена у редовне  програме ПОВ у односу на укупан број деце.  ","Проценат објеката који су прилагодили простор за децу са инвалидитетом у односу на укупан број објеката ПУ ",{"$nulls":52},418000,"Судијски додатак",{"$nulls":11},731,"Опште болничке услуге",{"$nulls":17},732,"Специјализоване болничке услуге",null,null,"740 - Услуге јавног здравства"]
["Потпуни обухват основним  образовањем и васпитањем","ПГЦ_16","Обухват деце основним образовањем (разложено према полу)  ","Стопа прекида основног образовања (разложено према полу)",{"$nulls":52},418100,"Судијски додатак",{"$nulls":11},732,"Специјализоване болничке услуге",{"$nulls":17},733,"Услуге медицинских центара и породилишта",null,null,"750 - Здравство  истраживање и развој"]
["Унапређење доступности основног образовања деци из осетљивих група","ПГЦ_17","Проценат деце која се школују у редовним основним школама на основу индивидуалног образовног плана ( ИОП2 ) у односу на укупан број деце одговарајуће старосне групе","Број објеката који су прилагодили простор за децу  са инвалидитетом у односу на укупан број објеката основних школа ",{"$nulls":52},418110,"Судијски додатак",{"$nulls":11},733,"Услуге медицинских центара и породилишта",{"$nulls":17},734,"Услуге домова  за негу и опоравак",null,null,"760 - Здравство некласификовано на другом месту"]
["Унапређен квалитет основног образовања","ПГЦ_18","Просечан број поена на матурском испиту (математика/српски/ општи","Проценат ученика који је учествовао на републичким такмичењима",{"$nulls":52},418111,"Судијски додатак",{"$nulls":11},734,"Услуге домова  за негу и опоравак",{"$nulls":17},740,"Услуге јавног здравства",null,null,"800 - РЕКРЕАЦИЈА, СПОРТ, КУЛТУРА И ВЕРЕ"]
["Повећање обухвата средњошколског образовања  ","ПГЦ_19","Број деце која су обухваћена средњим образовањем (разложен по разредима и полу) ","Стопа прекида средњег образовања (разложено према полу)",{"$nulls":52},420000,"Коришћење услуга и роба",{"$nulls":11},740,"Услуге јавног здравства",{"$nulls":17},750,"Здравство  истраживање и развој",null,null,"810 - Услуге рекреације и спорта"]
["Унапређење доступности средњег образовања","ПГЦ_20","Број објеката који су прилагодили простор за децу  са инвалидитетом у односу на укупан број објеката средњих школа","Проценат деце која се школују у средњим школама на основу индивидуалног образовног плана ( ИОП2 ) у односу на укупан број деце одговарајуће старосне групе",{"$nulls":52},421000,"Стални трошкови",{"$nulls":11},750,"Здравство  истраживање и развој",{"$nulls":17},760,"Здравство некласификовано на другом месту",null,null,"820 - Услуге културе"]
["Јачање локалних ресурса за имплементацију стратегије развоја система социјалне заштите","ПГЦ_21","Проценат корисника мера и услуга социјалне заштите обухваћених Одлуком о правима и облицима социјалне заштите који се финансирају из буџета града/општине у односу на број становника","Број стручних радника у ЦСР који се финансирају из локалног буџета","Број лиценираних пружалаца услуге ( односно број пружалаца услуге који су поднели захтев за лиценцирања МИНРЗБСП) ",{"$nulls":51},421100,"Трошкови платног промета и банкарских услуга",{"$nulls":11},760,"Здравство некласификовано на другом месту",{"$nulls":17},800,"РЕКРЕАЦИЈА, СПОРТ, КУЛТУРА И ВЕРЕ",null,null,"830 - Услуге емитовања и штампања"]
["Развој услуга социјалне заштите које су у мандату града / општине којима се доприноси унапређењу положаја грађана који припадају угроженим групама ","ПГЦ_22","Број ванинституционалних услуга социјалне заштите ","Укупан број корисника ванинституционалних услуга социјалне заштите ","Број права на услуге из социјалне заштите дефинисаних Одлуком о социјалној заштити, које пружа град/општина",{"$nulls":51},421110,"Трошкови платног промета",{"$nulls":11},800,"РЕКРЕАЦИЈА, СПОРТ, КУЛТУРА И ВЕРЕ",{"$nulls":17},810,"Услуге рекреације и спорта",null,null,"840 - Верске  и остале услуге заједнице"]
["Унапређење положаја грађана који припадају угроженим групама обезбеђивањем мера материјалне подршке ","ПГЦ_23","Број мера материјалне подршке грађанима предвиђених Одлуком о социјалној заштити ","% (или номинални износ) буџетских издвајања за мере материјалне подршке грађанима ","Број грађана/ки корисника мера материјалне подршке обезбеђених средствимa локалног буџета ",{"$nulls":51},421111,"Трошкови платног промета",{"$nulls":11},810,"Услуге рекреације и спорта",{"$nulls":17},820,"Услуге културе",null,null,"850 - Рекреација, спорт, култура и вере  - истраживање и развој"]
["Унапређење квалитета живота становника града/општине ","ПГЦ_24","Очекивано трајање живота становника града/општине","Стопа перинаталне смртности и смртности одојчади (Дев инфо)","Специфичне стопе обољевања","Број лекара на 1.000 становника - здравствена заштита одраслог становништва","Проценат обухвата становника - број особа које су имале скрининг карцинома у односу на укупан број становника",{"$nulls":49},421120,"Трошкови банкарских услуга",{"$nulls":11},820,"Услуге културе",{"$nulls":17},830,"Услуге емитовања и штампања",null,null,"860 - Рекреација, спорт, култура и вере, некласификовано на другом месту"]
["Унапређење партнерства за здравље","ПГЦ_25","Број састанака локалног савета за здравље","Број усвојених и реализованих иницијатива ЛСЗ",{"$nulls":52},421121,"Трошкови банкарских услуга",{"$nulls":11},830,"Услуге емитовања и штампања",{"$nulls":17},840,"Верске  и остале услуге заједнице",null,null,"900 - ОБРАЗОВАЊЕ"]
["Унапређење заштите права пацијената","ПГЦ_26","Број оправданих у односу на укупан број приговора саветнику за заштиту права пацијената",{"$nulls":53},421200,"Енергетске услуге",{"$nulls":11},840,"Верске  и остале услуге заједнице",{"$nulls":17},850,"Рекреација, спорт, култура и вере  - истраживање и развој",null,null,"910 - Предшколско и основно образовање"]
["Подстицање развоја културе кроз јачање капацитета културне инфраструктуре","ПГЦ_27","Проценат обновљевних споменика културе у односу на укупан број споменика културе на годишњем нивоу","Број грађана у граду/општини у односу на укупан број установа културе","Укупан број посетилаца на свим културним догађајима  који су одржани",{"$nulls":51},421210,"Услуге за електричну енергију",{"$nulls":11},850,"Рекреација, спорт, култура и вере  - истраживање и развој",{"$nulls":17},860,"Рекреација, спорт, култура и вере, некласификовано на другом месту",null,null,"911 - Предшколско образовање"]
["Унапређење очувања културно-историјског наслеђа","ПГЦ_28","Проценат споменика културе код којих су на годишњем нивоу извршена инвестициона улагања у односу на укупан број споменика културе у надлежности града/општине","Покривеност непокретно-културних добара у надлежности града/општине комплетном пројектно-техничком документацијом за реконструкцију","Број реализованих програма популаризације културно-историјског наслеђа на нивоу локалне заједнице",{"$nulls":51},421211,"Услуге за електричну енергију",{"$nulls":11},860,"Рекреација, спорт, култура и вере, некласификовано на другом месту",{"$nulls":17},900,"ОБРАЗОВАЊЕ",null,null,"912 - Основно образовање"]
["Планско подстицање и креирање услова за бављење спортом свих грађана и  грађанки  града/општине","ПГЦ_29","Број спортских организација преко којих се остварује јавни интерес у области спорта","Проценат реализације мера и циљева  постојећег програма развоја спорта",{"$nulls":52},421220,"Трошкови грејања",{"$nulls":11},900,"ОБРАЗОВАЊЕ",{"$nulls":17},910,"Предшколско и основно образовање",null,null,"913 - Основно образовање са домом ученика"]
["Развој и сповођење омладинске политике","ПГЦ_30","Проценат реализације пројеката из ЛАП-а ","Број чланова удружења младих у односу на укупан број младих у граду/општини",{"$nulls":52},421221,"Природни гас",{"$nulls":11},910,"Предшколско и основно образовање",{"$nulls":17},911,"Предшколско образовање",null,null,"914 - Основно образовање са средњом школом"]
["Активно партнерство субјеката омладинске политике у развоју омладинске политике и спровођењу омладинских активности, као и у развоју и спровођењу локалних политика које се тичу младих","ПГЦ_31","Број подржаних пројеката (у области образовања, запошљавања, безбедности , здравља, социјалној укључености, културе, мобилности, акитвизма и информисаности младих) ","Укупан број (збир) удружења младих и удружења за младе у односу на укупан број младих у граду/општини","Број институција и организација са којима је остварено партнерство путем споразума о сарадњи","Основан волонтерски сервис и регистрован број волонтера",{"$nulls":50},421222,"Угаљ",{"$nulls":11},911,"Предшколско образовање",{"$nulls":17},912,"Основно образовање",null,null,"915 - Специјално основно образовање"]
["Одрживо управно и финансијско функционисање града/општине у складу надлежностима и пословима локалне самоуправе","ПГЦ_32","Суфицит или дефицит локалног буџета","Однос броја запослених у граду/општини и законом утврђеног максималног броја запослених","Број донетих  аката органа и служби града/општине","Број остварених услуга  градске/општинске управе (укупан број предмета који су у току, број решења, дозвола, потврда и других докумената издатих  физичким и правним лицима)",{"$nulls":50},421223,"Дрво",{"$nulls":11},912,"Основно образовање",{"$nulls":17},913,"Основно образовање са домом ученика",null,null,"916 - Основно образовање са средњом школом и домом ученика"]
[{"$nulls":56},421224,"Лож-уље",{"$nulls":11},913,"Основно образовање са домом ученика",{"$nulls":17},914,"Основно образовање са средњом школом",null,null,"920 - Средње образовање"]
[{"$nulls":56},421225,"Централно грејање",{"$nulls":11},914,"Основно образовање са средњом школом",{"$nulls":17},915,"Специјално основно образовање",null,null,"921 - Ниже средње образовање"]
[{"$nulls":56},421300,"Комуналне услуге",{"$nulls":11},915,"Специјално основно образовање",{"$nulls":17},916,"Основно образовање са средњом школом и домом ученика",null,null,{"$f":"CK130&\" - \"&CL130","v":"922 - Више средње образовање"}]
[{"$nulls":56},421310,"Услуге водовода и канализације",{"$nulls":11},916,"Основно образовање са средњом школом и домом ученика",{"$nulls":17},920,"Средње образовање",null,null,"923 - Средње образовање са домом ученика"]
[{"$nulls":56},421311,"Услуге водовода и канализације",{"$nulls":11},920,"Средње образовање",{"$nulls":17},921,"Ниже средње образовање",null,null,"930 - Више образовање"]
["1101-0001  Стратешко, просторно и урбанистичко планирање","ПА_1",null,"Израда планске и урбанистичке документације","Ефикасно администрирање захтева за издавање грађевинских дозвола (ефикасно издавање грађевинских дозвола)",{"$nulls":51},421320,"Услуге редовног одржавања и старања",{"$nulls":11},921,"Ниже средње образовање",{"$nulls":17},922,"Више средње образовање",null,null,"931 - Више образовање"]
["1101-0002  Уређивање грађевинског земљишта","ПА_2",null,"Опремање локација / зона за становање","Опремање локација / зона за привредну делатност","Опремање локација / зона јавне  намене",{"$nulls":50},421321,"Дератизација",{"$nulls":11},922,"Више средње образовање",{"$nulls":17},923,"Средње образовање са домом ученика",null,null,"932 - Више образовање са студентским домом"]
["0601-0001  Водоснабдевање","ПА_3",null,"Максимална могућа покривеност корисника и територије услугама водоснабдевања","Адекватан квалитет пружених услуга водоснабдевања","Ефикасно и рационално спровођење водоснабдевања",{"$nulls":50},421322,"Димњачарске услуге",{"$nulls":11},923,"Средње образовање са домом ученика",{"$nulls":17},930,"Више образовање",null,null,"940 - Високо образовање"]
["0601-0002  Управљање отпадним водама  ","ПА_4",null,"Максимална могућа покривеност корисника и територије услугама уклањања отпадних вода","Адекватан квалитет пружених услуга одвођења отпадних вода","Ефикасно и рационално спровођење уклањања отпадних вода и минималан негативан утицај на животну средину",{"$nulls":50},421323,"Услуга заштите имовине",{"$nulls":11},930,"Више образовање",{"$nulls":17},931,"Више образовање",null,null,"941 - Високо образовање - први степен"]
["0601-0003  Одржавање депонија","ПА_5",null,"Максимална могућа покривеност корисника и територије услугама уклањања чврстог отпада","Адекватан квалитет пружених услуга уклањања чврстог отпада","Ефикасно и рационално спровођење уклањања чврстог отпада и минималан негативан утицај на животну средину",{"$nulls":50},421324,"Одвоз отпада",{"$nulls":11},931,"Више образовање",{"$nulls":17},932,"Више образовање са студентским домом",null,null,"942 - Високо образовање -  други степен"]
["0601-0004  Даљинско грејање","ПА_6",null,"Оптимална покривеност корисника и територије услугама даљинског грејања и развој дистрибутивног система","Адекватан квалитет пружених услуга  даљинског грејања","Ефикасно и рационално спровођење  даљинског грејања и минималан негативан утицај на животну средину",{"$nulls":50},421325,"Услуге чишћења",{"$nulls":11},932,"Више образовање са студентским домом",{"$nulls":17},940,"Високо образовање",null,null,"950 - Образовање које није дефинисано нивоом"]
["0601-0005  Јавни превоз","ПА_7",null,"Максимална могућа покривеност корисника и територије услугама јавног превоза","Адекватан квалитет пружених услуга јавног превоза ","Ефикасно и рационално спровођење јавног превоза и минималан негативан утицај на животну средину",{"$nulls":50},421390,"Остале комуналне услуге",{"$nulls":11},940,"Високо образовање",{"$nulls":17},941,"Високо образовање - први степен",null,null,"960 - Помоћне услуге образовању"]
["0601-0006  Паркинг сервис","ПА_8",null,"Оптимална покривеност корисника и територије услугама паркинг сервиса","Адекватан квалитет пружених услуга паркинг сервиса","Ефикасно и рационално спровођење услуга паркинг сервиса и минималан негативан утицај на животну средину",{"$nulls":50},421391,"Допринос за коришћење градског земљишта и слично",{"$nulls":11},941,"Високо образовање - први степен",{"$nulls":17},942,"Високо образовање -  други степен",null,null,"970 - Образовање -  истраживање и развој"]
["0601-0007  Уређивање, одржавање и коришћење пијаца","ПА_9",null,"Оптимална покривеност корисника и територије услугама уређивања, одржавања и коришћења пијаца","Адекватан квалитет пружених услуга уређивања, одржавања и коришћења пијаца",{"$nulls":51},421392,"Допринос за коришћење вода",{"$nulls":11},942,"Високо образовање -  други степен",{"$nulls":17},950,"Образовање које није дефинисано нивоом",null,null,"980 - Образовање некласификовано на другом месту"]
["0601-0008  Јавна хигијена","ПА_10",null,"Максимална могућа покривеност насеља и територије услугама одржавања чистоће јавних површина","Адекватан квалитет пружених услуга одржавања чистоће јавних површина","Ефикасно и рационално спровођење одржавања чистоће јавних површина ",{"$nulls":50},421400,"Услуге комуникација",{"$nulls":11},950,"Образовање које није дефинисано нивоом",{"$nulls":17},960,"Помоћне услуге образовању"]
["0601-0009  Уређење и одржавање зеленила","ПА_11",null,"Максимална могућа покривеност насеља и територије услугама уређења и одржавања зеленила","Адекватан квалитет пружених услуга уређења и одржавања јавних зелених површина",{"$nulls":51},421410,"Телефони",{"$nulls":11},960,"Помоћне услуге образовању",{"$nulls":17},970,"Образовање -  истраживање и развој"]
["0601-0010  Јавна расвета","ПА_12",null,"Оптимална покривеност насеља и територије јавном расветом","Адекватан квалитет јавне расвете","Ефикасно и рационално спровођење јавне расвете и минималан негативан утицај на животну средину",{"$nulls":50},421411,"Телефон, телекс и телефакс",{"$nulls":11},970,"Образовање -  истраживање и развој",{"$nulls":17},980,"Образовање некласификовано на другом месту"]
["0601-0011  Одржавање гробаља и погребне услуге","ПА_13",null,"Оптимална покривеност територије града/општине одржавањем гробаља и погребним услугама","Адекватан квалитет пружених услуга одржавања гробаља и погребних услуга",{"$nulls":51},421412,"Интернет и слично",{"$nulls":11},980,"Образовање некласификовано на другом месту"]
["0601-0012  Одржавање стамбених зграда","ПА_14",null,"Подстицање одговорног управљања и одржавања стамбених зграда у етажном власништву",{"$nulls":52},421413,"Претплата на пејџер"]
["0601-0013  Ауто-такси превоз путника","ПА_15",null,"Обезбеђивање услова за пружање квалитетне услуге такси превоза",{"$nulls":52},421414,"Услуге мобилног телефона"]
["0601-0014  Остале комуналне услуге","ПА_16",null,"Обезбеђивање услова за задовољење других комуналних потреба грађана",{"$nulls":52},421419,"Остале услуге комуникације"]
["1501-0001  Подршка постојећој привреди","ПА_17",null,"Ефикаснија и ефективнија локална админстрација - унапређење административних процедура на локалном нивоу","Развој адекватних сервиса и услуга  за пружање подршке постојећој привреди","Коришћење ресурса града / општине у циљу промоције локалних предузећа и предузетника",{"$nulls":50},421420,"Услуге поште и доставе"]
["1501-0002  Унапређење привредног амбијента","ПА_18",null,"Ефикаснија и ефективнија локална админстрација - унапређење административних процедура на локалном нивоу ","Успостављање ефикасног механизма за привлачење директних инвестиција ",{"$nulls":51},421421,"Пошта"]
["1501-0003  Подстицаји за развој предузетништва","ПА_19",null,"Подстицаји града/општине за развој предузетништва (давање земљишта на коришћење под посебних условима, коришћење локалне инфраструктуре под посебним условима, ослобађање од појединих локалних такси, помоћ при припреми и писању пројеката малим предузећима ради добијања подстицаја итд.)",{"$nulls":52},421422,"Услуге доставе"]
["1501-0004  Одржавање економске инфраструктуре","ПА_20",null,"Успостављање функционалне  економске инфраструктуре ","Ревитализација браунфилд локација за покретање привредних активости",{"$nulls":51},421429,"Остале ПТТ услуге"]
["1501-0005  Финансијска подршка локалном економском развоју","ПА_21",null,"Успостављање механизама за финансијску подршку самозапошљавању","Успостављање механизама за финансијску подршку производним предузећима и предузетницима/предузетницама који послују на територији града/општине за развој нових производа и проширење производње",{"$nulls":51},421500,"Трошкови осигурања"]
["1502-0001  Управљање развојем туризма","ПА_22",null,"Повећање квалитета туристичке услуге на територији града/општине",{"$nulls":52},421510,"Осигурање имовине"]
["1502-0002  Туристичка промоција","ПА_23",null,"Адекватна промоција туристичке понуде града/општине на циљаним тржиштима",{"$nulls":52},421511,"Осигурање зграда"]
["0101-0001  Унапређење  услова за пољопривредну делатност","ПА_24",null,"Стварање услова за развој и унапређење пољопривредне производње на територији града/општине","Ефикасно управљање пољопривредним земљиштем ",{"$nulls":51},421512,"Осигурање возила"]
["0101-0002  Подстицаји пољопривредној производњи","ПА_25",null,"Изградња одрживог, ефикасаног и конкурентног пољопривредног сектора ",{"$nulls":52},421513,"Осигурање опреме"]
["0101-0003  Рурални развој","ПА_26",null,"Развој одговарајућих економских услова у сеоским срединама и подршка диверсификацији руралне економије",{"$nulls":52},421519,"Осигурање остале дугорочне имовине"]
["0401-0001  Управљање заштитом животне средине и природних вредности","ПА_27",null,"Испуњење обавеза у складу са законима у домену постојања стратешких и оперативних планова као и мера заштите",{"$nulls":52},421520,"Осигурање запослених"]
["0401-0002  Управљање комуналним отпадом","ПА_28",null,"Испуњење обавеза у складу са законима у домену постојања стратешких и оперативних планова као и мера забране и ограничења утицаја на животну средину","Спровођење редовних мерења на територији града/општине и испуњење обавеза у складу са законима.",{"$nulls":51},421521,"Осигурање запослених у случају несреће на раду"]
["0401-0003  Праћење квалитета елемената животне средине","ПА_29",null,"Праћење у складу са прописаним законским обавезама","Контрола квалитета  елемената животне средине","Спровођење редовних мерења на територији града/општине и испуњење обавеза у складу са законима ",{"$nulls":50},421522,"Здравствено осигурање запослених"]
["0401-0004  Заштита природних вредности и унапређење подручја са природним својствима","ПА_30",null,"Унапређење заштите природних вредности  ",{"$nulls":52},421523,"Осигурање од одговорности према трећим лицима"]
["0701-0001  Управљање саобраћајном инфраструктуром","ПА_31",null,"Повећање путне мреже и адекватна покривеност територије града/општине",{"$nulls":52},421600,"Закуп имовине и опреме"]
["0701-0002  Одржавање путева","ПА_32",null,"Одржавање квалитета путне мреже кроз реконструкцију и  редовно одржавање асфалтног покривача","Одржавање квалитета улица кроз реконструкцију и редовно одржавање асфалтног покривача","Опремање и одржавање саобраћајне сигнализације на путевима и улицама",{"$nulls":50},421610,"Закуп имовине"]
["2001-0001  Функционисање предшколских установа ","ПА_33",null,"Обезбеђени адекватни  услови за Васпитно-образовни рад са децом уз повећан обухват","Унапређење квалитета предшколског образовања и васпитања ","Одрживост функционисања предшколских установа у остваривању делатности предшколског васпитања и осталих делатности у ПУ у складу са законом ",{"$nulls":50},421611,"Закуп стамбеног простора"]
["2002-0001  Функционисање основних школа","ПА_34",null,"Обезбеђени прописани услови за васпитно-образовни рад са децом у основним школама ","Унапређење квалитета образовања и васпитања у основним школама","Повећање доступности и приступачности основног образовања деци ",{"$nulls":50},421612,"Закуп нестамбеног простора"]
["2003-0001  Функционисање средњих школа","ПА_35",null,"Обезбеђени прописани услови за васпитно-образовни рад у средњим школама и безбедно одвијање наставе","Унапређење квалитета образовања у средњим школама",{"$nulls":51},421619,"Закуп осталог простора"]
["0901-0001  Социјалне помоћи","ПА_36",null,"Унапређење заштите сиромашних ","Побољшање социјално-економских услова живота грађана који припадају посебно осетљивим социјаним групама ",{"$nulls":51},421620,"Закуп опреме"]
["0901-0002  Прихватилишта, прихватне станице и друге врсте смештаја ","ПА_37",null,"Подршка спровођењу и развоју дневних услуга у заједници ","Обезбеђење услуге смештаја ",{"$nulls":51},421621,"Закуп опреме за саобраћај"]
["0901-0003  Подршка социо-хуманитарним организацијама","ПА_38",null,"Подстицање развоја разноврсних социјалних услуга у заједници и укључивање у сферу пружања услуга што више различитих социјалних актера",{"$nulls":52},421622,"Закуп административне опреме"]
["0901-0004  Саветодавно-терапијске и социјално-едукативне услуге","ПА_39",null,"Подршка развоју мреже ванинституционалне услуге  социјалне заштите предвиђене Одлуком о социјалној заштити и Законом о социјалној заштити ",{"$nulls":52},421623,"Закуп опреме за пољопривреду"]
["0901-0005  Активности Црвеног крста","ПА_40",null,"Социјално деловање - олакшавање људске патње пружањем неопходне ургентне помоћи лицима у невољи, развијањем солидарности међу људима, организовањем различитих облика помоћи",{"$nulls":52},421624,"Закуп опреме за очување животне средине и науку"]
["0901-0006  Дечја заштита","ПА_41",null,"Обезбеђивање материјалне подршке за децу и породицу ","Унапређење популационе политике ",{"$nulls":51},421625,"Закуп медицинске и лабораторијске опреме"]
["1801-0001  Функционисање установа примарне здравствене заштите","ПА_42",null,"Унапређење доступности и правичности здравствене заштите (ПЗЗ) ","Унапређење превентивне здравствене заштите-превенција, промоција здравља и интегрисане услуге","Унапређење ефикасности примарне здравствене заштите",{"$nulls":50},421626,"Закуп опреме за образовање, културу и спорт"]
["1201-0001  Функционисање локалних установа културе ","ПА_43",null,"Подстицање развоја културе кроз  јачање капацитета установа културе",{"$nulls":52},421627,"Закуп опреме за војску"]
["1201-0002  Подстицаји културном и уметничком стваралаштву","ПА_44",null,"Повећање интересовања грађана за развој културе ",{"$nulls":52},421628,"Закуп опреме за јавну безбедност"]
["1301-0001  Подршка локалним спортским организацијама, удружењима и савезима","ПА_45",null,"Обезбеђивање услова за рад и унапређење капацитета спортских организација преко којих се остварује јавни интерес у области спорта у граду/општини","Обезбеђивање услова за рад и унапређење капацитета установа из области спорта преко којих се остварује јавни интерес у области спорта у граду/општини",{"$nulls":51},421629,"Закуп опреме за производњу, моторна, непокретна и немоторна"]
["1301-0002  Подршка предшколском, школском и рекреативном спорту и масовној физичкој култури","ПА_46",null,"Унапређење предшколског, школског и рекреативног спорта  ","Унапређење рекреативног спорта",{"$nulls":51},421900,"Остали трошкови"]
["1301-0003  Одржавање спортске инфраструктуре","ПА_47",null,"Планска градња нових спортских објеката, реконструкција  и редовно одржавање постојећих спортских објеката од интереса за град/општину",{"$nulls":52},421910,"Остали трошкови"]
["0602-0001  Функционисање локалне самоуправе и градских општина","ПА_48",null,"Обезбеђено континуирано функционисање органа ЈЛС и органа градске општине","Унапређење и модернизација рада управе ЈЛС и градске општине","Изградња ефикасног превентивног система заштите и спасавања на избегавању последица елементарних и других непогода ","Стварање услова за ефикасно оперативно деловање на смањивању и ублажавању последица елементарних и других непогода ",{"$nulls":49},421911,"Радио - телевизијска претплата"]
["0602-0002  Месне заједнице","ПА_49",null,"Обезбеђено задовољавање потреба и интереса локалног становништва деловањем месних заједница ",{"$nulls":52},421919,"Остали непоменути трошкови"]
["0602-0003  Управљање јавним дугом","ПА_50",null,"Одржавање финансијске стабилности града/општине и финансирање капиталних инвестиционих расхода ",{"$nulls":52},422000,"Трошкови путовања"]
["0602-0004  Општинско јавно правобранилаштво","ПА_51",null,"Заштита имовинских права и интереса  града/општине  ",{"$nulls":52},422100,"Трошкови службених путовања у земљи"]
["0602-0005  Заштитник грађана","ПА_52",null,"Обезбеђена заштита права грађана пред управом и јавним службама  града/општине  и контрола над повредама прописа и општих аката  града/општине  ",{"$nulls":52},422110,"Трошкови дневница (исхране) на службеном путу"]
["0602-0006  Информисање","ПА_53",null,"Унапређење јавног информисања од локалног значаја",{"$nulls":52},422111,"Трошкови дневница (исхране) на службеном путу"]
["0602-0007  Канцеларија за младе","ПА_54",null,"Успостављени институционални услови у  граду/општини за подршку активном укључивању младих, подршку различитим друштвеним активностима младих и креативном испољавању њихових потреба",{"$nulls":52},422120,"Трошкови превоза на службеном путу у земљи (авион, аутобус, воз, и сл.)"]
["0602-0008  Програми националних мањина","ПА_55",null,"Остваривање права националних мањина у локалној заједници",{"$nulls":52},422121,"Трошкови превоза на службеном путу у земљи (авион, аутобус, воз, и сл.)"]
["0602-0009  Правна помоћ","ПА_56",null,"Организована правна помоћ грађанима",{"$nulls":52},422130,"Трошкови смештаја на службеном путу"]
["0602-0010  Резерве","ПА_57",null,"Обезбеђење снабдевености и стабилности на тржишту у складу са потребама  града/општине  и осигуране потребе  града/општине  у ванредним ситуацијама и ванредног или ратног стања",{"$nulls":52},422131,"Трошкови смештаја на службеном путу"]
[{"$nulls":56},422190,"Остале услуге службеног превоза"]
[{"$nulls":56},422191,"Превоз у јавном саобраћају"]
[{"$nulls":56},422192,"Такси превоз"]
[{"$nulls":56},422193,"Превоз у граду по службеном послу"]
["Израда планске и урбанистичке документације","ПАЦ_1",null,"Усвојен просторни план града/општине","Број усвојених планова генералне регулације у односу на број предвиђених ","Проценат површине покривен плановима детаљне регулације ",{"$nulls":50},422194,"Накнада за употребу сопственог возила"]
["Ефикасно администрирање захтева за издавање грађевинских дозвола (ефикасно издавање грађевинских дозвола)","ПАЦ_2",null,"Проценат издатих грађевинских дозвола у односу на број поднесених захтева","Просечно потребно време за издавање грађевинских дозвола (у данима, од дана када је поднета комплетна документација)","Проценат решених захтева за легализацију (број решених / укупан број у години)",{"$nulls":50},422199,"Остали трошкови за пословна путовања у земљи"]
["Опремање локација / зона за становање","ПАЦ_3",null,"Број опремљених локација за становање понуђених за изградњу путем јавног огласа","Површина опремљених локација за становање понуђених за изградњу путем јавног огласа",{"$nulls":51},422200,"Трошкови службених путовања у иностранство"]
["Опремање локација / зона за привредну делатност","ПАЦ_4",null,"Број опремљених локација за привредну делатност понуђених за изградњу ","Површина опремљених локација за привредну делатност понуђених за изградњу",{"$nulls":51},422210,"Трошкови дневница за службени пут у иностранство"]
["Опремање локација / зона јавне  намене","ПАЦ_5",null,"Проценат  реализације годишњег програма уређења грађевинског земљишта ",{"$nulls":52},422211,"Трошкови дневница за службени пут у иностранство"]
["Максимална могућа покривеност корисника и територије услугама водоснабдевања","ПАЦ_6",null,"Проценат домаћинстава обухваћених услугом у односу на укупан број домаћинстава ","Проценат покривености територије услугама водоснабдевања (мерено кроз број насеља обухваћених услугама у односу на укупан број насеља)",{"$nulls":51},422220,"Трошкови превоза за службени пут у иностранство (авион, аутобус, воз и сл.)"]
["Адекватан квалитет пружених услуга водоснабдевања","ПАЦ_7",null,"Број кварова по км водоводне мреже","Број контрола које су показале неадекватан квалитет воде у односу на укупан број контрола",{"$nulls":51},422221,"Трошкови превоза за службени пут у иностранство (авион, аутобус, воз и сл.)"]
["Ефикасно и рационално спровођење водоснабдевања","ПАЦ_8",null,"Степен наплате","Проценат капиталних и текућих субвенција у односу на укупне приходе ЈП ","Губици у дистрибуцији воде ","Просечна годишња цена воде по м3",{"$nulls":49},422230,"Трошкови смештаја на службеном путу у иностранство"]
["Максимална могућа покривеност корисника и територије услугама уклањања отпадних вода","ПАЦ_9",null,"Степен покривености корисника услугом канализације (број  домаћинстава обухваћених услугом у односу на укупни број домаћинстава у граду/општини)","Проценат покривености територије услугама прикупљања и одвођења отпадних вода (мерено кроз број насеља у односу на укупан број насеља)","Дужина атмосферске (кишне) канализационе мреже",{"$nulls":50},422231,"Трошкови смештаја на службеном путу у иностранство"]
["Адекватан квалитет пружених услуга одвођења отпадних вода","ПАЦ_10",null,"Број кварова на канализационој мрежи",{"$nulls":52},422290,"Остале услуге службеног превоза"]
["Ефикасно и рационално спровођење уклањања отпадних вода и минималан негативан утицај на животну средину","ПАЦ_11",null,"Однос пречишћених отпадних вода у односу на испуштене отпадне воде","Продајна цена испуштене воде по м3",{"$nulls":51},422291,"Услуге превоза у јавном саобраћају"]
["Максимална могућа покривеност корисника и територије услугама уклањања чврстог отпада","ПАЦ_12",null,"Степен покривености  корисника услугом уклањања отпада (број услужених домаћинстава у односу на укупни број домаћинстава у граду/општини)","Проценат покривености територије услугом уклањања отпада (мерено кроз број насеља у односу на укупан број насеља)",{"$nulls":51},422292,"Такси превоз"]
["Адекватан квалитет пружених услуга уклањања чврстог отпада","ПАЦ_13",null,"Број локалних сметлишта","Укупна количина скупљеног отпада","Проценат рециклабилног отпада у односу на укупан прикупљени отпад",{"$nulls":50},422293,"Накнада за употребу сопственог возила"]
["Ефикасно и рационално спровођење уклањања чврстог отпада и минималан негативан утицај на животну средину","ПАЦ_14",null,"Просечни трошак сакупљања отпада по тони","Просечна годишњa ценa услуге ",{"$nulls":51},422299,"Остали трошкови за пословна путовања у иностранство"]
["Оптимална покривеност корисника и територије услугама даљинског грејања и развој дистрибутивног система","ПАЦ_15",null,"Степен покривености корисника услугом  даљинског грејања (број услужених домаћинстава у односу на укупни број домаћинстава у граду/општини)",{"$nulls":52},422300,"Трошкови путовања у оквиру редовног рада"]
["Адекватан квалитет пружених услуга  даљинског грејања","ПАЦ_16",null,"Укупан број притужби грађана на квалитет и редовност пружене услуге  даљинског грејања","Проценат корисника код којих се обрачун врши по утрошеној топлотној енергији ",{"$nulls":51},422310,"Дневница (исхрана) за путовање у оквиру редовног рада"]
["Ефикасно и рационално спровођење  даљинског грејања и минималан негативан утицај на животну средину","ПАЦ_17",null,"Просечна цена грејања по утрошеној топлотној енергији","Однос произведене и испоручене топлотне енергије ","Степен произведене топлотне енергије из обновљивих извора у односу на укупну произведену топлотну енергију ",{"$nulls":50},422311,"Дневница (исхрана) за путовање у оквиру редовног рада"]
["Максимална могућа покривеност корисника и територије услугама јавног превоза","ПАЦ_18",null,"Проценат покривености грађана услугом  јавног превоза (број грађана који живе у насељима где постоји организован јавни превоз односу на укупни број грађана у граду/општини)","Проценат покривености територије услугом јавног превоза (мерено кроз број насеља где постоји организован јавни превоз у односу на укупан број насеља)",{"$nulls":51},422320,"Трошкови путовања у оквиру редовног рада (авион, аутобус, воз)"]
["Адекватан квалитет пружених услуга јавног превоза ","ПАЦ_19",null,"Просечна старост возила јавног превоза",{"$nulls":52},422321,"Трошкови путовања у оквиру редовног рада (авион, аутобус, воз)"]
["Ефикасно и рационално спровођење јавног превоза и минималан негативан утицај на животну средину","ПАЦ_20",null,"Број превезених путника у јавном превозу на годишњем нивоу","Проценат возила која користе обновљиве изворе","Проценат аутобуса у возном парку који имају ЕУРО4 моторе (прозводили су се од 2005 - 2008 године) или боље од тога",{"$nulls":50},422330,"Трошкови смештаја на путовању у оквиру редовног рада"]
["Оптимална покривеност корисника и територије услугама паркинг сервиса","ПАЦ_21",null,"Проценат покривености улица у насељима у којима су паркинг места обележена (број улица са обележеним паркинг местима у односу на укупан број улица у насељима)","Број паркинг места у којима постоји зонско паркирање (са плаћањем и одређеним периодом паркирања у току дана) у односу на укупан број паркинг места ",{"$nulls":51},422331,"Трошкови смештаја на путовању у оквиру редовног рада"]
["Адекватан квалитет пружених услуга паркинг сервиса","ПАЦ_22",null,"Број  паркинг места на којима се наплаћује паркинг услуга у односу на број регистрованих возила у једници локалне самоуправе","Број паркинг гаража ",{"$nulls":51},422390,"Остале услуге путовања у оквиру редовног рада"]
["Ефикасно и рационално спровођење услуга паркинг сервиса и минималан негативан утицај на животну средину","ПАЦ_23",null,"Остварени приходи од пружене услуге паркинг сервиса",{"$nulls":52},422391,"Превоз средствима јавног превоза"]
["Оптимална покривеност корисника и територије услугама уређивања, одржавања и коришћења пијаца","ПАЦ_24",null,"Број насеља у којима постоји и одржава се пијаца сваког дана","Укупан број пијаца у граду/општини","Број локација које се користе као пијаце-тргови",{"$nulls":50},422392,"Такси превоз"]
["Адекватан квалитет пружених услуга уређивања, одржавања и коришћења пијаца","ПАЦ_25",null,"Број опремљених пијачних места у односу на укупан број пијачних места предвиђених у складу са градском/општинском одлуком",{"$nulls":52},422393,"Накнада за превоз у граду по службеном послу"]
["Максимална могућа покривеност насеља и територије услугама одржавања чистоће јавних површина","ПАЦ_26",null,"Степен покривености територије услугама одржавања чистоће јавно-прометних површина (број улица које се чисте у односу на укупан број улица у граду/општини)",{"$nulls":52},422394,"Накнада за коришћење сопственог аутомобила"]
["Адекватан квалитет пружених услуга одржавања чистоће јавних површина","ПАЦ_27",null,"Број очишћених дивљих депонија","Број постављених посуда за одлагање ситног отпада на јавним површинама ","Број извршених инспекцијских контрола  ",{"$nulls":50},422399,"Остали трошкови превоза у оквиру редовног рада"]
["Ефикасно и рационално спровођење одржавања чистоће јавних површина ","ПАЦ_28",null,"Степен извршења годишњих планова јавне хигијене ",{"$nulls":52},422400,"Трошкови путовања ученика"]
["Максимална могућа покривеност насеља и територије услугама уређења и одржавања зеленила","ПАЦ_29",null,"Укупан број м2 јавних зелених површина на којима се уређује и одржава зеленило",{"$nulls":52},422410,"Трошкови путовања ученика"]
["Адекватан квалитет пружених услуга уређења и одржавања јавних зелених површина","ПАЦ_30",null,"Динамика уређења јавних зелених површина ","Број извршених инспекцијских контрола",{"$nulls":51},422411,"Превоз ученика"]
["Оптимална покривеност насеља и територије јавном расветом","ПАЦ_31",null,"Број км улица и саобраћајница које су покривене јавним осветљењем ","Укупан број светиљки у односу на потребан","Укупна инсталисана снага",{"$nulls":50},422412,"Трошкови путовања ученика који учествују на републичким и међународним такмичењима"]
["Адекватан квалитет јавне расвете","ПАЦ_32",null,"Укупан број интервенција по поднетим иницијативама грађана за замену светиљки када престану да раде","Укупан број замена светиљки након пуцања лампи (на годишњој бази)",{"$nulls":51},422900,"Остали трошкови транспорта"]
["Ефикасно и рационално спровођење јавне расвете и минималан негативан утицај на животну средину","ПАЦ_33",null,"Укупан број светиљки које су замењене савременијим (кумулативно из године у годину)","Укупна количина потрошене електричне енергије (годишње)","Удео енергетски ефикасних сијалица у укупном броју сијалица јавног осветљења",{"$nulls":50},422910,"Остали трошкови транспорта"]
["Оптимална покривеност територије града/општине одржавањем гробаља и погребним услугама","ПАЦ_34",null,"Број гробаља у граду/општини","Степен покривености територије услугама одржавања гробаља и погребним услугама (број насеља која имају услугу одржавања гробаља и погребне услуге у односу на укупан број насеља у граду/општини)","Степен попуњености активних гробаља",{"$nulls":50},422911,"Трошкови селидбе и превоза"]
["Адекватан квалитет пружених услуга одржавања гробаља и погребних услуга","ПАЦ_35",null,"Број интервенција у односу на укупан број  поднетих иницијатива грађана за чишћење и одржавање гробаља",{"$nulls":52},423000,"Услуге по уговору"]
["Подстицање одговорног управљања и одржавања стамбених зграда у етажном власништву","ПАЦ_36",null,"Проценат успостављених скупштина/савета станара у односу на укупан број зграда",{"$nulls":52},423100,"Административне услуге"]
["Обезбеђивање услова за пружање квалитетне услуге такси превоза","ПАЦ_37",null,"Број издатих дозвола за обављање такси превоза","Просечна старост возила","Број уређених такси стајалишта",{"$nulls":50},423110,"Услуге превођења"]
["Обезбеђивање услова за задовољење других комуналних потреба грађана","ПАЦ_38",null,"Капацитет прихватилишта и азила за напуштене псе и мачке","Висина накнаде штете за уједе паса и мачака луталица ","Третиране површине за сузбијање глодара и инсеката",{"$nulls":50},423111,"Услуге превођења"]
["Ефикаснија и ефективнија локална админстрација - унапређење административних процедура на локалном нивоу","ПАЦ_39",null,"Број унапређених процедура ради лакшег пословања привреде на локалном нивоу ",{"$nulls":52},423120,"Секретарске услуге"]
["Развој адекватних сервиса и услуга  за пружање подршке постојећој привреди","ПАЦ_40",null,"Број предузећа која су користила услуге града / општине у односу на укупан број предузећа","Број  јавно-приватних партнерства",{"$nulls":51},423121,"Секретарске услуге"]
["Коришћење ресурса града / општине у циљу промоције локалних предузећа и предузетника","ПАЦ_41",null,"Број активности локалне администрације и износ буџетских средстава локалног буџета са циљем промоције локалне привреде",{"$nulls":52},423130,"Рачуноводствене услуге"]
["Ефикаснија и ефективнија локална админстрација - унапређење административних процедура на локалном нивоу ","ПАЦ_42",null,"Број унапређених процедура ради лакшег пословања привреде на локалном нивоу ",{"$nulls":52},423131,"Рачуноводствене услуге"]
["Успостављање ефикасног механизма за привлачење директних инвестиција ","ПАЦ_43",null,"Број нових инвестиција на годишњем нивоу","Вредност нових инвестиција на годишњем нивоу",{"$nulls":51},423190,"Остале административне услуге"]
["Подстицаји града/општине за развој предузетништва (давање земљишта на коришћење под посебних условима, коришћење локалне инфраструктуре под посебним условима, ослобађање од појединих локалних такси, помоћ при припреми и писању пројеката малим предузећима ради добијања подстицаја итд.)","ПАЦ_44",null,"Број новооснованих предузетничких радњи (разврстаних  по полу власника) на територији града/општине уз учешће подстицаја локалне самоуправе у односу на укупан број новооснованих предузетничких радњи.","Број новооснованих предузећа на територији града/општине уз учешће подстицаја локалне самоуправе у односу на укупан број новооснованих предузећа.",{"$nulls":51},423191,"Остале административне услуге"]
["Успостављање функционалне  економске инфраструктуре ","ПАЦ_45",null,"Број предузећа отворених унапређењем економске инфраструктуре ","Број корисника технолошких паркова, бизнис инкубатора и сл.","Степен искоришћености земљишта/простора у индустријским зонама",{"$nulls":50},423200,"Компјутерске услуге"]
["Ревитализација браунфилд локација за покретање привредних активости","ПАЦ_46",null,"Број предузећа отворених кроз ревитализацију браунфилд локација за покретање привредних активности ",{"$nulls":52},423210,"Услуге за израду и одржавање софтвера"]
["Успостављање механизама за финансијску подршку самозапошљавању","ПАЦ_47",null,"Број новозапослених (разврстаних по полу и старости) кроз/уз помоћ успостављених механизама за финансијску подршку за самозапошљавање",{"$nulls":52},423211,"Услуге за израду софтвера"]
["Успостављање механизама за финансијску подршку производним предузећима и предузетницима/предузетницама који послују на територији града/општине за развој нових производа и проширење производње","ПАЦ_48",null,"Број нових производа развијених уз финансијску подршку","Број новозапослених радника/радница уз помоћ успостављеног механизма за обуку радне снаге за познатог послодавца и за специфичне производне процесе","Број реализованих професионалних радних пракси уз финансијску подршку града/општине",{"$nulls":50},423212,"Услуге за одржавање софтвера"]
["Повећање квалитета туристичке услуге на територији града/општине","ПАЦ_49",null,"Број уређених и на адекватан начин обележених (туристичка сигнализација) туристичких локалитета у граду/општини у осносу на укупан број локалитета"," Усвојена књига графичких стандарда",{"$nulls":51},423220,"Услуге одржавања рачунара"]
["Адекватна промоција туристичке понуде града/општине на циљаним тржиштима","ПАЦ_50",null,"Број догађаја који промовишу туристичку понуду града/општине у земљи и/или иностранству на којима учествује ТО града/општине","Број  дистрибуираног пропагандног материјала","Број одржаних промотивних акција са  партнерским организацијама ",{"$nulls":50},423221,"Услуге одржавања рачунара"]
["Стварање услова за развој и унапређење пољопривредне производње на територији града/општине","ПАЦ_51",null,"Број едукација намењених пољопривредним произвођачима на територији града/општине","Број учесника едукација",{"$nulls":51},423290,"Остале компјутерске услуге"]
["Ефикасно управљање пољопривредним земљиштем ","ПАЦ_52",null,"Усвојен  годишњи  програма заштите, уређења и  коришћења пољопривредног земљишта у државној својини  ","Проценат обухваћености пољопривредног земљишта у годишњем програму заштите, уређења и  коришћења пољопривредног земљишта у државној својини  ","Коришћење пољопривредних површина у односу на укупне пољопривредне површине ",{"$nulls":50},423291,"Остале компјутерске услуге"]
["Изградња одрживог, ефикасаног и конкурентног пољопривредног сектора ","ПАЦ_53",null,"Одобрен програм локалних подстицаја од стране надлежног министарства ","Степен реализације мера директних плаћања у оквиру одобреног програма  ","Број регистрованих пољопривредних газдинстава која су корисници мера директног плаћања у односу на укупан број пољопривредних газдинстава ","Број поднесених а неодобрених захтева за мере директних плаћања",{"$nulls":49},423300,"Услуге образовања и усавршавања запослених"]
["Развој одговарајућих економских услова у сеоским срединама и подршка диверсификацији руралне економије","ПАЦ_54",null,"Број подстицаја који се односе на инвестиције у пољопривреди за унапређење конкурентности","Број пружених помоћи пољопривредницима и удружењима при конкурисању за подстицајна средства министарстава и донаторска средства","Број спроведених пројеката који се односе на диверсификацију руралне економије",{"$nulls":50},423310,"Услуге образовања и усавршавања запослених"]
["Испуњење обавеза у складу са законима у домену постојања стратешких и оперативних планова као и мера заштите","ПАЦ_55",null,"Усвојен програм заштите животне средине са акционим планом ","Усвојен План квалитета ваздуха","Усвојен Акциони план заштите од буке","Број спроведених мерења количина комуналног отпада у складу са Законом о управљању отпадом",{"$nulls":49},423311,"Услуге образовања и усавршавања запослених"]
["Испуњење обавеза у складу са законима у домену постојања стратешких и оперативних планова као и мера забране и ограничења утицаја на животну средину","ПАЦ_56",null,"Донет и усвојен локални план управљања отпадом","Закључен споразум/уговор о локацији за изградњу и рад постројења за складиштење, третман или одлагање отпада на територији града/општине или територији регије у складу са регионалним планом управљања отпадом.",{"$nulls":51},423320,"Котизације"]
["Спровођење редовних мерења на територији града/општине и испуњење обавеза у складу са законима.","ПАЦ_57",null,"Број извршених контрола или надзора мера поступања са отпадом  у складу са законом о управљању отпадом",{"$nulls":52},423321,"Котизација за семинаре"]
["Праћење у складу са прописаним законским обавезама","ПАЦ_58",null,"Успостављен локални регистар извора загађивања животне средине ","Донети и усвојени програми мониторинга (ваздуха, воде, земљишта)",{"$nulls":51},423322,"Котизација за стручна саветовања"]
["Контрола квалитета  елемената животне средине","ПАЦ_59",null,"Број извршених инспекцијских надзора над спровођењем мера заштите ваздуха од загађивања у објектима за које надлежни орган града/општине (и/или АП) издаје одобрење за градњу, односно употребну дозволу у односу на укупан број ових објеката.","Број инспекцијских надзора над спровођењем мера заштите од буке за постројења и активности за које интегрисану дозволу издаје надлежни орган града/општине у односу на укупан број ових постројења","Број извршених инспекцијских надзора над изворима зрачења за које одобрење за изградњу и почетак рада издаје надлежни орган града/општине у односу на укупан број ових извора.",{"$nulls":50},423323,"Котизација за учествовање на сајмовима"]
["Спровођење редовних мерења на територији града/општине и испуњење обавеза у складу са законима ","ПАЦ_60",null,"Број извршених мерења квалитета ваздуха у локалној мрежи","Број извршених мониторинга буке у животној средини",{"$nulls":51},423390,"Друге услуге образовања и усавршавања запослених"]
["Унапређење заштите природних вредности  ","ПАЦ_61",null,"Проценат територије под заштитом III категорије","Број подручја која су проглашена заштићеним подручјем III категорије",{"$nulls":51},423391,"Издаци за стручне испите"]
["Повећање путне мреже и адекватна покривеност територије града/општине","ПАЦ_62",null,"Број километара новоизграђених путева","Број насеља до којих не постоји приступ асфалтним путем","Број километара новоизграђених улица",{"$nulls":50},423399,"Остали издаци за стручно образовање"]
["Одржавање квалитета путне мреже кроз реконструкцију и  редовно одржавање асфалтног покривача","ПАЦ_63",null,"Проценат од укупне дужине путне мреже која захтева санацију и/или реконструкцију ","Број километара санираних и/или реконструисаних путева","Износ трошкова одржавања путева по км ",{"$nulls":50},423400,"Услуге информисања"]
["Одржавање квалитета улица кроз реконструкцију и редовно одржавање асфалтног покривача","ПАЦ_64",null,"Проценат од укупне дужине улица која захтева санацију и/или реконструкцију ","Број километара санираних и/или реконструисаних улица","Износ трошкова одржавања улица по км ",{"$nulls":50},423410,"Услуге штампања"]
["Опремање и одржавање саобраћајне сигнализације на путевима и улицама","ПАЦ_65",null,"Број поправљених и новопостављених саобраћајних знакова и семафора ","Дужина хоризонталне саобраћајне сигнализације (у км)",{"$nulls":51},423411,"Услуге штампања билтена"]
["Обезбеђени адекватни  услови за Васпитно-образовни рад са децом уз повећан обухват","ПАЦ_66",null,"Просечан број деце у групи (јасле, предшколски, ппп)","Просечан број деце по васпитачу/васпитачици (јасле, предшколски, припремни предшколски програм)"," Процент деце ослобођене од пуне цене услуге у односу на укупан број деце",{"$nulls":50},423412,"Услуге штампања часописа"]
["Унапређење квалитета предшколског образовања и васпитања ","ПАЦ_67",null,"Број  посебних и специјалних програма у објекту предшколске установе","Проценат стручних сарадника који су добили најмање 24 бода за стручно усавршавање кроз учешће на семинарима на годишњем нивоу у односу на укупан број стручних сарадника ",{"$nulls":51},423413,"Услуге штампања публикација"]
["Одрживост функционисања предшколских установа у остваривању делатности предшколског васпитања и осталих делатности у ПУ у складу са законом ","ПАЦ_68",null,"Економска цена по детету (у јасленој и предшколској групи, деци са сметњама у развоју)","Број објеката у којима су извршена инвестициона улагања на годишњем нивоу, у односу на укупан број објеката ПУ",{"$nulls":51},423419,"Остале услуге штампања"]
["Обезбеђени прописани услови за васпитно-образовни рад са децом у основним школама ","ПАЦ_69",null,"Просечан број ученика по одељењу (разврстани по полу)","Проценат школа у којима је надлежна инспекција (санитарна за хигијену, грађевинска за грађевинске услове и инспрекција заштите која котролише безбедност и здравље на раду) констатовала неиспуњење основних критериијума ",{"$nulls":51},423420,"Услуге информисања јавности и односа са јавношћу"]
["Унапређење квалитета образовања и васпитања у основним школама","ПАЦ_70",null,"Број ученика који похађају ваннаставне активности/у односу на укупан број ученика","Број стручних лица која су добила најмање 24 бода за стручно усавршавање кроз учешће на семинарима на годишњем нивоу","Број талентоване деце подржане од стране града/општине у односу на укупан број деце у школама  ","Број деце која се образују по ИОП3",{"$nulls":49},423421,"Услуге информисања јавности"]
["Повећање доступности и приступачности основног образовања деци ","ПАЦ_71",null,"Проценат деце којој је обезбеђена бесплатна исхрана у односу на укупан број деце ","Проценат деце којој је обезбеђен бесплатан школски превоз у односу на укупан број деце (у складу са ЗОСОВ)","Проценат објеката прилагођених деци са инвалидитетом и посебним потребама ",{"$nulls":50},423422,"Односи са јавношћу"]
["Обезбеђени прописани услови за васпитно-образовни рад у средњим школама и безбедно одвијање наставе","ПАЦ_72",null,"Просечан број ученика по одељењу ","Проценат школа у којима је надлежна инспекција (санитарна за хигијену, грађевинска за грађевинске услове и инспекција заштите која котролише безбедност и здравље на раду) констатовала неиспуњење основних критеријума ",{"$nulls":51},423430,"Услуге рекламе и пропаганде"]
["Унапређење квалитета образовања у средњим школама","ПАЦ_73",null,"Број ученика који похађају ваннаставне активности/у односу на укупан број ученика","Просечан број поена на матурском испиту ","Број запослених који су добили најмање 24 бода за стручно усавршавање кроз учешће на семинарима на годишњем нивоу","Број талентоване деце подржане од стране града/општине у односу на укупан број деце у школама","Број деце која се образују по ИОП3",{"$nulls":48},423431,"Услуге рекламе и пропаганде"]
["Унапређење заштите сиромашних ","ПАЦ_74",null,"Проценат грађана који добијају новчане накнаде и помоћ у натури у складу са Одлуком о социјалној заштити у односу на укупан број грађана ","Број корисника једнократне новчане помоћи у односу на укупан број грађана","Број грађана - корисника других мера материјалне подршке ( нпр. набавка огрева и сл.) у односу на укупан број грађана","Број грађана - корисника субвенција (нпр. комуналних услуга, услуга  превоза) у односу на укупан број грађана",{"$nulls":49},423432,"Објављивање тендера и информативних огласа"]
["Побољшање социјално-економских услова живота грађана који припадају посебно осетљивим социјаним групама ","ПАЦ_75",null,"Број породица којима је обезбеђено адекватно становање ","Број избеглих, интерно расељених и повратника по Споразуму о реадмисији којима је обезбеђено адекватно решавања стамбених услова ",{"$nulls":51},423439,"Остале услуге рекламе и пропаганде"]
["Подршка спровођењу и развоју дневних услуга у заједници ","ПАЦ_76",null,"Број лица која су боравила у прихватилишту","Број интервенција мобилног тима за помоћ и подршку породицама у кризним ситуацијама","Висина буџетских издвајања опредељених за потребе пружања услуга интервениције у кризним ситуацијама ",{"$nulls":50},423440,"Медијске услуге"]
["Обезбеђење услуге смештаја ","ПАЦ_77",null,"Број корисника услуге (старих у односу на укупан број старих)","Број корисника услуге (деца за сметњама у развоју у односу на укупан број деце са сметњама у развоју) ",{"$nulls":51},423441,"Медијске услуге радија и телевизије"]
["Подстицање развоја разноврсних социјалних услуга у заједници и укључивање у сферу пружања услуга што више различитих социјалних актера","ПАЦ_78",null,"Број удружења / хуманитарних организација које добијају средства из буџета града/општине","Број лиценцираних  ОЦД у односу на укупан број ОЦД","Број услуга које реализују ове организације","% финансирања пројектних активности удружења / организација у односу на укупна средства која су за њих издвојена",{"$nulls":49},423449,"Остале медијске услуге"]
["Подршка развоју мреже ванинституционалне услуге  социјалне заштите предвиђене Одлуком о социјалној заштити и Законом о социјалној заштити ","ПАЦ_79",null,"Број услуга социјалне заштите предвиђених Одлуком о социјалној заштити -  укупно ","Број корисника дневних услуга у заједници у односу на укупан број грађана ","Број корисника услуга подршке за самосталан живот у односу на укупан број грађана","Број корисника саветодавно-терапијских и социо - едукативних услуга у заједници ",{"$nulls":49},423500,"Стручне услуге"]
["Социјално деловање - олакшавање људске патње пружањем неопходне ургентне помоћи лицима у невољи, развијањем солидарности међу људима, организовањем различитих облика помоћи","ПАЦ_80",null,"Број акција на прикупљању различитих  врста  помоћи ","Број дистрибуираних пакета хране за социјално угрожено становништво","Број корисника народне кухиње ( или број подељених оброка у народној кухињи)","Број волонтера Црвеног крста ",{"$nulls":49},423510,"Услуге ревизије"]
["Обезбеђивање материјалне подршке за децу и породицу ","ПАЦ_81",null,"Удео деце која примају дечији додатак у односу на укупан број деце у граду/општини ","Број деце која примају материјалну подршку у складу са Одлуком о социјалној заштити у односу на укупан број деце у граду/општини","Висина буџетских издвајања за мере материјалне подршке деци и породици ",{"$nulls":50},423511,"Услуге ревизије"]
["Унапређење популационе политике ","ПАЦ_82",null,"Број мера материјалне подршке намењен мерама локалне популационе политике (нпр. подршка материнству, подршка породиљама, накнада за новорођену децу)","% буџетских издвајања за локалне  мере популационе политике",{"$nulls":51},423520,"Адвокатске услуге"]
["Унапређење доступности и правичности здравствене заштите (ПЗЗ) ","ПАЦ_83",null,"Број објеката здравствених установа са адекватним приступом за ОСИ у односу на укупан број објеката здравствених установа","Број насеља у којима нема сеоске станице/амбуланте ","Број здравствених радника/лекара финансираних из буџета града/општине",{"$nulls":50},423521,"Правно заступање пред домаћим судовима"]
["Унапређење превентивне здравствене заштите-превенција, промоција здравља и интегрисане услуге","ПАЦ_84",null,"Проценат превентивних прегледа у укупном броју прегледа и посета код лекара (изражен као укупан број превентивних прегледа подељен са укупним бројем свих прегледа и посета код лекара и помножен са 100)","Број програма/пројеката намењених рањивим групама на нивоу града/општине ","Број програма/пројеката намењених промоцији здравља и превенцији ",{"$nulls":50},423522,"Правно заступање пред међународним судовима"]
["Унапређење ефикасности примарне здравствене заштите","ПАЦ_85",null,"Просечан број посета по изабраном лекару","Просечна дужина чекања на заказани први преглед у установама примарне здравствене заштите (изражен као збир свих дужина чекања на заказани први преглед подељен са бројем заказаних пацијената)","Годишњи ниво (проценат) реализације планова инвестирања и опремања установа здравствене заштите на нивоу града/општине",{"$nulls":50},423530,"Правне услуге"]
["Подстицање развоја културе кроз  јачање капацитета установа културе","ПАЦ_86",null,"Проценат учешћа издвајања за културне програме у буџету установа културе ","Проценат учешћа сопствених прихода у буџету установа културе","Број установа културе у надлежности града/општине у којима су извршена инвестициона улагања на годишњем нивоу, у односу на укупан број установа културе",{"$nulls":50},423531,"Услуге вештачења"]
["Повећање интересовања грађана за развој културе ","ПАЦ_87",null,"Укупан број чланова Удружења грађана/КУД  ","Број програма и пројеката подржаних од стране града/општине намењених осетљивим друштвеним групама ","Број програма и пројеката Удружења грађана/КУД подржаних од стране града/општине ",{"$nulls":50},423532,"Услуге поротника"]
["Обезбеђивање услова за рад и унапређење капацитета спортских организација преко којих се остварује јавни интерес у области спорта у граду/општини","ПАЦ_88",null,"Број посебних/школских,/.......годишњих програма спортских организација финансираних од стране града/општине ","Број младих спортских талената подржаних из буџета",{"$nulls":51},423539,"Остале правне услуге"]
["Обезбеђивање услова за рад и унапређење капацитета установа из области спорта преко којих се остварује јавни интерес у области спорта у граду/општини","ПАЦ_89",null,"Број програма које реализују установе из области спорта","Број спортских организација који користе услуге установе из области спорта","Број одржаних спортских приредби у установама из области спорта","Степен искоришћења капацитета установа",{"$nulls":49},423540,"Финансијске услуге"]
["Унапређење предшколског, школског и рекреативног спорта  ","ПАЦ_90",null,"Број објеката који је доступан за коришћење предшколском, школском и рекреативном спорту ","Просечан број дана (или сати) у години када су постојећи објекти доступни предшколском, школском и рекреативном спорту ","Број програма којима се реализују активности школског спорта","Просечан број спортских секција по школи у граду/општини",{"$nulls":49},423541,"Услуге финансијских саветника"]
["Унапређење рекреативног спорта","ПАЦ_91",null,"Број програма којима се се реализују активности из рекреативног спорта","Број програма за вежбање старих особа и особа са инвалидитетом ","Број програма омасовљења женског спорта",{"$nulls":50},423542,"Остале финансијске услуге"]
["Планска градња нових спортских објеката, реконструкција  и редовно одржавање постојећих спортских објеката од интереса за град/општину","ПАЦ_92",null,"Број постојећих функционалних спортских објеката","Укупна површина спортских терена/укупан број становника у граду/општини","Број објеката са употребном дозволом","Број изграђених/ реконструисаних јавних игралишта/вежбалишта на отвореном","Број спортских објеката прилагођених особама са инвалидитетом",{"$nulls":48},423590,"Остале стручне услуге"]
["Обезбеђено континуирано функционисање органа ЈЛС и органа градске општине","ПАЦ_93",null,"Број седница скупштине општине","Број седница градског/општинског већа","Проценат решених  предмета у календарској години (у законском року, ван законског рока)","Проценат попуњености радних места која подразумевају вођење управног поступка",{"$nulls":49},423591,"Накнаде члановима управних, надзорних одбора и комисија"]
["Унапређење и модернизација рада управе ЈЛС и градске општине","ПАЦ_94",null,"Број програма стручног усавршавања који су финансирани из буџета града/општине","Број службеника који су похађали програме стручног усавршавања (који су финансирани из буџета града/општине)","Проценат буџета који се издваја за модернизацију рада управе (за прибављање рачунара и друге опреме за потребе унапређења рада управе, набавку софтвера, итд.)",{"$nulls":50},423599,"Остале стручне услуге"]
["Изградња ефикасног превентивног система заштите и спасавања на избегавању последица елементарних и других непогода ","ПАЦ_95",null,"Проценат прочишћених корита на водама другог реда и каналима за одводњавање ","Број санираних заштитних водних објеката на водама другог реда у односу на укупан број водних објеката","Број идентификованих објеката критичне инфраструктуре (нпр. трафо станице) и процењене могуће штетне последице за обављање њихове делатности ",{"$nulls":50},423600,"Услуге за домаћинство и угоститељство"]
["Стварање услова за ефикасно оперативно деловање на смањивању и ублажавању последица елементарних и других непогода ","ПАЦ_96",null,"Капацитет прихвата – број људи за које је припремљен/обезбеђен прихват (хитни смештај, здравствена заштита, итд.) у односу на укупан број становника","Површина терена за који је урађен план санације ","Капацитет за евакуацију - Процентуални однос броја људи који могу бити обухваћени системом евакуације и укупног броја становника","Усвојени планови предвиђени законом (Процена угрожености и План заштите и спасавања у ванредним ситуацијама)",{"$nulls":49},423610,"Услуге за домаћинство"]
["Обезбеђено задовољавање потреба и интереса локалног становништва деловањем месних заједница ","ПАЦ_97",null,"Степен остварења планова рада /програма месних заједница","Број послова локалне самоуправе који су  поверени  и организовани у оквиру месне заједнице ","Број иницијатива /предлога месних заједница према граду/општини у вези са питањима од интереса за локално становништво",{"$nulls":50},423611,"Прање веша"]
["Одржавање финансијске стабилности града/општине и финансирање капиталних инвестиционих расхода ","ПАЦ_98",null,"Учешће укупног задужења за финансирање дефицита текуће ликвидности у односу на укупно остварене приходе буџета локалне власти у претходној години < 5%","Учешће укупног дугорочног задужења за капиталне инвестиционе расходе у односу на укупно остварене текуће приходе буџета локалне власти у претходној години < 50%","Учешће укупног износа главница и камата које доспевају у датој години на сва неизмирена дугорочна задужења за финансирање капиталних инвестиционих расхода у односу на укупно остварене текуће приходе буџета локалне власти у претходној години <15%.","Текући приходи (извор 01) / Укупни приходи > 65%","Текући расходи / Текући приходи (извор 01) < 95%","Учешће обавеза по дуговима у текућим приходима (извор 01) ≤ 50%","Учешће издатака за сервисирање дугова у текућим приходима ≤ 15%","Сервисирање дуга / Рек. текући суфицит < 50%","% капиталних инвестиција у односу на укупне расходе","Структура јавног дуга (удео краткорочног дуга за финансирање финансијске стабилности и дугорочних дугова за финансирање капиталних инвестиционих расхода у укупном јавног дугу града/општине)","% изворних прихода града/општине у односу на укупне текуће приходе",{"$nulls":42},423612,"Хемијско чишћење"]
["Заштита имовинских права и интереса  града/општине  ","ПАЦ_99",null,"Број решених предмета у односу на укупан број предмета на годишњем нивоу","Број правних мишљења која су дата органима  града/општине, стручним службама и другим правним лицима чија имовинска и друга права заступа ","Финансијски  ефекат рада  правобранилаштва на буџет града/општине",{"$nulls":50},423620,"Угоститељске услуге"]
["Обезбеђена заштита права грађана пред управом и јавним службама  града/општине  и контрола над повредама прописа и општих аката  града/општине  ","ПАЦ_100",null,"Број поднетих притужби","Број поступака покренутих од стране заштитника грађана ","Број грађана чија су права заштићена кроз поступак пред заштитником грађана","Број усвојених препорука заштитника грађана упућених управи и јавним службама града/општине  ",{"$nulls":49},423621,"Угоститељске услуге"]
["Унапређење јавног информисања од локалног значаја","ПАЦ_101",null,"Постојање интернет стране  града/општине, број посета интернет стране и редовно обезбеђивање информација на интернет страни","Број издатих билтена града/општине ","Број конференција за штампу или других информативних скупова ","Број финансираних пројеката путем јавног конкурса у области јавног информисања",{"$nulls":49},423700,"Репрезентација"]
["Успостављени институционални услови у  граду/општини за подршку активном укључивању младих, подршку различитим друштвеним активностима младих и креативном испољавању њихових потреба","ПАЦ_102",null,"Број корисника услуга КЗМ (разврстан по  полу)","Број организованих активности и пројеката КЗМ ",{"$nulls":51},423710,"Репрезентација"]
["Остваривање права националних мањина у локалној заједници","ПАЦ_103",null,"Проценат остварења програма националних мањина који се финансира из буџета града/општине","Број реализованих пројеката националних мањина",{"$nulls":51},423711,"Репрезентација"]
["Организована правна помоћ грађанима","ПАЦ_104",null,"Укупан број пружених услуга правне помоћи ","Број корисника правне помоћи (разврстаних по полу)","Број услуга/корисника правне помоћи по запосленом у служби/ организационој јединици у оквиру управе ",{"$nulls":50},423712,"Поклони"]
["Обезбеђење снабдевености и стабилности на тржишту у складу са потребама  града/општине  и осигуране потребе  града/општине  у ванредним ситуацијама и ванредног или ратног стања","ПАЦ_105",null,"Усвојен годишњи план робних резерви и финансијски план за остваривање програма","% реализације усвојених планова",{"$nulls":51},423900,"Остале опште услуге"]
[{"$nulls":56},423910,"Остале опште услуге"]
[{"$nulls":56},423911,"Остале опште услуге"]
[{"$nulls":56},424000,"Специјализоване услуге"]
[{"$nulls":56},424100,"Пољопривредне услуге"]
[{"$nulls":56},424110,"Услуге заштите животиња и биља"]
[{"$nulls":56},424111,"Услуге ветеринарског прегледа и вакцинације"]
[{"$nulls":56},424112,"Заштита биља"]
[{"$nulls":56},424113,"Испитивање узорака земљишта и вештачког ђубрива"]
[{"$nulls":56},424119,"Остале услуге заштите животиња и биља"]
[{"$nulls":56},424200,"Услуге образовања, културе и спорта"]
[{"$nulls":56},424210,"Услуге образовања"]
[{"$nulls":56},424211,"Услуге образовања"]
[{"$nulls":56},424212,"Образовање деце грађана који живе у иностранству"]
[{"$nulls":56},424213,"Услуге предшколског образовања"]
[{"$nulls":56},424220,"Услуге културе"]
[{"$nulls":56},424221,"Услуге културе"]
[{"$nulls":56},424230,"Услуге спорта"]
[{"$nulls":56},424231,"Услуге спорта"]
[{"$nulls":56},424300,"Медицинске услуге"]
[{"$nulls":56},424310,"Здравствена заштита по уговору"]
[{"$nulls":56},424311,"Здравствена заштита по уговору"]
[{"$nulls":56},424320,"Здравствена заштита по конвенцији"]
[{"$nulls":56},424321,"Здравствена заштита по конвенцији"]
["Програм 1.  Локални развој и просторно планирање","Урбанизам и просторно планирање",{"$nulls":54},424330,"Услуге јавног здравства - инспекција и анализа"]
["Програм 2.  Комунална делатност","Опште услуге јавне управе",{"$nulls":54},424331,"Услуге јавног здравства - инспекција и анализа"]
["Програм 3.  Локални економски развој","Економска и развојна политика",{"$nulls":54},424340,"Лабораторијске услуге"]
["Програм 4.  Развој туризма","Економска и развојна политика",{"$nulls":54},424341,"Лабораторијске услуге"]
["Програм 5.  Развој пољопривреде","Пољопривреда и рурални развој",{"$nulls":54},424350,"Остале медицинске услуге"]
["Програм 6.  Заштита животне средине","Заштита животне средине",{"$nulls":54},424351,"Остале медицинске услуге"]
["Програм 7.  Путна инфраструктура","Саобраћај и саобраћајна инфраструктура",{"$nulls":54},424400,"Услуге одржавања аутопутева"]
["Програм 8.  Предшколско васпитање","Образовање",{"$nulls":54},424410,"Услуге одржавања аутопутева"]
["Програм 9.  Основно образовање","Образовање",{"$nulls":54},424411,"Услуге одржавања аутопутева"]
["Програм 10.  Средње образовање","Образовање",{"$nulls":54},424500,"Услуге одржавања националних паркова и природних површина"]
["Програм 11.  Социјална и дечја заштита","Социјална заштита",{"$nulls":54},424510,"Услуге одржавања националних паркова и природних површина"]
["Програм 12.  Примарна здравствена заштита","Здравство",{"$nulls":54},424511,"Услуге одржавања националних паркова и природних површина"]
["Програм 13.  Развој културе","Култура комуникације и медији",{"$nulls":54},424600,"Услуге очувања животне средине, науке и геодетске услуге"]
["Програм 14.  Развој спорта и омладине","Спорт и омладина",{"$nulls":54},424610,"Услуге очувања животне средине"]
["Програм 15.  Локална самоуправа","Опште услуге јавне управе",{"$nulls":54},424611,"Услуге очувања животне средине"]
[{"$nulls":56},424620,"Услуге науке"]
[{"$nulls":3},"rashodi 2015",null,"rashodi 2016",null,"rashodi 2017",null,"rashodi 2018",{"$nulls":46},424621,"Услуге науке"]
[null,null,"Списак програмских активности и пројеката у оквиру програма","budzetska","ostalo","budzetska","ostalo ","budzetska","ostalo ","budzetska","ostalo ",{"$nulls":45},424630,"Геодетске услуге"]
[1,{"$f":"IF(M337>0,MAX($B$335:B336)+1,\"\")","v":""},{"$f":"IF(ISERROR(INDEX(WS,ROWS($A$337:$A337))),\"\",MID(INDEX(WS,ROWS($A$337:$A337)), FIND(\"]\",INDEX(WS,ROWS($A$337:$A337)))+1,32))&T(NOW())","v":"Програм"},{"$f":"IF($C337<>\"\",INDIRECT(\"'\"&$C337&\"'\"&\"!y2\"),\"\")","v":0},{"$f":"IF($C337<>\"\",INDIRECT(\"'\"&$C337&\"'\"&\"!z2\"),\"\")","v":0},{"$f":"IF($C337<>\"\",INDIRECT(\"'\"&$C337&\"'\"&\"!aa2\"),\"\")","v":0},{"$f":"IF($C337<>\"\",INDIRECT(\"'\"&$C337&\"'\"&\"!ab2\"),\"\")","v":0},{"$f":"IF($C337<>\"\",INDIRECT(\"'\"&$C337&\"'\"&\"!ac2\"),\"\")","v":0},{"$f":"IF($C337<>\"\",INDIRECT(\"'\"&$C337&\"'\"&\"!ad2\"),\"\")","v":0},{"$f":"IF($C337<>\"\",INDIRECT(\"'\"&$C337&\"'\"&\"!ae2\"),\"\")","v":0},{"$f":"IF($C337<>\"\",INDIRECT(\"'\"&$C337&\"'\"&\"!af2\"),\"\")","v":0},{"$f":"IF($C337<>\"\",INDIRECT(\"'\"&$C337&\"'\"&\"!ag2\"),\"\")","v":0},{"$f":"SUM(E337:L337)","v":0},{"$nulls":43},424631,"Геодетске услуге"]
[2,{"$f":"IF(M338>0,MAX($B$335:B337)+1,\"\")","v":""},{"$f":"IF(ISERROR(INDEX(WS,ROWS($A$337:$A338))),\"\",MID(INDEX(WS,ROWS($A$337:$A338)), FIND(\"]\",INDEX(WS,ROWS($A$337:$A338)))+1,32))&T(NOW())","v":"Програмска активност"},{"$f":"IF($C338<>\"\",INDIRECT(\"'\"&$C338&\"'\"&\"!y2\"),\"\")","v":"0 ()"},0,0,0,0,0,0,0,0,{"$f":"SUM(E338:L338)","v":0},{"$nulls":43},424900,"Остале специјализоване услуге"]
[3,{"$f":"IF(M339>0,MAX($B$335:B338)+1,\"\")","v":""},{"$f":"IF(ISERROR(INDEX(WS,ROWS($A$337:$A339))),\"\",MID(INDEX(WS,ROWS($A$337:$A339)), FIND(\"]\",INDEX(WS,ROWS($A$337:$A339)))+1,32))&T(NOW())","v":"Пројекат"},"-    ()",0,0,0,0,0,0,0,0,0,{"$nulls":43},424910,"Остале специјализоване услуге"]
[4,{"$f":"IF(M340>0,MAX($B$335:B339)+1,\"\")","v":""},{"$f":"IF(ISERROR(INDEX(WS,ROWS($A$337:$A340))),\"\",MID(INDEX(WS,ROWS($A$337:$A340)), FIND(\"]\",INDEX(WS,ROWS($A$337:$A340)))+1,32))&T(NOW())","v":"Упутство"},0,0,0,0,0,0,0,0,0,0,{"$nulls":43},424911,"Остале специјализоване услуге"]
[5,{"$f":"IF(M341>0,MAX($B$335:B340)+1,\"\")","v":""},{"$f":"IF(ISERROR(INDEX(WS,ROWS($A$337:$A341))),\"\",MID(INDEX(WS,ROWS($A$337:$A341)), FIND(\"]\",INDEX(WS,ROWS($A$337:$A341)))+1,32))&T(NOW())","v":""},"","","","","","","","","",0,{"$nulls":43},425000,"Текуће поправке и одржавање"]
[6,{"$f":"IF(M342>0,MAX($B$335:B341)+1,\"\")","v":""},{"$f":"IF(ISERROR(INDEX(WS,ROWS($A$337:$A342))),\"\",MID(INDEX(WS,ROWS($A$337:$A342)), FIND(\"]\",INDEX(WS,ROWS($A$337:$A342)))+1,32))&T(NOW())","v":""},"","","","","","","","","",0,{"$nulls":43},425100,"Текуће поправке и одржавање зграда и објеката"]
[7,{"$f":"IF(M343>0,MAX($B$335:B342)+1,\"\")","v":""},{"$f":"IF(ISERROR(INDEX(WS,ROWS($A$337:$A343))),\"\",MID(INDEX(WS,ROWS($A$337:$A343)), FIND(\"]\",INDEX(WS,ROWS($A$337:$A343)))+1,32))&T(NOW())","v":""},"","","","","","","","","",0,{"$nulls":43},425110,"Текуће поправке и одржавање зграда"]
[8,{"$f":"IF(M344>0,MAX($B$335:B343)+1,\"\")","v":""},{"$f":"IF(ISERROR(INDEX(WS,ROWS($A$337:$A344))),\"\",MID(INDEX(WS,ROWS($A$337:$A344)), FIND(\"]\",INDEX(WS,ROWS($A$337:$A344)))+1,32))&T(NOW())","v":""},"","","","","","","","","",0,{"$nulls":43},425111,"Зидарски радови"]
[9,{"$f":"IF(M345>0,MAX($B$335:B344)+1,\"\")","v":""},{"$f":"IF(ISERROR(INDEX(WS,ROWS($A$337:$A345))),\"\",MID(INDEX(WS,ROWS($A$337:$A345)), FIND(\"]\",INDEX(WS,ROWS($A$337:$A345)))+1,32))&T(NOW())","v":""},"","","","","","","","","",0,{"$nulls":43},425112,"Столарски радови"]
[10,{"$f":"IF(M346>0,MAX($B$335:B345)+1,\"\")","v":""},{"$f":"IF(ISERROR(INDEX(WS,ROWS($A$337:$A346))),\"\",MID(INDEX(WS,ROWS($A$337:$A346)), FIND(\"]\",INDEX(WS,ROWS($A$337:$A346)))+1,32))&T(NOW())","v":""},"","","","","","","","","",0,{"$nulls":43},425113,"Молерски радови"]
[11,{"$f":"IF(M347>0,MAX($B$335:B346)+1,\"\")","v":""},{"$f":"IF(ISERROR(INDEX(WS,ROWS($A$337:$A347))),\"\",MID(INDEX(WS,ROWS($A$337:$A347)), FIND(\"]\",INDEX(WS,ROWS($A$337:$A347)))+1,32))&T(NOW())","v":""},"","","","","","","","","",0,{"$nulls":43},425114,"Радови на крову"]
[12,{"$f":"IF(M348>0,MAX($B$335:B347)+1,\"\")","v":""},{"$f":"IF(ISERROR(INDEX(WS,ROWS($A$337:$A348))),\"\",MID(INDEX(WS,ROWS($A$337:$A348)), FIND(\"]\",INDEX(WS,ROWS($A$337:$A348)))+1,32))&T(NOW())","v":""},"","","","","","","","","",0,{"$nulls":43},425115,"Радови на водоводу и канализацији"]
[13,{"$f":"IF(M349>0,MAX($B$335:B348)+1,\"\")","v":""},{"$f":"IF(ISERROR(INDEX(WS,ROWS($A$337:$A349))),\"\",MID(INDEX(WS,ROWS($A$337:$A349)), FIND(\"]\",INDEX(WS,ROWS($A$337:$A349)))+1,32))&T(NOW())","v":""},"","","","","","","","","",0,{"$nulls":43},425116,"Централно грејање"]
[14,{"$f":"IF(M350>0,MAX($B$335:B349)+1,\"\")","v":""},{"$f":"IF(ISERROR(INDEX(WS,ROWS($A$337:$A350))),\"\",MID(INDEX(WS,ROWS($A$337:$A350)), FIND(\"]\",INDEX(WS,ROWS($A$337:$A350)))+1,32))&T(NOW())","v":""},"","","","","","","","","",0,{"$nulls":43},425117,"Електричне инсталације"]
[15,{"$f":"IF(M351>0,MAX($B$335:B350)+1,\"\")","v":""},{"$f":"IF(ISERROR(INDEX(WS,ROWS($A$337:$A351))),\"\",MID(INDEX(WS,ROWS($A$337:$A351)), FIND(\"]\",INDEX(WS,ROWS($A$337:$A351)))+1,32))&T(NOW())","v":""},"","","","","","","","","",0,{"$nulls":43},425118,"Радови на комуникацијским инсталацијама"]
[16,{"$f":"IF(M352>0,MAX($B$335:B351)+1,\"\")","v":""},{"$f":"IF(ISERROR(INDEX(WS,ROWS($A$337:$A352))),\"\",MID(INDEX(WS,ROWS($A$337:$A352)), FIND(\"]\",INDEX(WS,ROWS($A$337:$A352)))+1,32))&T(NOW())","v":""},"","","","","","","","","",0,{"$nulls":43},425119,"Остале услуге и материјали за текуће поправке и одржавање зграда"]
[17,{"$f":"IF(M353>0,MAX($B$335:B352)+1,\"\")","v":""},{"$f":"IF(ISERROR(INDEX(WS,ROWS($A$337:$A353))),\"\",MID(INDEX(WS,ROWS($A$337:$A353)), FIND(\"]\",INDEX(WS,ROWS($A$337:$A353)))+1,32))&T(NOW())","v":""},"","","","","","","","","",0,{"$nulls":43},425190,"Текуће поправке и одржавање осталих објеката"]
[18,{"$f":"IF(M354>0,MAX($B$335:B353)+1,\"\")","v":""},{"$f":"IF(ISERROR(INDEX(WS,ROWS($A$337:$A354))),\"\",MID(INDEX(WS,ROWS($A$337:$A354)), FIND(\"]\",INDEX(WS,ROWS($A$337:$A354)))+1,32))&T(NOW())","v":""},"","","","","","","","","",0,{"$nulls":43},425191,"Текуће поправке и одржавање осталих објеката"]
[19,{"$f":"IF(M355>0,MAX($B$335:B354)+1,\"\")","v":""},{"$f":"IF(ISERROR(INDEX(WS,ROWS($A$337:$A355))),\"\",MID(INDEX(WS,ROWS($A$337:$A355)), FIND(\"]\",INDEX(WS,ROWS($A$337:$A355)))+1,32))&T(NOW())","v":""},"","","","","","","","","",0,{"$nulls":43},425200,"Текуће поправке и одржавање опреме"]
[20,{"$f":"IF(M356>0,MAX($B$335:B355)+1,\"\")","v":""},{"$f":"IF(ISERROR(INDEX(WS,ROWS($A$337:$A356))),\"\",MID(INDEX(WS,ROWS($A$337:$A356)), FIND(\"]\",INDEX(WS,ROWS($A$337:$A356)))+1,32))&T(NOW())","v":""},"","","","","","","","","",0,{"$nulls":43},425210,"Текуће поправке и одржавање опреме за саобраћај"]
[21,{"$f":"IF(M357>0,MAX($B$335:B356)+1,\"\")","v":""},{"$f":"IF(ISERROR(INDEX(WS,ROWS($A$337:$A357))),\"\",MID(INDEX(WS,ROWS($A$337:$A357)), FIND(\"]\",INDEX(WS,ROWS($A$337:$A357)))+1,32))&T(NOW())","v":""},"","","","","","","","","",0,{"$nulls":43},425211,"Механичке поправке"]
[22,{"$f":"IF(M358>0,MAX($B$335:B357)+1,\"\")","v":""},{"$f":"IF(ISERROR(INDEX(WS,ROWS($A$337:$A358))),\"\",MID(INDEX(WS,ROWS($A$337:$A358)), FIND(\"]\",INDEX(WS,ROWS($A$337:$A358)))+1,32))&T(NOW())","v":""},"","","","","","","","","",0,{"$nulls":43},425212,"Поправке електричне и електронске опреме"]
[23,{"$f":"IF(M359>0,MAX($B$335:B358)+1,\"\")","v":""},{"$f":"IF(ISERROR(INDEX(WS,ROWS($A$337:$A359))),\"\",MID(INDEX(WS,ROWS($A$337:$A359)), FIND(\"]\",INDEX(WS,ROWS($A$337:$A359)))+1,32))&T(NOW())","v":""},"","","","","","","","","",0,{"$nulls":43},425213,"Лимарски радови на возилима"]
[24,{"$f":"IF(M360>0,MAX($B$335:B359)+1,\"\")","v":""},{"$f":"IF(ISERROR(INDEX(WS,ROWS($A$337:$A360))),\"\",MID(INDEX(WS,ROWS($A$337:$A360)), FIND(\"]\",INDEX(WS,ROWS($A$337:$A360)))+1,32))&T(NOW())","v":""},"","","","","","","","","",0,{"$nulls":43},425219,"Остале поправке и одржавање опреме за саобраћај"]
[25,{"$f":"IF(M361>0,MAX($B$335:B360)+1,\"\")","v":""},{"$f":"IF(ISERROR(INDEX(WS,ROWS($A$337:$A361))),\"\",MID(INDEX(WS,ROWS($A$337:$A361)), FIND(\"]\",INDEX(WS,ROWS($A$337:$A361)))+1,32))&T(NOW())","v":""},"","","","","","","","","",0,{"$nulls":43},425220,"Текуће поправке и одржавање административне опреме"]
[26,{"$f":"IF(M362>0,MAX($B$335:B361)+1,\"\")","v":""},{"$f":"IF(ISERROR(INDEX(WS,ROWS($A$337:$A362))),\"\",MID(INDEX(WS,ROWS($A$337:$A362)), FIND(\"]\",INDEX(WS,ROWS($A$337:$A362)))+1,32))&T(NOW())","v":""},"","","","","","","","","",0,{"$nulls":43},425221,"Намештај"]
[27,{"$f":"IF(M363>0,MAX($B$335:B362)+1,\"\")","v":""},{"$f":"IF(ISERROR(INDEX(WS,ROWS($A$337:$A363))),\"\",MID(INDEX(WS,ROWS($A$337:$A363)), FIND(\"]\",INDEX(WS,ROWS($A$337:$A363)))+1,32))&T(NOW())","v":""},"","","","","","","","","",0,{"$nulls":43},425222,"Рачунарска опрема"]
[28,{"$f":"IF(M364>0,MAX($B$335:B363)+1,\"\")","v":""},{"$f":"IF(ISERROR(INDEX(WS,ROWS($A$337:$A364))),\"\",MID(INDEX(WS,ROWS($A$337:$A364)), FIND(\"]\",INDEX(WS,ROWS($A$337:$A364)))+1,32))&T(NOW())","v":""},"","","","","","","","","",0,{"$nulls":43},425223,"Опрема за комуникацију"]
[29,{"$f":"IF(M365>0,MAX($B$335:B364)+1,\"\")","v":""},{"$f":"IF(ISERROR(INDEX(WS,ROWS($A$337:$A365))),\"\",MID(INDEX(WS,ROWS($A$337:$A365)), FIND(\"]\",INDEX(WS,ROWS($A$337:$A365)))+1,32))&T(NOW())","v":""},"","","","","","","","","",0,{"$nulls":43},425224,"Електронска и фотографска опрема"]
[30,{"$f":"IF(M366>0,MAX($B$335:B365)+1,\"\")","v":""},{"$f":"IF(ISERROR(INDEX(WS,ROWS($A$337:$A366))),\"\",MID(INDEX(WS,ROWS($A$337:$A366)), FIND(\"]\",INDEX(WS,ROWS($A$337:$A366)))+1,32))&T(NOW())","v":""},"","","","","","","","","",0,{"$nulls":43},425225,"Опрема за домаћинство и угоститељство"]
[31,{"$f":"IF(M367>0,MAX($B$335:B366)+1,\"\")","v":""},{"$f":"IF(ISERROR(INDEX(WS,ROWS($A$337:$A367))),\"\",MID(INDEX(WS,ROWS($A$337:$A367)), FIND(\"]\",INDEX(WS,ROWS($A$337:$A367)))+1,32))&T(NOW())","v":""},"","","","","","","","","",0,{"$nulls":43},425226,"Биротехничка опрема"]
[32,{"$f":"IF(M368>0,MAX($B$335:B367)+1,\"\")","v":""},{"$f":"IF(ISERROR(INDEX(WS,ROWS($A$337:$A368))),\"\",MID(INDEX(WS,ROWS($A$337:$A368)), FIND(\"]\",INDEX(WS,ROWS($A$337:$A368)))+1,32))&T(NOW())","v":""},"","","","","","","","","",0,{"$nulls":43},425227,"Уградна опрема"]
[33,{"$f":"IF(M369>0,MAX($B$335:B368)+1,\"\")","v":""},{"$f":"IF(ISERROR(INDEX(WS,ROWS($A$337:$A369))),\"\",MID(INDEX(WS,ROWS($A$337:$A369)), FIND(\"]\",INDEX(WS,ROWS($A$337:$A369)))+1,32))&T(NOW())","v":""},{"$f":"IF($C369<>\"\",INDIRECT(\"'\"&$C369&\"'\"&\"!y2\"),\"\")","v":""},{"$f":"IF($C369<>\"\",INDIRECT(\"'\"&$C369&\"'\"&\"!z2\"),\"\")","v":""},{"$f":"IF($C369<>\"\",INDIRECT(\"'\"&$C369&\"'\"&\"!aa2\"),\"\")","v":""},{"$f":"IF($C369<>\"\",INDIRECT(\"'\"&$C369&\"'\"&\"!ab2\"),\"\")","v":""},{"$f":"IF($C369<>\"\",INDIRECT(\"'\"&$C369&\"'\"&\"!ac2\"),\"\")","v":""},{"$f":"IF($C369<>\"\",INDIRECT(\"'\"&$C369&\"'\"&\"!ad2\"),\"\")","v":""},{"$f":"IF($C369<>\"\",INDIRECT(\"'\"&$C369&\"'\"&\"!ae2\"),\"\")","v":""},{"$f":"IF($C369<>\"\",INDIRECT(\"'\"&$C369&\"'\"&\"!af2\"),\"\")","v":""},{"$f":"IF($C369<>\"\",INDIRECT(\"'\"&$C369&\"'\"&\"!ag2\"),\"\")","v":""},0,{"$nulls":43},425229,"Остале поправке и одржавање административне опреме"]
[34,{"$f":"IF(M370>0,MAX($B$335:B369)+1,\"\")","v":""},{"$f":"IF(ISERROR(INDEX(WS,ROWS($A$337:$A370))),\"\",MID(INDEX(WS,ROWS($A$337:$A370)), FIND(\"]\",INDEX(WS,ROWS($A$337:$A370)))+1,32))&T(NOW())","v":""},"","","","","","","","","",0,{"$nulls":43},425230,"Текуће поправке и одржавање опреме за пољопривреду"]
[35,{"$f":"IF(M371>0,MAX($B$335:B370)+1,\"\")","v":""},{"$f":"IF(ISERROR(INDEX(WS,ROWS($A$337:$A371))),\"\",MID(INDEX(WS,ROWS($A$337:$A371)), FIND(\"]\",INDEX(WS,ROWS($A$337:$A371)))+1,32))&T(NOW())","v":""},"","","","","","","","","",0,{"$nulls":43},425231,"Текуће поправке и одржавање опреме за пољопривреду"]
[36,{"$f":"IF(M372>0,MAX($B$335:B371)+1,\"\")","v":""},{"$f":"IF(ISERROR(INDEX(WS,ROWS($A$337:$A372))),\"\",MID(INDEX(WS,ROWS($A$337:$A372)), FIND(\"]\",INDEX(WS,ROWS($A$337:$A372)))+1,32))&T(NOW())","v":""},"","","","","","","","","",0,{"$nulls":43},425240,"Текуће поправке и одржавање опреме за очување животне средине и науку"]
[37,{"$f":"IF(M373>0,MAX($B$335:B372)+1,\"\")","v":""},{"$f":"IF(ISERROR(INDEX(WS,ROWS($A$337:$A373))),\"\",MID(INDEX(WS,ROWS($A$337:$A373)), FIND(\"]\",INDEX(WS,ROWS($A$337:$A373)))+1,32))&T(NOW())","v":""},"","","","","","","","","",0,{"$nulls":43},425241,"Текуће поправке и одржавање опреме за очување животне средине"]
[38,{"$f":"IF(M374>0,MAX($B$335:B373)+1,\"\")","v":""},{"$f":"IF(ISERROR(INDEX(WS,ROWS($A$337:$A374))),\"\",MID(INDEX(WS,ROWS($A$337:$A374)), FIND(\"]\",INDEX(WS,ROWS($A$337:$A374)))+1,32))&T(NOW())","v":""},"","","","","","","","","",0,{"$nulls":43},425242,"Текуће поправке и одржавање опреме за науку"]
[39,{"$f":"IF(M375>0,MAX($B$335:B374)+1,\"\")","v":""},{"$f":"IF(ISERROR(INDEX(WS,ROWS($A$337:$A375))),\"\",MID(INDEX(WS,ROWS($A$337:$A375)), FIND(\"]\",INDEX(WS,ROWS($A$337:$A375)))+1,32))&T(NOW())","v":""},"","","","","","","","","",0,{"$nulls":43},425250,"Текуће поправке и одржавање медицинске и лабораторијске опреме"]
[40,{"$f":"IF(M376>0,MAX($B$335:B375)+1,\"\")","v":""},{"$f":"IF(ISERROR(INDEX(WS,ROWS($A$337:$A376))),\"\",MID(INDEX(WS,ROWS($A$337:$A376)), FIND(\"]\",INDEX(WS,ROWS($A$337:$A376)))+1,32))&T(NOW())","v":""},"","","","","","","","","",0,{"$nulls":43},425251,"Текуће поправке и одржавање медицинске опреме"]
[41,{"$f":"IF(M377>0,MAX($B$335:B376)+1,\"\")","v":""},{"$f":"IF(ISERROR(INDEX(WS,ROWS($A$337:$A377))),\"\",MID(INDEX(WS,ROWS($A$337:$A377)), FIND(\"]\",INDEX(WS,ROWS($A$337:$A377)))+1,32))&T(NOW())","v":""},"","","","","","","","","",0,{"$nulls":43},425252,"Текуће поправке и одржавање лабораторијске опреме"]
[42,{"$f":"IF(M378>0,MAX($B$335:B377)+1,\"\")","v":""},{"$f":"IF(ISERROR(INDEX(WS,ROWS($A$337:$A378))),\"\",MID(INDEX(WS,ROWS($A$337:$A378)), FIND(\"]\",INDEX(WS,ROWS($A$337:$A378)))+1,32))&T(NOW())","v":""},"","","","","","","","","",0,{"$nulls":43},425253,"Текуће поправке и одржавање мерних и контролних инструмената"]
[43,{"$f":"IF(M379>0,MAX($B$335:B378)+1,\"\")","v":""},{"$f":"IF(ISERROR(INDEX(WS,ROWS($A$337:$A379))),\"\",MID(INDEX(WS,ROWS($A$337:$A379)), FIND(\"]\",INDEX(WS,ROWS($A$337:$A379)))+1,32))&T(NOW())","v":""},"","","","","","","","","",0,{"$nulls":43},425260,"Текуће поправке и одржавање опреме за образовање, културу и спорт"]
[44,{"$f":"IF(M380>0,MAX($B$335:B379)+1,\"\")","v":""},{"$f":"IF(ISERROR(INDEX(WS,ROWS($A$337:$A380))),\"\",MID(INDEX(WS,ROWS($A$337:$A380)), FIND(\"]\",INDEX(WS,ROWS($A$337:$A380)))+1,32))&T(NOW())","v":""},"","","","","","","","","",0,{"$nulls":43},425261,"Текуће поправке и одржавање опреме за образовање"]
[45,{"$f":"IF(M381>0,MAX($B$335:B380)+1,\"\")","v":""},{"$f":"IF(ISERROR(INDEX(WS,ROWS($A$337:$A381))),\"\",MID(INDEX(WS,ROWS($A$337:$A381)), FIND(\"]\",INDEX(WS,ROWS($A$337:$A381)))+1,32))&T(NOW())","v":""},"","","","","","","","","",0,{"$nulls":43},425262,"Текуће поправке и одржавање опреме за културу"]
[46,{"$f":"IF(M382>0,MAX($B$335:B381)+1,\"\")","v":""},{"$f":"IF(ISERROR(INDEX(WS,ROWS($A$337:$A382))),\"\",MID(INDEX(WS,ROWS($A$337:$A382)), FIND(\"]\",INDEX(WS,ROWS($A$337:$A382)))+1,32))&T(NOW())","v":""},"","","","","","","","","",0,{"$nulls":43},425263,"Текуће поправке и одржавање опреме за спорт"]
[47,{"$f":"IF(M383>0,MAX($B$335:B382)+1,\"\")","v":""},{"$f":"IF(ISERROR(INDEX(WS,ROWS($A$337:$A383))),\"\",MID(INDEX(WS,ROWS($A$337:$A383)), FIND(\"]\",INDEX(WS,ROWS($A$337:$A383)))+1,32))&T(NOW())","v":""},"","","","","","","","","",0,{"$nulls":43},425270,"Текуће поправке и одржавање опреме за војску"]
[48,{"$f":"IF(M384>0,MAX($B$335:B383)+1,\"\")","v":""},{"$f":"IF(ISERROR(INDEX(WS,ROWS($A$337:$A384))),\"\",MID(INDEX(WS,ROWS($A$337:$A384)), FIND(\"]\",INDEX(WS,ROWS($A$337:$A384)))+1,32))&T(NOW())","v":""},"","","","","","","","","",0,{"$nulls":43},425271,"Текуће поправке и одржавање опреме за војску"]
[49,{"$f":"IF(M385>0,MAX($B$335:B384)+1,\"\")","v":""},{"$f":"IF(ISERROR(INDEX(WS,ROWS($A$337:$A385))),\"\",MID(INDEX(WS,ROWS($A$337:$A385)), FIND(\"]\",INDEX(WS,ROWS($A$337:$A385)))+1,32))&T(NOW())","v":""},"","","","","","","","","",0,{"$nulls":43},425280,"Текуће поправке и одржавање опреме за јавну безбедност"]
[50,{"$f":"IF(M386>0,MAX($B$335:B385)+1,\"\")","v":""},{"$f":"IF(ISERROR(INDEX(WS,ROWS($A$337:$A386))),\"\",MID(INDEX(WS,ROWS($A$337:$A386)), FIND(\"]\",INDEX(WS,ROWS($A$337:$A386)))+1,32))&T(NOW())","v":""},"","","","","","","","","",0,{"$nulls":43},425281,"Текуће поправке и одржавање опреме за јавну безбедност"]
[51,{"$f":"IF(M387>0,MAX($B$335:B386)+1,\"\")","v":""},{"$f":"IF(ISERROR(INDEX(WS,ROWS($A$337:$A387))),\"\",MID(INDEX(WS,ROWS($A$337:$A387)), FIND(\"]\",INDEX(WS,ROWS($A$337:$A387)))+1,32))&T(NOW())","v":""},"","","","","","","","","",0,{"$nulls":43},425290,"Текуће поправке и одржавање производне, моторне, непокретне и немоторне опреме"]
[52,{"$f":"IF(M388>0,MAX($B$335:B387)+1,\"\")","v":""},{"$f":"IF(ISERROR(INDEX(WS,ROWS($A$337:$A388))),\"\",MID(INDEX(WS,ROWS($A$337:$A388)), FIND(\"]\",INDEX(WS,ROWS($A$337:$A388)))+1,32))&T(NOW())","v":""},"","","","","","","","","",0,{"$nulls":43},425291,"Текуће поправке и одржавање производне, моторне, непокретне и немоторне опреме"]
[53,{"$f":"IF(M389>0,MAX($B$335:B388)+1,\"\")","v":""},{"$f":"IF(ISERROR(INDEX(WS,ROWS($A$337:$A389))),\"\",MID(INDEX(WS,ROWS($A$337:$A389)), FIND(\"]\",INDEX(WS,ROWS($A$337:$A389)))+1,32))&T(NOW())","v":""},"","","","","","","","","",0,{"$nulls":43},426000,"Материјал"]
[54,{"$f":"IF(M390>0,MAX($B$335:B389)+1,\"\")","v":""},{"$f":"IF(ISERROR(INDEX(WS,ROWS($A$337:$A390))),\"\",MID(INDEX(WS,ROWS($A$337:$A390)), FIND(\"]\",INDEX(WS,ROWS($A$337:$A390)))+1,32))&T(NOW())","v":""},"","","","","","","","","",0,{"$nulls":43},426100,"Административни материјал"]
[55,{"$f":"IF(M391>0,MAX($B$335:B390)+1,\"\")","v":""},{"$f":"IF(ISERROR(INDEX(WS,ROWS($A$337:$A391))),\"\",MID(INDEX(WS,ROWS($A$337:$A391)), FIND(\"]\",INDEX(WS,ROWS($A$337:$A391)))+1,32))&T(NOW())","v":""},"","","","","","","","","",0,{"$nulls":43},426110,"Канцеларијски материјал"]
[56,{"$f":"IF(M392>0,MAX($B$335:B391)+1,\"\")","v":""},{"$f":"IF(ISERROR(INDEX(WS,ROWS($A$337:$A392))),\"\",MID(INDEX(WS,ROWS($A$337:$A392)), FIND(\"]\",INDEX(WS,ROWS($A$337:$A392)))+1,32))&T(NOW())","v":""},"","","","","","","","","",0,{"$nulls":43},426111,"Канцеларијски материјал"]
[57,{"$f":"IF(M393>0,MAX($B$335:B392)+1,\"\")","v":""},{"$f":"IF(ISERROR(INDEX(WS,ROWS($A$337:$A393))),\"\",MID(INDEX(WS,ROWS($A$337:$A393)), FIND(\"]\",INDEX(WS,ROWS($A$337:$A393)))+1,32))&T(NOW())","v":""},"","","","","","","","","",0,{"$nulls":43},426120,"Одећа, обућа и униформе"]
[58,{"$f":"IF(M394>0,MAX($B$335:B393)+1,\"\")","v":""},{"$f":"IF(ISERROR(INDEX(WS,ROWS($A$337:$A394))),\"\",MID(INDEX(WS,ROWS($A$337:$A394)), FIND(\"]\",INDEX(WS,ROWS($A$337:$A394)))+1,32))&T(NOW())","v":""},"","","","","","","","","",0,{"$nulls":43},426121,"Расходи за радну униформу"]
[59,{"$f":"IF(M395>0,MAX($B$335:B394)+1,\"\")","v":""},{"$f":"IF(ISERROR(INDEX(WS,ROWS($A$337:$A395))),\"\",MID(INDEX(WS,ROWS($A$337:$A395)), FIND(\"]\",INDEX(WS,ROWS($A$337:$A395)))+1,32))&T(NOW())","v":""},"","","","","","","","","",0,{"$nulls":43},426122,"Службена одећа"]
[60,{"$f":"IF(M396>0,MAX($B$335:B395)+1,\"\")","v":""},{"$f":"IF(ISERROR(INDEX(WS,ROWS($A$337:$A396))),\"\",MID(INDEX(WS,ROWS($A$337:$A396)), FIND(\"]\",INDEX(WS,ROWS($A$337:$A396)))+1,32))&T(NOW())","v":""},"","","","","","","","","",0,{"$nulls":43},426123,"Униформе"]
[61,{"$f":"IF(M397>0,MAX($B$335:B396)+1,\"\")","v":""},{"$f":"IF(ISERROR(INDEX(WS,ROWS($A$337:$A397))),\"\",MID(INDEX(WS,ROWS($A$337:$A397)), FIND(\"]\",INDEX(WS,ROWS($A$337:$A397)))+1,32))&T(NOW())","v":""},"","","","","","","","","",0,{"$nulls":43},426124,"ХТЗ опрема"]
[62,{"$f":"IF(M398>0,MAX($B$335:B397)+1,\"\")","v":""},{"$f":"IF(ISERROR(INDEX(WS,ROWS($A$337:$A398))),\"\",MID(INDEX(WS,ROWS($A$337:$A398)), FIND(\"]\",INDEX(WS,ROWS($A$337:$A398)))+1,32))&T(NOW())","v":""},"","","","","","","","","",0,{"$nulls":43},426129,"Остали расходи за одећу, обућу и униформе"]
[63,{"$f":"IF(M399>0,MAX($B$335:B398)+1,\"\")","v":""},{"$f":"IF(ISERROR(INDEX(WS,ROWS($A$337:$A399))),\"\",MID(INDEX(WS,ROWS($A$337:$A399)), FIND(\"]\",INDEX(WS,ROWS($A$337:$A399)))+1,32))&T(NOW())","v":""},"","","","","","","","","",0,{"$nulls":43},426130,"Биодекорација"]
[64,{"$f":"IF(M400>0,MAX($B$335:B399)+1,\"\")","v":""},{"$f":"IF(ISERROR(INDEX(WS,ROWS($A$337:$A400))),\"\",MID(INDEX(WS,ROWS($A$337:$A400)), FIND(\"]\",INDEX(WS,ROWS($A$337:$A400)))+1,32))&T(NOW())","v":""},"","","","","","","","","",0,{"$nulls":43},426131,"Цвеће и зеленило"]
[65,{"$f":"IF(M401>0,MAX($B$335:B400)+1,\"\")","v":""},{"$f":"IF(ISERROR(INDEX(WS,ROWS($A$337:$A401))),\"\",MID(INDEX(WS,ROWS($A$337:$A401)), FIND(\"]\",INDEX(WS,ROWS($A$337:$A401)))+1,32))&T(NOW())","v":""},{"$f":"IF($C401<>\"\",INDIRECT(\"'\"&$C401&\"'\"&\"!y2\"),\"\")","v":""},{"$f":"IF($C401<>\"\",INDIRECT(\"'\"&$C401&\"'\"&\"!z2\"),\"\")","v":""},{"$f":"IF($C401<>\"\",INDIRECT(\"'\"&$C401&\"'\"&\"!aa2\"),\"\")","v":""},{"$f":"IF($C401<>\"\",INDIRECT(\"'\"&$C401&\"'\"&\"!ab2\"),\"\")","v":""},{"$f":"IF($C401<>\"\",INDIRECT(\"'\"&$C401&\"'\"&\"!ac2\"),\"\")","v":""},{"$f":"IF($C401<>\"\",INDIRECT(\"'\"&$C401&\"'\"&\"!ad2\"),\"\")","v":""},{"$f":"IF($C401<>\"\",INDIRECT(\"'\"&$C401&\"'\"&\"!ae2\"),\"\")","v":""},{"$f":"IF($C401<>\"\",INDIRECT(\"'\"&$C401&\"'\"&\"!af2\"),\"\")","v":""},{"$f":"IF($C401<>\"\",INDIRECT(\"'\"&$C401&\"'\"&\"!ag2\"),\"\")","v":""},0,{"$nulls":43},426190,"Остали административни материјал"]
[66,{"$f":"IF(M402>0,MAX($B$335:B401)+1,\"\")","v":""},{"$f":"IF(ISERROR(INDEX(WS,ROWS($A$337:$A402))),\"\",MID(INDEX(WS,ROWS($A$337:$A402)), FIND(\"]\",INDEX(WS,ROWS($A$337:$A402)))+1,32))&T(NOW())","v":""},"","","","","","","","","",{"$f":"SUM(E402:L402)","v":0},{"$nulls":43},426191,"Остали административни материјал"]
[67,{"$f":"IF(M403>0,MAX($B$335:B402)+1,\"\")","v":""},{"$f":"IF(ISERROR(INDEX(WS,ROWS($A$337:$A403))),\"\",MID(INDEX(WS,ROWS($A$337:$A403)), FIND(\"]\",INDEX(WS,ROWS($A$337:$A403)))+1,32))&T(NOW())","v":""},"","","","","","","","","",0,{"$nulls":43},426200,"Материјали за пољопривреду"]
[68,{"$f":"IF(M404>0,MAX($B$335:B403)+1,\"\")","v":""},{"$f":"IF(ISERROR(INDEX(WS,ROWS($A$337:$A404))),\"\",MID(INDEX(WS,ROWS($A$337:$A404)), FIND(\"]\",INDEX(WS,ROWS($A$337:$A404)))+1,32))&T(NOW())","v":""},"","","","","","","","","",0,{"$nulls":43},426210,"Храна за животиње"]
[69,{"$f":"IF(M405>0,MAX($B$335:B404)+1,\"\")","v":""},{"$f":"IF(ISERROR(INDEX(WS,ROWS($A$337:$A405))),\"\",MID(INDEX(WS,ROWS($A$337:$A405)), FIND(\"]\",INDEX(WS,ROWS($A$337:$A405)))+1,32))&T(NOW())","v":""},"","","","","","","","","",0,{"$nulls":43},426211,"Храна за животиње"]
[70,{"$f":"IF(M406>0,MAX($B$335:B405)+1,\"\")","v":""},{"$f":"IF(ISERROR(INDEX(WS,ROWS($A$337:$A406))),\"\",MID(INDEX(WS,ROWS($A$337:$A406)), FIND(\"]\",INDEX(WS,ROWS($A$337:$A406)))+1,32))&T(NOW())","v":""},"","","","","","","","","",0,{"$nulls":43},426220,"Стока за експерименте"]
[71,{"$f":"IF(M407>0,MAX($B$335:B406)+1,\"\")","v":""},{"$f":"IF(ISERROR(INDEX(WS,ROWS($A$337:$A407))),\"\",MID(INDEX(WS,ROWS($A$337:$A407)), FIND(\"]\",INDEX(WS,ROWS($A$337:$A407)))+1,32))&T(NOW())","v":""},"","","","","","","","","",0,{"$nulls":43},426221,"Стока за експерименте"]
[72,{"$f":"IF(M408>0,MAX($B$335:B407)+1,\"\")","v":""},{"$f":"IF(ISERROR(INDEX(WS,ROWS($A$337:$A408))),\"\",MID(INDEX(WS,ROWS($A$337:$A408)), FIND(\"]\",INDEX(WS,ROWS($A$337:$A408)))+1,32))&T(NOW())","v":""},"","","","","","","","","",0,{"$nulls":43},426230,"Природна и вештачка ђубрива и слично"]
[73,{"$f":"IF(M409>0,MAX($B$335:B408)+1,\"\")","v":""},{"$f":"IF(ISERROR(INDEX(WS,ROWS($A$337:$A409))),\"\",MID(INDEX(WS,ROWS($A$337:$A409)), FIND(\"]\",INDEX(WS,ROWS($A$337:$A409)))+1,32))&T(NOW())","v":""},"","","","","","","","","",0,{"$nulls":43},426231,"Природна и вештачка ђубрива и слично"]
[74,{"$f":"IF(M410>0,MAX($B$335:B409)+1,\"\")","v":""},{"$f":"IF(ISERROR(INDEX(WS,ROWS($A$337:$A410))),\"\",MID(INDEX(WS,ROWS($A$337:$A410)), FIND(\"]\",INDEX(WS,ROWS($A$337:$A410)))+1,32))&T(NOW())","v":""},"","","","","","","","","",0,{"$nulls":43},426240,"Семе"]
[75,{"$f":"IF(M411>0,MAX($B$335:B410)+1,\"\")","v":""},{"$f":"IF(ISERROR(INDEX(WS,ROWS($A$337:$A411))),\"\",MID(INDEX(WS,ROWS($A$337:$A411)), FIND(\"]\",INDEX(WS,ROWS($A$337:$A411)))+1,32))&T(NOW())","v":""},"","","","","","","","","",0,{"$nulls":43},426241,"Семе"]
[76,{"$f":"IF(M412>0,MAX($B$335:B411)+1,\"\")","v":""},{"$f":"IF(ISERROR(INDEX(WS,ROWS($A$337:$A412))),\"\",MID(INDEX(WS,ROWS($A$337:$A412)), FIND(\"]\",INDEX(WS,ROWS($A$337:$A412)))+1,32))&T(NOW())","v":""},"","","","","","","","","",0,{"$nulls":43},426250,"Биљке"]
[77,{"$f":"IF(M413>0,MAX($B$335:B412)+1,\"\")","v":""},{"$f":"IF(ISERROR(INDEX(WS,ROWS($A$337:$A413))),\"\",MID(INDEX(WS,ROWS($A$337:$A413)), FIND(\"]\",INDEX(WS,ROWS($A$337:$A413)))+1,32))&T(NOW())","v":""},"","","","","","","","","",0,{"$nulls":43},426251,"Биљке"]
[78,{"$f":"IF(M414>0,MAX($B$335:B413)+1,\"\")","v":""},{"$f":"IF(ISERROR(INDEX(WS,ROWS($A$337:$A414))),\"\",MID(INDEX(WS,ROWS($A$337:$A414)), FIND(\"]\",INDEX(WS,ROWS($A$337:$A414)))+1,32))&T(NOW())","v":""},"","","","","","","","","",0,{"$nulls":43},426290,"Остали материјал за пољопривреду"]
[79,{"$f":"IF(M415>0,MAX($B$335:B414)+1,\"\")","v":""},{"$f":"IF(ISERROR(INDEX(WS,ROWS($A$337:$A415))),\"\",MID(INDEX(WS,ROWS($A$337:$A415)), FIND(\"]\",INDEX(WS,ROWS($A$337:$A415)))+1,32))&T(NOW())","v":""},"","","","","","","","","",0,{"$nulls":43},426291,"Остали материјал за пољопривреду"]
[80,{"$f":"IF(M416>0,MAX($B$335:B415)+1,\"\")","v":""},{"$f":"IF(ISERROR(INDEX(WS,ROWS($A$337:$A416))),\"\",MID(INDEX(WS,ROWS($A$337:$A416)), FIND(\"]\",INDEX(WS,ROWS($A$337:$A416)))+1,32))&T(NOW())","v":""},"","","","","","","","","",0,{"$nulls":43},426300,"Материјали за образовање и усавршавање запослених"]
[81,{"$f":"IF(M417>0,MAX($B$335:B416)+1,\"\")","v":""},{"$f":"IF(ISERROR(INDEX(WS,ROWS($A$337:$A417))),\"\",MID(INDEX(WS,ROWS($A$337:$A417)), FIND(\"]\",INDEX(WS,ROWS($A$337:$A417)))+1,32))&T(NOW())","v":""},"","","","","","","","","",0,{"$nulls":43},426310,"Публикације, часописи и гласила"]
[82,{"$f":"IF(M418>0,MAX($B$335:B417)+1,\"\")","v":""},{"$f":"IF(ISERROR(INDEX(WS,ROWS($A$337:$A418))),\"\",MID(INDEX(WS,ROWS($A$337:$A418)), FIND(\"]\",INDEX(WS,ROWS($A$337:$A418)))+1,32))&T(NOW())","v":""},"","","","","","","","","",0,{"$nulls":43},426311,"Стручна литература за редовне потребе запослених"]
[83,{"$f":"IF(M419>0,MAX($B$335:B418)+1,\"\")","v":""},{"$f":"IF(ISERROR(INDEX(WS,ROWS($A$337:$A419))),\"\",MID(INDEX(WS,ROWS($A$337:$A419)), FIND(\"]\",INDEX(WS,ROWS($A$337:$A419)))+1,32))&T(NOW())","v":""},"","","","","","","","","",0,{"$nulls":43},426312,"Стручна литература за образовање запослених"]
[84,{"$f":"IF(M420>0,MAX($B$335:B419)+1,\"\")","v":""},{"$f":"IF(ISERROR(INDEX(WS,ROWS($A$337:$A420))),\"\",MID(INDEX(WS,ROWS($A$337:$A420)), FIND(\"]\",INDEX(WS,ROWS($A$337:$A420)))+1,32))&T(NOW())","v":""},"","","","","","","","","",0,{"$nulls":43},426320,"Материјали за образовање"]
[85,{"$f":"IF(M421>0,MAX($B$335:B420)+1,\"\")","v":""},{"$f":"IF(ISERROR(INDEX(WS,ROWS($A$337:$A421))),\"\",MID(INDEX(WS,ROWS($A$337:$A421)), FIND(\"]\",INDEX(WS,ROWS($A$337:$A421)))+1,32))&T(NOW())","v":""},"","","","","","","","","",0,{"$nulls":43},426321,"Материјали за образовање"]
[86,{"$f":"IF(M422>0,MAX($B$335:B421)+1,\"\")","v":""},{"$f":"IF(ISERROR(INDEX(WS,ROWS($A$337:$A422))),\"\",MID(INDEX(WS,ROWS($A$337:$A422)), FIND(\"]\",INDEX(WS,ROWS($A$337:$A422)))+1,32))&T(NOW())","v":""},"","","","","","","","","",0,{"$nulls":43},426400,"Материјали за саобраћај"]
[87,{"$f":"IF(M423>0,MAX($B$335:B422)+1,\"\")","v":""},{"$f":"IF(ISERROR(INDEX(WS,ROWS($A$337:$A423))),\"\",MID(INDEX(WS,ROWS($A$337:$A423)), FIND(\"]\",INDEX(WS,ROWS($A$337:$A423)))+1,32))&T(NOW())","v":""},"","","","","","","","","",0,{"$nulls":43},426410,"Издаци за гориво"]
[88,{"$f":"IF(M424>0,MAX($B$335:B423)+1,\"\")","v":""},{"$f":"IF(ISERROR(INDEX(WS,ROWS($A$337:$A424))),\"\",MID(INDEX(WS,ROWS($A$337:$A424)), FIND(\"]\",INDEX(WS,ROWS($A$337:$A424)))+1,32))&T(NOW())","v":""},"","","","","","","","","",0,{"$nulls":43},426411,"Бензин"]
[89,{"$f":"IF(M425>0,MAX($B$335:B424)+1,\"\")","v":""},{"$f":"IF(ISERROR(INDEX(WS,ROWS($A$337:$A425))),\"\",MID(INDEX(WS,ROWS($A$337:$A425)), FIND(\"]\",INDEX(WS,ROWS($A$337:$A425)))+1,32))&T(NOW())","v":""},"","","","","","","","","",0,{"$nulls":43},426412,"Дизел гориво"]
[90,{"$f":"IF(M426>0,MAX($B$335:B425)+1,\"\")","v":""},{"$f":"IF(ISERROR(INDEX(WS,ROWS($A$337:$A426))),\"\",MID(INDEX(WS,ROWS($A$337:$A426)), FIND(\"]\",INDEX(WS,ROWS($A$337:$A426)))+1,32))&T(NOW())","v":""},"","","","","","","","","",0,{"$nulls":43},426413,"Уља и мазива"]
[91,{"$f":"IF(M427>0,MAX($B$335:B426)+1,\"\")","v":""},{"$f":"IF(ISERROR(INDEX(WS,ROWS($A$337:$A427))),\"\",MID(INDEX(WS,ROWS($A$337:$A427)), FIND(\"]\",INDEX(WS,ROWS($A$337:$A427)))+1,32))&T(NOW())","v":""},"","","","","","","","","",0,{"$nulls":43},426490,"Остали материјал за превозна средства"]
[92,{"$f":"IF(M428>0,MAX($B$335:B427)+1,\"\")","v":""},{"$f":"IF(ISERROR(INDEX(WS,ROWS($A$337:$A428))),\"\",MID(INDEX(WS,ROWS($A$337:$A428)), FIND(\"]\",INDEX(WS,ROWS($A$337:$A428)))+1,32))&T(NOW())","v":""},"","","","","","","","","",0,{"$nulls":43},426491,"Остали материјал за превозна средства"]
[93,{"$f":"IF(M429>0,MAX($B$335:B428)+1,\"\")","v":""},{"$f":"IF(ISERROR(INDEX(WS,ROWS($A$337:$A429))),\"\",MID(INDEX(WS,ROWS($A$337:$A429)), FIND(\"]\",INDEX(WS,ROWS($A$337:$A429)))+1,32))&T(NOW())","v":""},"","","","","","","","","",0,{"$nulls":43},426500,"Материјали за очување животне средине и науку"]
[94,{"$f":"IF(M430>0,MAX($B$335:B429)+1,\"\")","v":""},{"$f":"IF(ISERROR(INDEX(WS,ROWS($A$337:$A430))),\"\",MID(INDEX(WS,ROWS($A$337:$A430)), FIND(\"]\",INDEX(WS,ROWS($A$337:$A430)))+1,32))&T(NOW())","v":""},"","","","","","","","","",0,{"$nulls":43},426510,"Материјали за метеоролошка мерења"]
[95,{"$f":"IF(M431>0,MAX($B$335:B430)+1,\"\")","v":""},{"$f":"IF(ISERROR(INDEX(WS,ROWS($A$337:$A431))),\"\",MID(INDEX(WS,ROWS($A$337:$A431)), FIND(\"]\",INDEX(WS,ROWS($A$337:$A431)))+1,32))&T(NOW())","v":""},"","","","","","","","","",0,{"$nulls":43},426511,"Материјали за метеоролошка мерења"]
[96,{"$f":"IF(M432>0,MAX($B$335:B431)+1,\"\")","v":""},{"$f":"IF(ISERROR(INDEX(WS,ROWS($A$337:$A432))),\"\",MID(INDEX(WS,ROWS($A$337:$A432)), FIND(\"]\",INDEX(WS,ROWS($A$337:$A432)))+1,32))&T(NOW())","v":""},"","","","","","","","","",0,{"$nulls":43},426520,"Материјали за истраживање и развој"]
[97,{"$f":"IF(M433>0,MAX($B$335:B432)+1,\"\")","v":""},{"$f":"IF(ISERROR(INDEX(WS,ROWS($A$337:$A433))),\"\",MID(INDEX(WS,ROWS($A$337:$A433)), FIND(\"]\",INDEX(WS,ROWS($A$337:$A433)))+1,32))&T(NOW())","v":""},"","","","","","","","","",0,{"$nulls":43},426521,"Материјали за истраживање и развој"]
[98,{"$f":"IF(M434>0,MAX($B$335:B433)+1,\"\")","v":""},{"$f":"IF(ISERROR(INDEX(WS,ROWS($A$337:$A434))),\"\",MID(INDEX(WS,ROWS($A$337:$A434)), FIND(\"]\",INDEX(WS,ROWS($A$337:$A434)))+1,32))&T(NOW())","v":""},"","","","","","","","","",0,{"$nulls":43},426530,"Материјали за тестирање ваздуха"]
[99,{"$f":"IF(M435>0,MAX($B$335:B434)+1,\"\")","v":""},{"$f":"IF(ISERROR(INDEX(WS,ROWS($A$337:$A435))),\"\",MID(INDEX(WS,ROWS($A$337:$A435)), FIND(\"]\",INDEX(WS,ROWS($A$337:$A435)))+1,32))&T(NOW())","v":""},"","","","","","","","","",0,{"$nulls":43},426531,"Материјали за тестирање ваздуха"]
[100,{"$f":"IF(M436>0,MAX($B$335:B435)+1,\"\")","v":""},{"$f":"IF(ISERROR(INDEX(WS,ROWS($A$337:$A436))),\"\",MID(INDEX(WS,ROWS($A$337:$A436)), FIND(\"]\",INDEX(WS,ROWS($A$337:$A436)))+1,32))&T(NOW())","v":""},"","","","","","","","","",0,{"$nulls":43},426540,"Материјали за тестирање воде"]
[{"$nulls":56},426541,"Материјали за тестирање воде"]
[{"$nulls":56},426550,"Материјали за тестирање тла"]
[{"$nulls":56},426551,"Материјали за тестирање тла"]
[{"$nulls":56},426590,"Остали материјали за очување животне средине и науку"]
[{"$nulls":56},426591,"Остали материјали за очување животне средине и науку"]
[{"$nulls":56},426600,"Материјали за образовање, културу и спорт"]
[{"$nulls":56},426610,"Материјали за образовање"]
[{"$nulls":56},426611,"Материјали за образовање"]
[{"$nulls":56},426620,"Материјали за културу"]
[{"$nulls":56},426621,"Материјали за културу"]
[{"$nulls":56},426630,"Материјали за спорт"]
[{"$nulls":56},426631,"Материјали за спорт"]
[{"$nulls":56},426700,"Медицински и лабораторијски материјали"]
[{"$nulls":56},426710,"Материјали за медицинске тестове"]
[{"$nulls":56},426711,"Материјали за медицинске тестове"]
[{"$nulls":56},426720,"Материјали за лабораторијске тестове"]
[{"$nulls":56},426721,"Материјали за лабораторијске тестове"]
[{"$nulls":56},426730,"Материјали за вакцинацију"]
[{"$nulls":56},426731,"Материјали за вакцинацију"]
[{"$nulls":56},426740,"Материјали за имунизацију"]
[{"$nulls":56},426741,"Материјали за имунизацију"]
[{"$nulls":56},426750,"Лекови на рецепт"]
[{"$nulls":56},426751,"Лекови на рецепт"]
[{"$nulls":56},426760,"Ортопедски материјали"]
[{"$nulls":56},426761,"Ортопедски материјали"]
[{"$nulls":56},426790,"Остали медицински и лабораторијски материјали"]
[{"$nulls":56},426791,"Остали медицински и лабораторијски материјали"]
[{"$nulls":56},426800,"Материјали за одржавање хигијене и угоститељство"]
[{"$nulls":56},426810,"Материјали за одржавање хигијене"]
[{"$nulls":56},426811,"Хемијска средства за чишћење"]
[{"$nulls":56},426812,"Инвентар за одржавање хигијене"]
[{"$nulls":56},426819,"Остали материјал за одржавање хигијене"]
[{"$nulls":56},426820,"Материјали за угоститељство"]
[{"$nulls":56},426821,"Храна"]
[{"$nulls":56},426822,"Пића"]
[{"$nulls":56},426823,"Намирнице за припремање хране"]
[{"$nulls":56},426829,"Остали материјали за угоститељство"]
[{"$nulls":56},426900,"Материјали за посебне намене"]
[{"$nulls":56},426910,"Материјали за посебне намене"]
[{"$nulls":56},426911,"Потрошни материјал"]
[{"$nulls":56},426912,"Резервни делови"]
[{"$nulls":56},426913,"Алат и инвентар"]
[{"$nulls":56},426914,"Со за путеве"]
[{"$nulls":56},426919,"Остали материјали за посебне намене"]
[{"$nulls":56},430000,"Амортизација и употреба средстава за рад"]
[{"$nulls":56},431000,"Амортизација некретнина и опреме"]
[{"$nulls":56},431100,"Амортизација зграда и грађевинских објеката"]
[{"$nulls":56},431110,"Амортизација зграда и грађевинских објеката"]
[{"$nulls":56},431111,"Амортизација зграда и грађевинских објеката"]
[{"$nulls":56},431200,"Амортизација опреме"]
[{"$nulls":56},431210,"Амортизација опреме"]
[{"$nulls":56},431211,"Амортизација опреме"]
[{"$nulls":56},431300,"Амортизација осталих некретнина и опреме"]
[{"$nulls":56},431310,"Амортизација осталих некретнина и опреме"]
[{"$nulls":56},431311,"Амортизација осталих некретнина и опреме"]
[{"$nulls":56},432000,"АМОРТИЗАЦИЈА КУЛТИВИСАНЕ ИМОВИНЕ"]
[{"$nulls":56},432100,"Амортизација култивисане имовине"]
[{"$nulls":56},432110,"Амортизација култивисане имовине"]
[{"$nulls":56},432111,"Амортизација култивисане имовине"]
[{"$nulls":56},433000,"Употреба драгоцености"]
[{"$nulls":56},433100,"Употреба драгоцености"]
[{"$nulls":56},433110,"Употреба драгоцености"]
[{"$nulls":56},433111,"Употреба драгоцености"]
[{"$nulls":56},434000,"Употреба природне имовине"]
[{"$nulls":56},434100,"Употреба земљишта"]
[{"$nulls":56},434110,"Употреба земљишта"]
[{"$nulls":56},434111,"Употреба земљишта"]
[{"$nulls":56},434200,"Употреба подземног блага"]
[{"$nulls":56},434210,"Употреба подземног блага"]
[{"$nulls":56},434211,"Употреба подземног блага"]
[{"$nulls":56},434300,"Употреба шума и вода"]
[{"$nulls":56},434310,"Употреба шума"]
[{"$nulls":56},434311,"Употреба шума"]
[{"$nulls":56},434320,"Употреба вода"]
[{"$nulls":56},434321,"Употреба вода"]
[{"$nulls":56},435000,"Амортизација нематеријалне имовине"]
[{"$nulls":56},435100,"Амортизација нематеријалне имовине"]
[{"$nulls":56},435110,"Амортизација нематеријалне имовине"]
[{"$nulls":56},435111,"Амортизација нематеријалне имовине"]
[{"$nulls":56},440000,"Отплата камата и пратећи трошкови задуживања"]
[{"$nulls":56},441000,"Отплата домаћих камата"]
[{"$nulls":56},441100,"Отплата камата на домаће хартије од вредности"]
[{"$nulls":56},441110,"Отплата камата на домаће краткорочне хартије од вредности"]
[{"$nulls":56},441111,"Отплата камата на домаће краткорочне хартије од вредности"]
[{"$nulls":56},441120,"Отплата камата на домаће дугорочне хартије од вредности"]
[{"$nulls":56},441121,"Отплата камата на домаће дугорочне хартије од вредности"]
[{"$nulls":56},441200,"Отплата камата осталим нивоима власти"]
[{"$nulls":56},441210,"Отплата камата нивоу Републике"]
[{"$nulls":56},441211,"Отплата камата нивоу Републике"]
[{"$nulls":56},441220,"Отплате камата нивоу територијалних аутономија"]
[{"$nulls":56},441221,"Отплате камата нивоу територијалних аутономија"]
[{"$nulls":56},441230,"Отплата камата нивоу градова"]
[{"$nulls":56},441231,"Отплата камата нивоу градова"]
[{"$nulls":56},441240,"Отплата камата нивоу општина"]
[{"$nulls":56},441241,"Отплата камата нивоу општина"]
[{"$nulls":56},441250,"Отплата камата организацијама обавезног социјалног осигурања"]
[{"$nulls":56},441251,"Отплата камата Републичком фонда за здравствено осигурање"]
[{"$nulls":56},441252,"Отплата камата Републичком фонду за ПИО"]
[{"$nulls":56},441255,"Отплата камата Националној служби за запошљавање"]
[{"$nulls":56},441256,"Отплата камата Фонду за социјално осигурање војних осигураника"]
[{"$nulls":56},441300,"Отплата камата домаћим јавним финансијским институцијама"]
[{"$nulls":56},441310,"Отплата камата НБС"]
[{"$nulls":56},441311,"Отплата камата НБС"]
[{"$nulls":56},441390,"Отплата камата осталим домаћим јавним финансијским институцијама"]
[{"$nulls":56},441391,"Отплата камата осталим домаћим јавним финансијским институцијама"]
[{"$nulls":56},441400,"Отплата камата домаћим пословним банкама"]
[{"$nulls":56},441410,"Отплата камата домаћим пословним банкама"]
[{"$nulls":56},441411,"Отплата камата домаћим пословним банкама"]
[{"$nulls":56},441500,"Отплата камата осталим домаћим кредиторима"]
[{"$nulls":56},441510,"Отплата камата осталим домаћим кредиторима"]
[{"$nulls":56},441511,"Отплата камата осталим домаћим кредиторима"]
[{"$nulls":56},441600,"Отплата камата домаћинствима у земљи"]
[{"$nulls":56},441610,"Отплата камата домаћинствима у земљи"]
[{"$nulls":56},441611,"Отплата камата домаћинствима у земљи"]
[{"$nulls":56},441700,"Отплата камата на домаће финансијске деривате"]
[{"$nulls":56},441710,"Отплата камата на домаће финансијске деривате"]
[{"$nulls":56},441711,"Отплата камата на домаће финансијске деривате"]
[{"$nulls":56},441800,"Отплата камата на домаће менице"]
[{"$nulls":56},441810,"Отплата камата на домаће менице"]
[{"$nulls":56},441811,"Отплата камата на домаће менице"]
[{"$nulls":56},441900,"Финансијске промене на финансијским лизинзима"]
[{"$nulls":56},441910,"Финансијске промене на финансијским лизинзима"]
[{"$nulls":56},441911,"Камате на куповине путем лизинга"]
[{"$nulls":56},442000,"Отплата страних камата"]
[{"$nulls":56},442100,"Отплата камата на хартије од вредности емитоване на иностраном финансијском тржишту"]
[{"$nulls":56},442110,"Отплата камата на краткорочне хартије од вредности емитоване на иностраном финансијском тржишту"]
[{"$nulls":56},442111,"Отплата камата на краткорочне хартије од вредности емитоване на иностраном финансијском тржишту"]
[{"$nulls":56},442120,"Отплата камата на дугорочне хартије од вредности емитоване на иностраном финансијском тржишту"]
[{"$nulls":56},442121,"Отплата камата на дугорочне хартије од вредности емитоване на иностраном тржишту"]
[{"$nulls":56},442200,"Отплата камата страним владама"]
[{"$nulls":56},442210,"Отплата камата Париском клубу"]
[{"$nulls":56},442211,"Отплата камата Париском клубу"]
[{"$nulls":56},442220,"Отплата камата страним увозно извозним банкама"]
[{"$nulls":56},442221,"Отплата камата страним увозно извозним банкама"]
[{"$nulls":56},442290,"Отплата камата осталим страним владама"]
[{"$nulls":56},442291,"Отплата камата осталим страним владама"]
[{"$nulls":56},442300,"Отплата камата мултилатералним институцијама"]
[{"$nulls":56},442310,"Отплата камата Светској банци"]
[{"$nulls":56},442311,"Отплата камата Светској банци"]
[{"$nulls":56},442320,"Отплата камата IBRD"]
[{"$nulls":56},442321,"Отплата камата IBRD"]
[{"$nulls":56},442330,"Отплата камата EBRD"]
[{"$nulls":56},442331,"Отплата камата EBRD"]
[{"$nulls":56},442340,"Отплата камата EIB"]
[{"$nulls":56},442341,"Отплата камата EIB"]
[{"$nulls":56},442350,"Отплата камата CEB"]
[{"$nulls":56},442351,"Отплата камата CEB"]
[{"$nulls":56},442390,"Отплата камата осталим мултилатералним институцијама"]
[{"$nulls":56},442391,"Отплата камата осталим мултилатералним институцијама"]
[{"$nulls":56},442400,"Отплата камата страним пословним банкама"]
[{"$nulls":56},442410,"Отплата камата Лондонском клубу"]
[{"$nulls":56},442411,"Отплата камата Лондонском клубу"]
[{"$nulls":56},442490,"Отплата камата осталим страним пословним банкама"]
[{"$nulls":56},442491,"Отплата камата осталим страним пословним банкама"]
[{"$nulls":56},442500,"Отплата камата осталим страним кредиторима"]
[{"$nulls":56},442510,"Отплата камата осталим страним кредиторима"]
[{"$nulls":56},442511,"Отплата камата осталим страним кредиторима"]
[{"$nulls":56},442600,"Отплата камата на стране финансијске деривате"]
[{"$nulls":56},442610,"Отплата камата на стране финансијске деривате"]
[{"$nulls":56},442611,"Отплата камата на стране финансијске деривате"]
[{"$nulls":56},443000,"Отплата камата по гаранцијама"]
[{"$nulls":56},443100,"Отплата камата по гаранцијама"]
[{"$nulls":56},443110,"Отплата камата по гаранцијама"]
[{"$nulls":56},443111,"Отплата камата по гаранцијама"]
[{"$nulls":56},444000,"Пратећи трошкови задуживања"]
[{"$nulls":56},444100,"Негативне курсне разлике"]
[{"$nulls":56},444110,"Негативне курсне разлике"]
[{"$nulls":56},444111,"Негативне курсне разлике"]
[{"$nulls":56},444200,"Казне за кашњење"]
[{"$nulls":56},444210,"Казне за кашњење"]
[{"$nulls":56},444211,"Казне за кашњење"]
[{"$nulls":56},444212,"Казне по решењу правосудних органа"]
[{"$nulls":56},444219,"Остале казне"]
[{"$nulls":56},444300,"Остали пратећи трошкови задуживања"]
[{"$nulls":56},444310,"Таксе које проистичу из задуживања"]
[{"$nulls":56},444311,"Таксе које проистичу из задуживања"]
[{"$nulls":56},444320,"Трошкови накнада за неповучена средства"]
[{"$nulls":56},444321,"Трошкови накнада за неповучена средства Светској банци"]
[{"$nulls":56},444322,"Трошкови накнада за неповучена средства Међународној банци за обнову и развој (IBRD)"]
[{"$nulls":56},444323,"Трошкови накнада за неповучена средства Европској банци за обнову и развој (EBRD)"]
[{"$nulls":56},444324,"Трошкови накнада за неповучена средства Европској инвестиционој банци (EIB)"]
[{"$nulls":56},444325,"Трошкови накнада за неповучена средства Развојној банци Савета Европе (CEB)"]
[{"$nulls":56},444326,"Трошкови накнада за неповучена средства Немачкој развојној банци (KfW)"]
[{"$nulls":56},444327,"Трошкови накнада за неповучена средства Извозно-увозној банци Кине (Export-Import Bank of China)"]
[{"$nulls":56},444328,"Трошкови накнада за неповучена средства осталим билатералним институцијама"]
[{"$nulls":56},444329,"Трошкови накнада за неповучена средства осталим мултилатералним институцијама"]
[{"$nulls":56},444330,"Трошкови процене кредитног рејтинга"]
[{"$nulls":56},444331,"Трошкови процене кредитног рејтинга Републике Србије"]
[{"$nulls":56},444332,"Трошкови процене кредитног рејтинга хартија од вредности Републике Србије емитованих на међународном финансијском тржишту"]
[{"$nulls":56},444339,"Остали трошкови процене кредитног рејтинга"]
[{"$nulls":56},444340,"Трошкови правних услуга"]
[{"$nulls":56},444341,"Трошкови правних услуга за емисије хартија од вредности Републике Србије на међународном финансијском тржишту"]
[{"$nulls":56},444342,"Трошкови правних услуга за трансакције са финансијским дериватима"]
[{"$nulls":56},444349,"Остали трошкови правних услуга"]
[{"$nulls":56},444390,"Остали пратећи трошкови задуживања"]
[{"$nulls":56},444391,"Остали пратећи трошкови задуживања"]
[{"$nulls":56},450000,"Субвенције"]
[{"$nulls":56},451000,"Субвенције јавним нефинансијским предузећима и организацијама"]
[{"$nulls":56},451100,"Текуће субвенције јавним нефинансијским предузећима и организацијама"]
[{"$nulls":56},451110,"Текуће субвенције јавном градском саобраћају"]
[{"$nulls":56},451111,"Текуће субвенције јавном градском саобраћају"]
[{"$nulls":56},451120,"Текуће субвенције јавном железничком саобраћају"]
[{"$nulls":56},451121,"Текуће субвенције јавном железничком саобраћају за исплату зарада"]
[{"$nulls":56},451122,"Текуће субвенције јавном железничком саобраћају за отплату камата"]
[{"$nulls":56},451129,"Остале текуће субвенције јавном железничком саобраћају"]
[{"$nulls":56},451130,"Текуће субвенције за водопривреду"]
[{"$nulls":56},451131,"Текуће субвенције за водопривреду"]
[{"$nulls":56},451140,"Текуће субвенције за пољопривреду"]
[{"$nulls":56},451141,"Текуће субвенције за пољопривреду"]
[{"$nulls":56},451190,"Текуће субвенције осталим јавним нефинансијским предузећима и организацијама"]
[{"$nulls":56},451191,"Текуће субвенције осталим јавним нефинансијским предузећима и организацијама"]
[{"$nulls":56},451200,"Капиталне субвенције јавним нефинансијским предузећима и организацијама"]
[{"$nulls":56},451210,"Капиталне субвенције јавном градском саобраћају"]
[{"$nulls":56},451211,"Капиталне субвенције јавном градском саобраћају"]
[{"$nulls":56},451220,"Капиталне субвенције јавном железничком саобраћају"]
[{"$nulls":56},451221,"Капиталне субвенције јавном железничком саобраћају"]
[{"$nulls":56},451230,"Капиталне субвенције за водопривреду"]
[{"$nulls":56},451231,"Капиталне субвенције за водопривреду"]
[{"$nulls":56},451240,"Капиталне субвенције за пољопривреду"]
[{"$nulls":56},451241,"Капиталне субвенције за пољопривреду"]
[{"$nulls":56},451290,"Капиталне субвенције осталим јавним нефинансијским предузећима и организацијама"]
[{"$nulls":56},451291,"Капиталне субвенције осталим јавним нефинансијским предузећима и организацијама"]
[{"$nulls":56},452000,"Субвенције приватним финансијским институцијама"]
[{"$nulls":56},452100,"Текуће субвенције приватним финансијским институцијама"]
[{"$nulls":56},452110,"Текуће субвенције пословним и трговачким банкама"]
[{"$nulls":56},452111,"Текуће субвенције пословним и трговачким банкама"]
[{"$nulls":56},452190,"Текуће субвенције осталим финансијским институцијама"]
[{"$nulls":56},452191,"Текуће субвенције осталим финансијским институцијама"]
[{"$nulls":56},452200,"Капиталне субвенције приватним финансијским институцијама"]
[{"$nulls":56},452210,"Капиталне субвенције пословним и трговачким банкама"]
[{"$nulls":56},452211,"Капиталне субвенције пословним и трговачким банкама"]
[{"$nulls":56},452290,"Капиталне субвенције осталим финансијским институцијама"]
[{"$nulls":56},452291,"Капиталне субвенције осталим финансијским институцијама"]
[{"$nulls":56},453000,"Субвенције јавним финансијским институцијама"]
[{"$nulls":56},453100,"Текуће субвенције јавним финансијским институцијама"]
[{"$nulls":56},453110,"Текуће субвенције НБС"]
[{"$nulls":56},453111,"Текуће субвенције НБС"]
[{"$nulls":56},453190,"Текуће субвенције осталим јавним финансијским институцијама"]
[{"$nulls":56},453191,"Текуће субвенције осталим јавним финансијским институцијама"]
[{"$nulls":56},453200,"Капиталне субвенције јавним финансијским институцијама"]
[{"$nulls":56},453210,"Капиталне субвенције НБС"]
[{"$nulls":56},453211,"Капиталне субвенције НБС"]
[{"$nulls":56},453290,"Капиталне субвенције осталим јавним финансијским институцијама"]
[{"$nulls":56},453291,"Капиталне субвенције осталим јавним финансијским институцијама"]
[{"$nulls":56},454000,"Субвенције приватним предузећима"]
[{"$nulls":56},454100,"Текуће субвенције приватним предузећима"]
[{"$nulls":56},454110,"Текуће субвенције приватним предузећима"]
[{"$nulls":56},454111,"Текуће субвенције приватним предузећима"]
[{"$nulls":56},454200,"Капиталне субвенције приватним предузећима"]
[{"$nulls":56},454210,"Капиталне субвенције приватним предузећима"]
[{"$nulls":56},454211,"Капиталне субвенције приватним предузећима"]
[{"$nulls":56},460000,"Донације, дотације и трансфери"]
[{"$nulls":56},461000,"Донације страним владама"]
[{"$nulls":56},461100,"Текуће донације страним владама"]
[{"$nulls":56},461110,"Текуће донације страним владама"]
[{"$nulls":56},461111,"Текуће донације страним владама"]
[{"$nulls":56},461200,"Капиталне донације страним владама"]
[{"$nulls":56},461210,"Капиталне донације страним владама"]
[{"$nulls":56},461211,"Капиталне донације страним владама"]
[{"$nulls":56},462000,"Дотације међународним организацијама"]
[{"$nulls":56},462100,"Текуће дотације међународним организацијама"]
[{"$nulls":56},462110,"Текуће дотације међународном Црвеном крсту"]
[{"$nulls":56},462111,"Текуће дотације међународном Црвеном крсту"]
[{"$nulls":56},462120,"Текуће дотације за међународне чланарине"]
[{"$nulls":56},462121,"Текуће дотације за међународне чланарине"]
[{"$nulls":56},462190,"Остале текуће дотације међународним организацијама"]
[{"$nulls":56},462191,"Остале текуће дотације међународним организацијама"]
[{"$nulls":56},462200,"Капиталне дотације међународним организацијама"]
[{"$nulls":56},462210,"Капиталне дотације међународном Црвеном крсту"]
[{"$nulls":56},462211,"Капиталне дотације међународном Црвеном крсту"]
[{"$nulls":56},462290,"Остале капиталне дотације међународним организацијама"]
[{"$nulls":56},462291,"Остале капиталне дотације међународним организацијама"]
[{"$nulls":56},463000,"Трансфери осталим нивоима власти"]
[{"$nulls":56},463100,"Текући трансфери осталим нивоима власти"]
[{"$nulls":56},463110,"Текући трансфери нивоу Републике"]
[{"$nulls":56},463111,"Текући трансфери нивоу Републике"]
[{"$nulls":56},463120,"Текући трансфери нивоу територијалних аутономија"]
[{"$nulls":56},463121,"Текући трансфери за АП Војводина"]
[{"$nulls":56},463122,"Текући трансфери за југ Србије и АП Косово и Метохија"]
[{"$nulls":56},463130,"Текући трансфери нивоу градова"]
[{"$nulls":56},463131,"Текући трансфери нивоу градова"]
[{"$nulls":56},463132,"Наменски трансфери нивоу градова"]
[{"$nulls":56},463133,"Ненаменски трансфери нивоу градова"]
[{"$nulls":56},463140,"Текући трансфери нивоу општина"]
[{"$nulls":56},463141,"Текући трансфери нивоу општина"]
[{"$nulls":56},463142,"Наменски трансфери нивоу општина"]
[{"$nulls":56},463143,"Ненаменски трансфери нивоу општина"]
[{"$nulls":56},463200,"Капитални трансфери осталим нивоима власти"]
[{"$nulls":56},463210,"Капитални трансфери нивоу Републике"]
[{"$nulls":56},463211,"Капитални трансфери нивоу Републике"]
[{"$nulls":56},463220,"Капитални трансфери нивоу територијалних аутономија"]
[{"$nulls":56},463221,"Капитални трансфери за АП Војводина"]
[{"$nulls":56},463222,"Капитални трансфери за југ Србије и Косово и Метохију"]
[{"$nulls":56},463230,"Капитални трансфери нивоу градова"]
[{"$nulls":56},463231,"Капитални трансфери нивоу градова"]
[{"$nulls":56},463240,"Капитални трансфери нивоу општина"]
[{"$nulls":56},463241,"Капитални трансфери нивоу општина"]
[{"$nulls":56},464000,"Дотације организацијама обавезног социјалног осигурања"]
[{"$nulls":56},464100,"Текуће дотације организацијама обавезног социјалног осигурања"]
[{"$nulls":56},464110,"Текуће дотације Републичком фонду за здравствено осигурање"]
[{"$nulls":56},464111,"Текуће дотације Републичком фонду за здравствено осигурање"]
[{"$nulls":56},464112,"Текуће дотације здравственим установама за инвестиције и инвестиционо одржавање"]
[{"$nulls":56},464113,"Текуће дотације здравственим установама за набавку медицинске и друге опреме"]
[{"$nulls":56},464120,"Текуће дотације Републичком фонду за ПИО запослених"]
[{"$nulls":56},464121,"Текуће дотације Републичком фонду за ПИО за осигуранике запослене"]
[{"$nulls":56},464130,"Текуће дотације Републичком фонду за ПИО пољопривредника"]
[{"$nulls":56},464131,"Текуће дотације Републичком фонду за ПИО за осигуранике пољопривреднике"]
[{"$nulls":56},464140,"Текуће дотације Републичком фонду за ПИО самосталних делатности"]
[{"$nulls":56},464141,"Текуће дотације Републичком фонду за ПИО за осигуранике самосталних делатности"]
[{"$nulls":56},464150,"Текуће дотације Националној служби за запошљавање"]
[{"$nulls":56},464151,"Текуће дотације Националној служби за запошљавање"]
[{"$nulls":56},464160,"Текуће дотације Фонду за социјално осигурање војних осигураника"]
[{"$nulls":56},464161,"Текуће дотације Фонду за социјално осигурање војних осигураника"]
[{"$nulls":56},464200,"Капиталне дотације организацијама обавезног социјалног осигурања"]
[{"$nulls":56},464210,"Капиталне дотације Републичком фонду за здравствено осигурање"]
[{"$nulls":56},464211,"Капиталне дотације Републичком фонду за здравствено осигурање"]
[{"$nulls":56},464212,"Капиталне дотације здравственим установама за инвестиције и инвестиционо одржавање"]
[{"$nulls":56},464213,"Капиталне дотације здравственим установама за набавку медицинске и друге опреме"]
[{"$nulls":56},464220,"Капиталне дотације Републичком фонду за ПИО"]
[{"$nulls":56},464221,"Капиталне дотације Републичком фонду за ПИО"]
[{"$nulls":56},464250,"Капиталне дотације Националној служби за запошљавање"]
[{"$nulls":56},464251,"Капиталне дотације Националној служби за запошљавање"]
[{"$nulls":56},464260,"Капиталне дотације Фонду за социјално осигурање војних осигураника"]
[{"$nulls":56},464261,"Капиталне дотације Фонду за социјално осигурање војних осигураника"]
[{"$nulls":56},465000,"Остале дотације и трансфери"]
[{"$nulls":56},465100,"Остале текуће дотације и трансфери"]
[{"$nulls":56},465110,"Остале текуће дотације и трансфери"]
[{"$nulls":56},465111,"Остале текуће дотације и трансфери"]
[{"$nulls":56},465112,"Остале текуће дотације по закону"]
[{"$nulls":56},465200,"Остале капиталне дотације и трансфери"]
[{"$nulls":56},465210,"Остале капиталне дотације и трансфери"]
[{"$nulls":56},465211,"Остале капиталне дотације и трансфери"]
[{"$nulls":56},470000,"Социјално осигурање и социјална заштита"]
[{"$nulls":56},471000,"Права из социјалног осигурања (организације обавезног социјалног осигурања)"]
[{"$nulls":56},471100,"Права из социјалног осигурања која се исплаћују непосредно домаћинствима"]
[{"$nulls":56},471110,"Накнаде зарада осигураницима услед привремене неспособности за рад"]
[{"$nulls":56},471111,"Накнаде зарада у току привремене неспособности за рад проузроковане повредом на раду или професионалном болешћу"]
[{"$nulls":56},471112,"Накнаде зарада у току привремене неспособности за рад проузроковане болешћу"]
[{"$nulls":56},471113,"Накнаде зарада у току привремене неспособности за рад услед карантина, неге и сл."]
[{"$nulls":56},471114,"Накнаде за продужену негу детета у складу са Законом"]
[{"$nulls":56},471120,"Права из пензијског осигурања"]
[{"$nulls":56},471121,"Основне пензије"]
[{"$nulls":56},471122,"Пензије по уредби"]
[{"$nulls":56},471123,"Иностране пензије"]
[{"$nulls":56},471124,"Нега и помоћ пензионера"]
[{"$nulls":56},471125,"Телесно оштећење пензионера"]
[{"$nulls":56},471129,"Остала права из пензијског осигурања у складу са законом"]
[{"$nulls":56},471130,"Накнаде из инвалидског осигурања"]
[{"$nulls":56},471131,"Накнада за скраћено радно време за инвалиде II категорије"]
[{"$nulls":56},471132,"Накнада за инвалиде I и II категорије"]
[{"$nulls":56},471133,"Збирна накнада за инвалиде II категорије"]
[{"$nulls":56},471134,"Привремена накнада зараде од дана настајања инвалидности до запошљавања на друго одговарајуће радно место"]
[{"$nulls":56},471135,"Накнаде за телесно оштећење"]
[{"$nulls":56},471136,"Накнаде за инвалиде III категорије"]
[{"$nulls":56},471137,"Нега и помоћ осигураника"]
[{"$nulls":56},471139,"Накнаде за друго одговарајуће радно место - остала права из инвалидског осигурања"]
[{"$nulls":56},471140,"Исплате Националне службе за запошљавање"]
[{"$nulls":56},471141,"Накнаде за случај незапослености"]
[{"$nulls":56},471142,"Накнаде зарада"]
[{"$nulls":56},471143,"Средства за обуку и едукацију"]
[{"$nulls":56},471144,"Једнократна помоћ"]
[{"$nulls":56},471149,"Остале исплате Националне службе за запошљавање директно домаћинствима"]
[{"$nulls":56},471190,"Остала социјална давања непосредно домаћинствима"]
[{"$nulls":56},471191,"Исплате дневница и путних трошкова за путовања у земљи"]
[{"$nulls":56},471192,"Исплате дневница и путних трошкова за путовања у иностранству"]
[{"$nulls":56},471193,"Погребни трошкови"]
[{"$nulls":56},471194,"Накнаде за становање"]
[{"$nulls":56},471195,"Услуге рехабилитације и рекреације"]
[{"$nulls":56},471199,"Остала права исплаћена непосредно домаћинствима"]
[{"$nulls":56},471200,"Права из социјалног осигурања која се исплаћују непосредно пружаоцима услуга"]
[{"$nulls":56},471210,"Трошкови здравствене заштите у земљи плаћени непосредно пружаоцима услуга"]
[{"$nulls":56},471211,"Услуге болница, поликлиника и амбуланти"]
[{"$nulls":56},471212,"Услуге дијализе"]
[{"$nulls":56},471213,"Фармацеутске услуге и материјали"]
[{"$nulls":56},471214,"Стоматолошке услуге"]
[{"$nulls":56},471215,"Болничке услуге"]
[{"$nulls":56},471216,"Помагала и направе"]
[{"$nulls":56},471217,"Услуге које пружају установе социјалне заштите"]
[{"$nulls":56},471219,"Остале услуге здравствене заштите у земљи"]
[{"$nulls":56},471220,"Услуге здравствене заштите у иностранству плаћене непосредно пружаоцима услуга"]
[{"$nulls":56},471221,"Здравствена заштита по конвенцији"]
[{"$nulls":56},471222,"Здравствена заштита по принципу реципроцитета"]
[{"$nulls":56},471223,"Здравствена заштита осигураника који живе у иностранству"]
[{"$nulls":56},471224,"Трошкови слања осигураних лица на лечење у иностранство"]
[{"$nulls":56},471229,"Остали трошкови здравствене заштите у иностранству"]
[{"$nulls":56},471230,"Брига о пензионисаним лицима"]
[{"$nulls":56},471231,"Трошкови смештаја пензионера у домове за старе"]
[{"$nulls":56},471232,"Трошкови дневног смештаја, помоћи у кући и заштићеног становања"]
[{"$nulls":56},471240,"Брига о инвалидима"]
[{"$nulls":56},471241,"Трошкови смештаја деце инвалида"]
[{"$nulls":56},471242,"Трошкови образовања деце инвалида"]
[{"$nulls":56},471243,"Трошкови за заштитне радионице"]
[{"$nulls":56},471250,"Исплате послодавцима које врши Национална служба за запошљавање за запошљавање лица са евиденције"]
[{"$nulls":56},471251,"Учешће у финансирању зарада лица са евиденција која запошљавају фирме"]
[{"$nulls":56},471252,"Једнократна помоћ фирмама које запошљавају лица са евиденција"]
[{"$nulls":56},471253,"Средства за целокупни износ зарада фирмама које запошљавају лица са евиденције"]
[{"$nulls":56},471260,"Услуге обуке преко Националне службе за запошљавање"]
[{"$nulls":56},471261,"Опште услуге обуке"]
[{"$nulls":56},471262,"Услуге преквалификације"]
[{"$nulls":56},471263,"Специјализована обука"]
[{"$nulls":56},471290,"Остала права која се плаћају директно пружаоцима услуга"]
[{"$nulls":56},471291,"Услуге хитне помоћи"]
[{"$nulls":56},471292,"Услуге рехабилитације и рекреације"]
[{"$nulls":56},471299,"Остала права из социјалног осигурања која се исплаћују непосредно пружаоцима услуга"]
[{"$nulls":56},471900,"Трансфери другим организацијама обавезног социјалног осигурања за доприносе за осигурање"]
[{"$nulls":56},471910,"Трансфери Републичком фонду за здравствено осигурање за доприносе за осигурање"]
[{"$nulls":56},471911,"Трансфери Републичком фонду за здравствено осигурање за доприносе за осигурање"]
[{"$nulls":56},471912,"Трансфери за здравствено осигурање инвалида II и III категорије"]
[{"$nulls":56},471913,"Трансфери Републичком фонду за здравствено осигурање за накнаде зарада од дана инвалидности до дана правоснажности решења"]
[{"$nulls":56},471914,"Трансфери Републичком фонду за здравствено осигурање за доприносе за осигурање незапослених лица"]
[{"$nulls":56},471915,"Трансфери Републичком фонду за здравствено осигурање за доприносе за осигурање незапослених лица - продужено осигурање"]
[{"$nulls":56},471920,"Трансфери Републичком фонду за ПИО за осигуранике запослене за доприносе за осигурање"]
[{"$nulls":56},471921,"Трансфери Републичком фонду за ПИО за осигуранике запослене за доприносе за осигурање"]
[{"$nulls":56},471922,"Трансфери Републичком фонду за ПИО за осигуранике запослене за доприносе за осигурање незапослених"]
[{"$nulls":56},471923,"Трансфери Републичком фонду за ПИО за осигуранике запослене за доприносе за осигурање незапослених - продужено осигурање"]
[{"$nulls":56},471930,"Трансфери Републичком фонду за ПИО за осигуранике пољопривредника за доприносе за осигурање"]
[{"$nulls":56},471931,"Трансфери Републичком фонду за ПИО за осигуранике за осигуранике пољопривреднике за доприносе за осигурање"]
[{"$nulls":56},471940,"Трансфери Републичком фонду за ПИО за осигуранике самосталних делатности за доприносе за осигурање"]
[{"$nulls":56},471941,"Трансфери Републичком фонду за ПИО за осигуранике самосталних делатности за доприносе за осигурање"]
[{"$nulls":56},471942,"Трансфери Републичком фонду за ПИО за осигуранике самосталних делатности за доприносе за осигурање незапослених"]
[{"$nulls":56},471943,"Трансфери Републичком фонду за ПИО за осигуранике самосталних делатности за доприносе за осигурање незапослених - продужено осигурање"]
[{"$nulls":56},471950,"Трансфери Националној служби за запошљавање за доприносе за осигурање"]
[{"$nulls":56},471951,"Трансфери Националној служби за запошљавање за доприносе за осигурање"]
[{"$nulls":56},471960,"Трансфери Фонду за социјално осигурање војних осигураника за доприносе за осигурање"]
[{"$nulls":56},471961,"Трансфери Фонду за социјално осигурање војних осигураника за доприносе за осигурање"]
[{"$nulls":56},472000,"Накнаде за социјалну заштиту из буџета"]
[{"$nulls":56},472100,"Накнаде из буџета у случају болести и инвалидности"]
[{"$nulls":56},472110,"Накнаде за боловање"]
[{"$nulls":56},472111,"Накнаде за боловање"]
[{"$nulls":56},472120,"Накнаде за инвалидност"]
[{"$nulls":56},472121,"Накнаде за инвалидност"]
[{"$nulls":56},472130,"Накнаде ратним инвалидима"]
[{"$nulls":56},472131,"Накнаде ратним војним инвалидима"]
[{"$nulls":56},472132,"Накнаде ратним цивилним инвалидима"]
[{"$nulls":56},472200,"Накнаде из буџета за породиљско одсуство"]
[{"$nulls":56},472210,"Накнаде из буџета за породиљско одсуство"]
[{"$nulls":56},472211,"Накнаде из буџета за породиљско одсуство"]
[{"$nulls":56},472300,"Накнаде из буџета за децу и породицу"]
[{"$nulls":56},472310,"Накнаде из буџета за децу и породицу"]
[{"$nulls":56},472311,"Накнаде из буџета за децу и породицу"]
[{"$nulls":56},472400,"Накнаде из буџета за случај незапослености"]
[{"$nulls":56},472410,"Накнаде из буџета за случај незапослености"]
[{"$nulls":56},472411,"Накнаде из буџета за случај незапослености"]
[{"$nulls":56},472500,"Старосне и породичне пензије из буџета"]
[{"$nulls":56},472510,"Старосне пензије"]
[{"$nulls":56},472511,"Старосне пензије"]
[{"$nulls":56},472520,"Породичне пензије"]
[{"$nulls":56},472521,"Породичне пензије"]
[{"$nulls":56},472600,"Накнаде из буџета у случају смрти"]
[{"$nulls":56},472610,"Накнаде из буџета у случају смрти"]
[{"$nulls":56},472611,"Накнаде из буџета у случају смрти"]
[{"$nulls":56},472700,"Накнаде из буџета за образовање, културу, науку и спорт"]
[{"$nulls":56},472710,"Накнаде из буџета за образовање"]
[{"$nulls":56},472711,"Академске награде"]
[{"$nulls":56},472712,"Студентске награде"]
[{"$nulls":56},472713,"Ученичке награде"]
[{"$nulls":56},472714,"Студентске стипендије"]
[{"$nulls":56},472715,"Ученичке стипендије"]
[{"$nulls":56},472716,"Исхрана и смештај студената"]
[{"$nulls":56},472717,"Исхрана и смештај ученика"]
[{"$nulls":56},472718,"Превоз ученика"]
[{"$nulls":56},472719,"Остале накнаде за образовање"]
[{"$nulls":56},472720,"Накнаде из буџета за културу"]
[{"$nulls":56},472721,"Накнаде из буџета за културу"]
[{"$nulls":56},472730,"Накнаде из буџета за спорт"]
[{"$nulls":56},472731,"Спортске награде"]
[{"$nulls":56},472732,"Спортске стипендије"]
[{"$nulls":56},472740,"Накнаде из буџета за науку"]
[{"$nulls":56},472741,"Накнаде из буџета за науку"]
[{"$nulls":56},472742,"Накнаде за образовање и усавршавање научноистраживачких кадрова"]
[{"$nulls":56},472800,"Накнаде из буџета за становање и живот"]
[{"$nulls":56},472810,"Накнаде из буџета за становање и живот"]
[{"$nulls":56},472811,"Накнаде из буџета за становање и живот"]
[{"$nulls":56},472900,"Остале накнаде из буџета"]
[{"$nulls":56},472910,"Исплате бившим политичким затвореницима"]
[{"$nulls":56},472911,"Исплате бившим политичким затвореницима"]
[{"$nulls":56},472920,"Исплате лицима лишених слободе"]
[{"$nulls":56},472921,"Исплате осуђеницима"]
[{"$nulls":56},472922,"Накнада трошкова на име остваривања права лица лишених слободе"]
[{"$nulls":56},472930,"Једнократна помоћ"]
[{"$nulls":56},472931,"Једнократна помоћ"]
[{"$nulls":56},480000,"Остали расходи"]
[{"$nulls":56},481000,"Дотације невладиним организацијама"]
[{"$nulls":56},481100,"Дотације непрофитним организацијама које пружају помоћ домаћинствима"]
[{"$nulls":56},481110,"Дотације непрофитним организацијама које пружају помоћ домаћинствима"]
[{"$nulls":56},481111,"Дотације непрофитним здравственим организацијама"]
[{"$nulls":56},481112,"Дотације непрофитним здравственим организацијама за лечење особа лишених слободе"]
[{"$nulls":56},481113,"Дотације непрофитним здравственим организацијама за лечење особа непознатог пребивалишта"]
[{"$nulls":56},481120,"Дотације у натури непрофитним организацијама које пружају услуге домаћинствима"]
[{"$nulls":56},481121,"Дотације добротворним организацијама у храни, одећи, ћебадима и лековима за домаћинства"]
[{"$nulls":56},481130,"Дотације Црвеном крсту Србије"]
[{"$nulls":56},481131,"Дотације Црвеном крсту Србије"]
[{"$nulls":56},481900,"Дотације осталим непрофитним институцијама"]
[{"$nulls":56},481910,"Дотације спортским омладинским организацијама"]
[{"$nulls":56},481911,"Дотације спортским омладинским организацијама"]
[{"$nulls":56},481920,"Дотације етничким заједницама и мањинама"]
[{"$nulls":56},481921,"Дотације етничким заједницама и мањинама"]
[{"$nulls":56},481930,"Дотације верским заједницама"]
[{"$nulls":56},481931,"Дотације верским заједницама"]
[{"$nulls":56},481940,"Дотације осталим удружењима грађана и политичким странкама"]
[{"$nulls":56},481941,"Дотације осталим удружењима грађана"]
[{"$nulls":56},481942,"Дотације политичким странкама"]
[{"$nulls":56},481950,"Дотације привредним коморама"]
[{"$nulls":56},481951,"Дотације привредним коморама"]
[{"$nulls":56},481960,"Дотације приватним и алтернативним школама"]
[{"$nulls":56},481961,"Дотације приватним и алтернативним основним школама"]
[{"$nulls":56},481962,"Дотације приватним и алтернативним средњим школама"]
[{"$nulls":56},481969,"Дотације осталим приватним и алтернативним школама"]
[{"$nulls":56},481990,"Дотације осталим непрофитним институцијама"]
[{"$nulls":56},481991,"Дотације осталим непрофитним институцијама"]
[{"$nulls":56},482000,"Порези, обавезне таксе, казне и пенали"]
[{"$nulls":56},482100,"Остали порези"]
[{"$nulls":56},482110,"Порези на имовину"]
[{"$nulls":56},482111,"Стални порез на имовину"]
[{"$nulls":56},482112,"Порез на финансијске трансакције"]
[{"$nulls":56},482120,"Порез на робе и услуге"]
[{"$nulls":56},482121,"Порез на робу"]
[{"$nulls":56},482122,"Порез на услуге"]
[{"$nulls":56},482123,"Акцизе"]
[{"$nulls":56},482130,"Порез на коришћење роба или обављање активности"]
[{"$nulls":56},482131,"Регистрација возила"]
[{"$nulls":56},482132,"Порез на мобилне телефоне"]
[{"$nulls":56},482140,"Порези на међународну трговину"]
[{"$nulls":56},482141,"Царине"]
[{"$nulls":56},482190,"Остали порези"]
[{"$nulls":56},482191,"Остали порези"]
[{"$nulls":56},482200,"Обавезне таксе"]
[{"$nulls":56},482210,"Републичке таксе"]
[{"$nulls":56},482211,"Републичке таксе"]
[{"$nulls":56},482220,"Покрајинске таксе"]
[{"$nulls":56},482221,"Покрајинске таксе"]
[{"$nulls":56},482230,"Градске таксе"]
[{"$nulls":56},482231,"Градске таксе"]
[{"$nulls":56},482240,"Општинске таксе"]
[{"$nulls":56},482241,"Општинске таксе"]
[{"$nulls":56},482250,"Судске таксе"]
[{"$nulls":56},482251,"Судске таксе"]
[{"$nulls":56},482300,"Новчане казне и пенали"]
[{"$nulls":56},482310,"Републичке казне и пенали"]
[{"$nulls":56},482311,"Републичке казне"]
[{"$nulls":56},482312,"Пенали"]
[{"$nulls":56},482320,"Покрајинске казне"]
[{"$nulls":56},482321,"Покрајинске казне"]
[{"$nulls":56},482330,"Градске казне"]
[{"$nulls":56},482331,"Градске казне"]
[{"$nulls":56},482340,"Општинске казне"]
[{"$nulls":56},482341,"Општинске казне"]
[{"$nulls":56},483000,"Новчане казне и пенали по решењу судова"]
[{"$nulls":56},483100,"Новчане казне и пенали по решењу судова"]
[{"$nulls":56},483110,"Новчане казне и пенали по решењу судова"]
[{"$nulls":56},483111,"Новчане казне и пенали по решењу судова"]
[{"$nulls":56},484000,"Накнада штете за повреде или штету насталу услед елементарних непогода или других природних узрока"]
[{"$nulls":56},484100,"Накнада штете за повреде или штету насталу услед елементарних непогода"]
[{"$nulls":56},484110,"Накнада штете за повреде или штету насталу услед елементарних непогода"]
[{"$nulls":56},484111,"Накнада штете за повреде или штету насталу услед елементарних непогода"]
[{"$nulls":56},484200,"Накнада штете од дивљачи"]
[{"$nulls":56},484210,"Накнада штете од дивљачи"]
[{"$nulls":56},484211,"Накнада штете од дивљачи"]
[{"$nulls":56},485000,"Накнада штете за повреде или штету нанету од стране државних органа"]
[{"$nulls":56},485100,"Накнада штете за повреде или штету нанету од стране државних органа"]
[{"$nulls":56},485110,"Накнада штете за повреде или штету нанету од стране државних органа"]
[{"$nulls":56},485111,"Накнада штете неоправдано осуђених лица"]
[{"$nulls":56},485119,"Остале накнаде штете"]
[{"$nulls":56},489000,"Расходи који се финансирају из средстава за реализацију националног инвестиционог плана"]
[{"$nulls":56},489100,"Расходи који се финансирају из средстава за реализацију националног инвестиционог плана"]
[{"$nulls":56},489110,"Расходи који се финансирају из средстава за реализацију националног инвестиционог плана"]
[{"$nulls":56},489111,"Расходи који се финансирају из средстава за реализацију националног инвестиционог плана"]
[{"$nulls":56},490000,"Административни трансфери из буџета, од директних буџетских корисника индиректним буџетским корисницима или између буџетских корисника на истом нивоу и средства резерве"]
[{"$nulls":56},494000,"Текући расходи"]
[{"$nulls":56},494100,"Расходи за запослене"]
[{"$nulls":56},494110,"Плате, додаци и накнаде запослених"]
[{"$nulls":56},494111,"Плате, додаци и накнаде запослених"]
[{"$nulls":56},494120,"Социјални доприноси на терет послодавца"]
[{"$nulls":56},494121,"Допринос за пензијско и инвалидско осигурање"]
[{"$nulls":56},494122,"Допринос за здравствено осигурање"]
[{"$nulls":56},494123,"Допринос за случај незапослености"]
[{"$nulls":56},494130,"Накнаде у натури"]
[{"$nulls":56},494131,"Накнаде у натури"]
[{"$nulls":56},494140,"Социјална давања запосленима"]
[{"$nulls":56},494141,"Исплата накнада за време одсуствовања с посла"]
[{"$nulls":56},494142,"Расходи за образовање деце запослених"]
[{"$nulls":56},494143,"Отпремнине и помоћи"]
[{"$nulls":56},494144,"Помоћ у медицинском лечењу запосленог или чланова уже породице и друге помоћи запосленом"]
[{"$nulls":56},494150,"Накнаде трошкова за запослене"]
[{"$nulls":56},494151,"Накнаде трошкова за запослене"]
[{"$nulls":56},494160,"Награде запосленима и остали посебни расходи"]
[{"$nulls":56},494161,"Награде запосленима и остали посебни расходи"]
[{"$nulls":56},494170,"Посланички додатак"]
[{"$nulls":56},494171,"Посланички додатак"]
[{"$nulls":56},494180,"Судијски додатак"]
[{"$nulls":56},494181,"Судијски додатак"]
[{"$nulls":56},494200,"Коришћење услуга и роба"]
[{"$nulls":56},494210,"Стални трошкови"]
[{"$nulls":56},494211,"Трошкови платног промета и банкарских услуга"]
[{"$nulls":56},494212,"Енергетске услуге"]
[{"$nulls":56},494213,"Комуналне услуге"]
[{"$nulls":56},494214,"Услуге комуникација"]
[{"$nulls":56},494215,"Трошкови осигурања"]
[{"$nulls":56},494216,"Закуп имовине и опреме"]
[{"$nulls":56},494219,"Остали трошкови"]
[{"$nulls":56},494220,"Трошкови путовања"]
[{"$nulls":56},494221,"Трошкови службених путовања у земљи"]
[{"$nulls":56},494222,"Трошкови службених путовања у иностранство"]
[{"$nulls":56},494223,"Трошкови путовања у оквиру редовног рада"]
[{"$nulls":56},494224,"Трошкови путовања ученика"]
[{"$nulls":56},494229,"Остали трошкови транспорта"]
[{"$nulls":56},494230,"Услуге по уговору"]
[{"$nulls":56},494231,"Административне услуге"]
[{"$nulls":56},494232,"Компјутерске услуге"]
[{"$nulls":56},494233,"Услуге образовања и усавршавања запослених"]
[{"$nulls":56},494234,"Услуге информисања"]
[{"$nulls":56},494235,"Стручне услуге"]
[{"$nulls":56},494236,"Услуге за домаћинство и угоститељство"]
[{"$nulls":56},494237,"Репрезентација"]
[{"$nulls":56},494239,"Остале опште услуге"]
[{"$nulls":56},494240,"Специјализоване услуге"]
[{"$nulls":56},494241,"Пољопривредне услуге"]
[{"$nulls":56},494242,"Услуге образовања, културе и спорта"]
[{"$nulls":56},494243,"Медицинске услуге"]
[{"$nulls":56},494244,"Услуге одржавања аутопутева"]
[{"$nulls":56},494245,"Услуге одржавања националних паркова и природних површина"]
[{"$nulls":56},494246,"Услуге очувања животне средине, науке и геодетске услуге"]
[{"$nulls":56},494249,"Остале специјализоване услуге"]
[{"$nulls":56},494250,"Текуће поправке и одржавање"]
[{"$nulls":56},494251,"Текуће поправке и одржавање зграда и објеката"]
[{"$nulls":56},494252,"Текуће поправке и одржавање опреме"]
[{"$nulls":56},494260,"Материјал"]
[{"$nulls":56},494261,"Административни материјал"]
[{"$nulls":56},494262,"Материјал за пољопривреду"]
[{"$nulls":56},494263,"Материјал за образовање и усавршавање запослених"]
[{"$nulls":56},494264,"Материјал за саобраћај"]
[{"$nulls":56},494265,"Материјал за очување животне средине и науку"]
[{"$nulls":56},494266,"Материјал за образовање, културу и спорт"]
[{"$nulls":56},494267,"Медицински и лабораторијски материјали"]
[{"$nulls":56},494268,"Материјал за одржавање хигијене и угоститељство"]
[{"$nulls":56},494269,"Материјал за посебне намене"]
[{"$nulls":56},494300,"Амортизација и употреба средстава за рад"]
[{"$nulls":56},494310,"Амортизација некретнина и опреме"]
[{"$nulls":56},494311,"Амортизација зграда и грађевинских објеката"]
[{"$nulls":56},494312,"Амортизација опреме"]
[{"$nulls":56},494313,"Амортизација осталих некретнина и опреме"]
[{"$nulls":56},494320,"Амортизација култивисане имовине"]
[{"$nulls":56},494321,"Амортизација култивисане имовине"]
[{"$nulls":56},494330,"Употреба драгоцености"]
[{"$nulls":56},494331,"Употреба драгоцености"]
[{"$nulls":56},494340,"Употреба природне имовине"]
[{"$nulls":56},494341,"Употреба земљишта"]
[{"$nulls":56},494342,"Употреба подземног блага"]
[{"$nulls":56},494343,"Употреба шума и вода"]
[{"$nulls":56},494350,"Амортизација нематеријалне имовине"]
[{"$nulls":56},494351,"Амортизација нематеријалне имовине"]
[{"$nulls":56},494400,"Отплата камата и пратећи трошкови задуживања"]
[{"$nulls":56},494410,"Отплата домаћих камата"]
[{"$nulls":56},494411,"Отплата камата на домаће хартије од вредности"]
[{"$nulls":56},494412,"Отплата камата осталим нивоима власти"]
[{"$nulls":56},494413,"Отплата камата домаћим јавним финансијским институцијама"]
[{"$nulls":56},494414,"Отплата камата пословним банкама"]
[{"$nulls":56},494415,"Отплата камата осталим кредиторима"]
[{"$nulls":56},494416,"Отплата камата домаћинствима"]
[{"$nulls":56},494417,"Отплата камата на домаће финансијске деривате"]
[{"$nulls":56},494418,"Отплата камата на менице"]
[{"$nulls":56},494420,"Отплата страних камата"]
[{"$nulls":56},494421,"Отплата камата на хартије од вредности емитоване на иностраном финансијском тржишту"]
[{"$nulls":56},494422,"Отплата камата страним владама"]
[{"$nulls":56},494423,"Отплата камата мултилатералним институцијама"]
[{"$nulls":56},494424,"Отплата камата страним пословним банкама"]
[{"$nulls":56},494425,"Отплата камата осталим страним кредиторима"]
[{"$nulls":56},494426,"Отплата камата на стране финансијске деривате"]
[{"$nulls":56},494430,"Отплата камата по гаранцијама"]
[{"$nulls":56},494431,"Отплата камата по гаранцијама"]
[{"$nulls":56},494440,"Пратећи трошкови задуживања"]
[{"$nulls":56},494441,"Негативне курсне разлике"]
[{"$nulls":56},494442,"Казне за кашњење"]
[{"$nulls":56},494443,"Остали пратећи трошкови задуживања"]
[{"$nulls":56},494500,"Субвенције"]
[{"$nulls":56},494510,"Субвенције јавним нефинансијским предузећима и организацијама"]
[{"$nulls":56},494511,"Текуће субвенције јавним нефинансијским предузећима и организацијама"]
[{"$nulls":56},494512,"Капиталне субвенције јавним нефинансијским предузећима и организацијама"]
[{"$nulls":56},494520,"Субвенције приватним финансијским институцијама"]
[{"$nulls":56},494521,"Текуће субвенције приватним финансијским институцијама"]
[{"$nulls":56},494522,"Капиталне субвенције приватним финансијским институцијама"]
[{"$nulls":56},494530,"Субвенције јавним финансијским институцијама"]
[{"$nulls":56},494531,"Текуће субвенције јавним финансијским институцијама"]
[{"$nulls":56},494532,"Капиталне субвенције јавним финансијским институцијама"]
[{"$nulls":56},494540,"Субвенције приватним предузећима"]
[{"$nulls":56},494541,"Текуће субвенције приватним предузећима"]
[{"$nulls":56},494542,"Капиталне субвенције приватним предузећима"]
[{"$nulls":56},494700,"Права из социјалног осигурања"]
[{"$nulls":56},494710,"Права из социјалног осигурања (организације обавезног социјалног осигурања)"]
[{"$nulls":56},494711,"Права из социјалног осигурања која се исплаћују непосредно домаћинствима"]
[{"$nulls":56},494712,"Права из социјалног осигурања која се исплаћују непосредно пружаоцима услуга"]
[{"$nulls":56},494719,"Трансфери другим организацијама обавезног социјалног осигурања за доприносе за осигурање"]
[{"$nulls":56},494720,"Накнаде за социјалну заштиту из буџета"]
[{"$nulls":56},494721,"Накнаде из буџета у случају болести и инвалидности"]
[{"$nulls":56},494722,"Накнаде из буџета за породиљско одсуство"]
[{"$nulls":56},494723,"Накнаде из буџета за децу и породицу"]
[{"$nulls":56},494724,"Накнаде из буџета за случај незапослености"]
[{"$nulls":56},494725,"Старосне и породичне пензије из буџета"]
[{"$nulls":56},494726,"Накнаде из буџета у случају смрти"]
[{"$nulls":56},494727,"Накнаде из буџета за образовање, културу, науку и спорт"]
[{"$nulls":56},494728,"Накнаде из буџета за становање и живот"]
[{"$nulls":56},494729,"Остале накнаде за социјалну заштиту из буџета"]
[{"$nulls":56},494800,"Остали расходи"]
[{"$nulls":56},494810,"Дотације невладиним организацијама"]
[{"$nulls":56},494811,"Дотације непрофитним организацијама које пружају помоћ домаћинствима"]
[{"$nulls":56},494819,"Дотације осталим непрофитним институцијама"]
[{"$nulls":56},494820,"Порези, обавезне таксе и казне"]
[{"$nulls":56},494821,"Остали порези"]
[{"$nulls":56},494822,"Обавезне таксе"]
[{"$nulls":56},494823,"Новчане казне и пенали"]
[{"$nulls":56},494830,"Новчане казне и пенали по решењу судова"]
[{"$nulls":56},494831,"Новчане казне и пенали по решењу судова"]
[{"$nulls":56},494840,"Накнада штете за повреде или штету насталу услед елементарних непогода или других природних узрока"]
[{"$nulls":56},494841,"Накнада штете за повреде или штету насталу услед елементарних непогода"]
[{"$nulls":56},494842,"Накнада штете од дивљачи"]
[{"$nulls":56},494850,"Накнада штете за повреде или штету нанету од стране државних органа"]
[{"$nulls":56},494851,"Накнада штете за повреде или штету нанету од стране државних органа"]
[{"$nulls":56},495000,"Издаци за нефинансијску имовину"]
[{"$nulls":56},495100,"Основна средства"]
[{"$nulls":56},495110,"Зграде и грађевински објекти"]
[{"$nulls":56},495111,"Куповина зграда и објеката"]
[{"$nulls":56},495112,"Изградња зграда и објеката"]
[{"$nulls":56},495113,"Капитално одржавање зграда и објеката"]
[{"$nulls":56},495114,"Пројектно планирање"]
[{"$nulls":56},495120,"Машине и опрема"]
[{"$nulls":56},495121,"Опрема за саобраћај"]
[{"$nulls":56},495122,"Административна опрема"]
[{"$nulls":56},495123,"Опрема за пољопривреду"]
[{"$nulls":56},495124,"Опрема за заштиту животне средине"]
[{"$nulls":56},495125,"Медицинска и лабораторијска опрема"]
[{"$nulls":56},495126,"Опрема за образовање, науку, културу и спорт"]
[{"$nulls":56},495127,"Опрема за војску"]
[{"$nulls":56},495128,"Опрема за јавну безбедност"]
[{"$nulls":56},495129,"Опрема за производњу, моторна, непокретна и немоторна опрема"]
[{"$nulls":56},495130,"Остале некретнине и опрема"]
[{"$nulls":56},495131,"Остале некретнине и опрема"]
[{"$nulls":56},495140,"Култивисана имовина"]
[{"$nulls":56},495141,"Култивисана имовина"]
[{"$nulls":56},495150,"Нематеријална имовина"]
[{"$nulls":56},495151,"Нематеријална имовина"]
[{"$nulls":56},495200,"Залихе"]
[{"$nulls":56},495210,"Робне резерве"]
[{"$nulls":56},495211,"Робне резерве"]
[{"$nulls":56},495220,"Залихе производње"]
[{"$nulls":56},495221,"Залихе материјала"]
[{"$nulls":56},495222,"Залихе недовршене производње"]
[{"$nulls":56},495223,"Залихе готових производа"]
[{"$nulls":56},495230,"Залихе робе за даљу продају"]
[{"$nulls":56},495231,"Залихе робе за даљу продају"]
[{"$nulls":56},495300,"Драгоцености"]
[{"$nulls":56},495310,"Драгоцености"]
[{"$nulls":56},495311,"Драгоцености"]
[{"$nulls":56},495400,"Природна имовина"]
[{"$nulls":56},495410,"Земљиште"]
[{"$nulls":56},495411,"Земљиште"]
[{"$nulls":56},495420,"Рудна богатства"]
[{"$nulls":56},495421,"Копови"]
[{"$nulls":56},495430,"Шуме и воде"]
[{"$nulls":56},495431,"Шуме"]
[{"$nulls":56},495432,"Воде"]
[{"$nulls":56},496000,"Издаци за отплату главнице и набавку финансијске имовине"]
[{"$nulls":56},496100,"Отплата главнице"]
[{"$nulls":56},496110,"Отплате главнице домаћим кредиторима"]
[{"$nulls":56},496111,"Отплата главнице на домаће хартије од вредности, изузев акција"]
[{"$nulls":56},496112,"Отплата главнице осталим нивоима власти"]
[{"$nulls":56},496113,"Отплата главнице домаћим јавним финансијским институцијама"]
[{"$nulls":56},496114,"Отплата главнице домаћим пословним банкама"]
[{"$nulls":56},496115,"Отплата главнице осталим домаћим кредиторима"]
[{"$nulls":56},496116,"Отплата главнице домаћинствима у земљи"]
[{"$nulls":56},496117,"Отплата главнице на домаће финансијске деривате"]
[{"$nulls":56},496118,"Отплата домаћих меница"]
[{"$nulls":56},496119,"Исправка унутрашњег дуга"]
[{"$nulls":56},496120,"Отплата главнице страним кредиторима"]
[{"$nulls":56},496121,"Отплата главнице на хартије од вредности, изузев акција, емитоване на иностраном финансијском тржишту"]
[{"$nulls":56},496122,"Отплата главнице страним владама"]
[{"$nulls":56},496123,"Отплата главнице мултилатералним институцијама"]
[{"$nulls":56},496124,"Отплате главнице страним пословним банкама"]
[{"$nulls":56},496125,"Отплате главнице осталим страним кредиторима"]
[{"$nulls":56},496126,"Отплата главнице на стране финансијске деривате"]
[{"$nulls":56},496129,"Исправка спољног дуга"]
[{"$nulls":56},496130,"Отплата главнице по гаранцијама"]
[{"$nulls":56},496131,"Отплата главнице по гаранцијама"]
[{"$nulls":56},496140,"Отплата главнице за финансијски лизинг"]
[{"$nulls":56},496141,"Отплата главнице за финансијски лизинг"]
[{"$nulls":56},496150,"Отплата гаранција по комерцијалним трансакцијама"]
[{"$nulls":56},496151,"Отплата гаранција по комерцијалним трансакцијама"]
[{"$nulls":56},496200,"Набавка финансијске имовине"]
[{"$nulls":56},496210,"Набавка домаће финансијске имовине"]
[{"$nulls":56},496211,"Набавка домаћих хартија од вредности, изузев акција"]
[{"$nulls":56},496212,"Кредити осталим нивоима власти"]
[{"$nulls":56},496213,"Кредити домаћим јавним финансијским институцијама"]
[{"$nulls":56},496214,"Кредити домаћим пословним банкама"]
[{"$nulls":56},496215,"Кредити домаћим јавним нефинансијским институцијама"]
[{"$nulls":56},496216,"Кредити физичким лицима и домаћинствима у земљи"]
[{"$nulls":56},496217,"Кредити домаћим невладиним организацијама у земљи"]
[{"$nulls":56},496218,"Кредити домаћим нефинансијским приватним предузећима"]
[{"$nulls":56},496219,"Набавка домаћих акција и осталог капитала"]
[{"$nulls":56},496220,"Набавка стране финансијске имовине"]
[{"$nulls":56},496221,"Набавка страних хартија од вредности, изузев акција"]
[{"$nulls":56},496222,"Кредити страним владама"]
[{"$nulls":56},496223,"Кредити међународним организацијама"]
[{"$nulls":56},496224,"Кредити страним пословним банкама"]
[{"$nulls":56},496225,"Кредити страним нефинансијским институцијама"]
[{"$nulls":56},496226,"Кредити страним невладиним организацијама"]
[{"$nulls":56},496227,"Набавка страних акција и осталог капитала"]
[{"$nulls":56},496228,"Куповина стране валуте"]
[{"$nulls":56},499000,"Средства резерве"]
[{"$nulls":56},499100,"Средства резерве"]
[{"$nulls":56},499110,"Стална резерва"]
[{"$nulls":56},499111,"Стална резерва"]
[{"$nulls":56},499120,"Текућа резерва"]
[{"$nulls":56},499121,"Текућа резерва"]
[{"$nulls":56},500000,"Издаци за нефинансијску имовину"]
[{"$nulls":56},510000,"Основна средства"]
[{"$nulls":56},511000,"Зграде и грађевински објекти"]
[{"$nulls":56},511100,"Куповина зграда и објеката"]
[{"$nulls":56},511110,"Куповина стамбеног простора"]
[{"$nulls":56},511111,"Куповина стамбеног простора за јавне службенике"]
[{"$nulls":56},511112,"Куповина стамбеног простора за социјалне групе"]
[{"$nulls":56},511113,"Куповина стамбеног простора за избеглице"]
[{"$nulls":56},511118,"Куповина осталог стамбеног простора"]
[{"$nulls":56},511119,"Лизинг стамбеног простора"]
[{"$nulls":56},511120,"Куповина пословних зграда и пословног простора"]
[{"$nulls":56},511121,"Куповина канцеларијских зграда и осталог простора"]
[{"$nulls":56},511122,"Куповина болница, домова здравља и старачких домова"]
[{"$nulls":56},511123,"Куповина објеката за потребе образовања"]
[{"$nulls":56},511124,"Куповина ресторана"]
[{"$nulls":56},511125,"Куповина одмаралишта"]
[{"$nulls":56},511126,"Куповина складишта, силоса, гаража и сл."]
[{"$nulls":56},511127,"Куповина фабричких хала"]
[{"$nulls":56},511129,"Лизинг пословних зграда и пословног простора"]
[{"$nulls":56},511190,"Куповина осталих објеката"]
[{"$nulls":56},511191,"Куповина отворених спортских и рекреационих објеката"]
[{"$nulls":56},511192,"Куповина установа културе"]
[{"$nulls":56},511193,"Куповина затвора"]
[{"$nulls":56},511199,"Лизинг осталих објеката"]
[{"$nulls":56},511200,"Изградња зграда и објеката"]
[{"$nulls":56},511210,"Изградња стамбеног простора"]
[{"$nulls":56},511211,"Изградња стамбеног простора за јавне службенике"]
[{"$nulls":56},511212,"Изградња стамбеног простора за социјалне групе"]
[{"$nulls":56},511213,"Изградња стамбеног простора за избеглице"]
[{"$nulls":56},511219,"Изградња осталих стамбених простора"]
[{"$nulls":56},511220,"Изградња пословних зграда и пословног простора"]
[{"$nulls":56},511221,"Канцеларијске зграде и пословни простор"]
[{"$nulls":56},511222,"Болнице, домови здравља и старачки домови"]
[{"$nulls":56},511223,"Објекти за потребе образовања"]
[{"$nulls":56},511224,"Ресторани"]
[{"$nulls":56},511225,"Одмаралишта"]
[{"$nulls":56},511226,"Складишта, силоси, гараже и слично"]
[{"$nulls":56},511227,"Гранични прелази"]
[{"$nulls":56},511228,"Фабричке хале"]
[{"$nulls":56},511230,"Изградња саобраћајних објеката"]
[{"$nulls":56},511231,"Аутопутеви, путеви, мостови, надвожњаци и тунели"]
[{"$nulls":56},511232,"Пруге"]
[{"$nulls":56},511233,"Аеродромске писте"]
[{"$nulls":56},511240,"Изградња водоводне инфраструктуре"]
[{"$nulls":56},511241,"Водовод"]
[{"$nulls":56},511242,"Канализација"]
[{"$nulls":56},511243,"Луке"]
[{"$nulls":56},511244,"Бране"]
[{"$nulls":56},511290,"Изградња осталих објеката"]
[{"$nulls":56},511291,"Плиновод и плинарски радови"]
[{"$nulls":56},511292,"Комуникациони и електрични водови"]
[{"$nulls":56},511293,"Отворени спортски и рекреациони објекти"]
[{"$nulls":56},511294,"Установе културе"]
[{"$nulls":56},511295,"Затвори"]
[{"$nulls":56},511296,"Изградња система за наводњавање"]
[{"$nulls":56},511299,"Изградња осталих објеката"]
[{"$nulls":56},511300,"Капитално одржавање зграда и објеката"]
[{"$nulls":56},511310,"Капитално одржавање стамбених простора"]
[{"$nulls":56},511311,"Капитално одржавање стамбеног простора за јавне службенике"]
[{"$nulls":56},511312,"Капитално одржавање стамбеног простора за социјалне групе"]
[{"$nulls":56},511313,"Капитално одржавање стамбеног простора за избеглице"]
[{"$nulls":56},511319,"Капитално одржавање другог стамбеног простора"]
[{"$nulls":56},511320,"Капитално одржавање пословних зграда и пословног простора"]
[{"$nulls":56},511321,"Капитално одржавање пословних зграда и пословног простора"]
[{"$nulls":56},511322,"Капитално одржавање болница, домова здравља и старачких домова"]
[{"$nulls":56},511323,"Капитално одржавање објеката за потребе образовања"]
[{"$nulls":56},511324,"Капитално одржавање ресторана"]
[{"$nulls":56},511325,"Капитално одржавање одмаралишта"]
[{"$nulls":56},511326,"Капитално одржавање складишта, силоса, гаража и сл."]
[{"$nulls":56},511327,"Капитално одржавање граничних прелаза"]
[{"$nulls":56},511328,"Капитално одржавање фабричких хала"]
[{"$nulls":56},511330,"Капитално одржавање саобраћајних објеката"]
[{"$nulls":56},511331,"Капитално одржавање аутопутева, путева, мостова, надвожњака и тунела"]
[{"$nulls":56},511332,"Капитално одржавање пруга"]
[{"$nulls":56},511333,"Капитално одржавање аеродромских писта"]
[{"$nulls":56},511340,"Капитално одржавање водоводне инфраструктуре"]
[{"$nulls":56},511341,"Капитално одржавање водовода"]
[{"$nulls":56},511342,"Капитално одржавање канализације"]
[{"$nulls":56},511343,"Капитално одржавање лука"]
[{"$nulls":56},511344,"Капитално одржавање брана"]
[{"$nulls":56},511390,"Капитално одржавање осталих објеката"]
[{"$nulls":56},511391,"Капитално одржавање плиновода и плинарских радова"]
[{"$nulls":56},511392,"Капитално одржавање комуникационих и електричних водова"]
[{"$nulls":56},511393,"Капитално одржавање отворених спортских и рекреационих објеката"]
[{"$nulls":56},511394,"Капитално одржавање установа културе"]
[{"$nulls":56},511395,"Капитално одржавање затвора"]
[{"$nulls":56},511396,"Капитално одржавање и реконструкција система за наводњавање"]
[{"$nulls":56},511399,"Капитално одржавање осталих објеката"]
[{"$nulls":56},511400,"Пројектно планирање"]
[{"$nulls":56},511410,"Планирање и праћење пројекта"]
[{"$nulls":56},511411,"Планирање и праћење пројекта"]
[{"$nulls":56},511420,"Процене изводљивости"]
[{"$nulls":56},511421,"Процене изводљивости"]
[{"$nulls":56},511430,"Идејни пројекат"]
[{"$nulls":56},511431,"Идејни пројекат"]
[{"$nulls":56},511440,"Стручна оцена и коментари"]
[{"$nulls":56},511441,"Стручна оцена и коментари"]
[{"$nulls":56},511450,"Пројектна документација"]
[{"$nulls":56},511451,"Пројектна документација"]
[{"$nulls":56},512000,"Машине и опрема"]
[{"$nulls":56},512100,"Опрема за саобраћај"]
[{"$nulls":56},512110,"Опрема за копнени саобраћај"]
[{"$nulls":56},512111,"Аутомобили"]
[{"$nulls":56},512112,"Трактори"]
[{"$nulls":56},512113,"Комбији"]
[{"$nulls":56},512114,"Камиони"]
[{"$nulls":56},512115,"Теренска возила"]
[{"$nulls":56},512116,"Мотоцикли"]
[{"$nulls":56},512117,"Бицикли"]
[{"$nulls":56},512120,"Пловни објекти"]
[{"$nulls":56},512121,"Бродови и чамци"]
[{"$nulls":56},512122,"Трајекти"]
[{"$nulls":56},512130,"Опрема за ваздушни саобраћај"]
[{"$nulls":56},512131,"Хеликоптери"]
[{"$nulls":56},512132,"Авиони"]
[{"$nulls":56},512140,"Лизинг опреме за саобраћај"]
[{"$nulls":56},512141,"Лизинг опреме за саобраћај"]
[{"$nulls":56},512200,"Административна опрема"]
[{"$nulls":56},512210,"Канцеларијска опрема"]
[{"$nulls":56},512211,"Намештај"]
[{"$nulls":56},512212,"Уградна опрема"]
[{"$nulls":56},512213,"Писаће машине"]
[{"$nulls":56},512220,"Рачунарска опрема"]
[{"$nulls":56},512221,"Рачунарска опрема"]
[{"$nulls":56},512222,"Штампачи"]
[{"$nulls":56},512223,"Мреже"]
[{"$nulls":56},512230,"Комуникациона опрема"]
[{"$nulls":56},512231,"Телефонске централе с припадајућим инсталацијама и апаратима"]
[{"$nulls":56},512232,"Телефони"]
[{"$nulls":56},512233,"Мобилни телефони"]
[{"$nulls":56},512240,"Електронска и фотографска опрема"]
[{"$nulls":56},512241,"Електронска опрема"]
[{"$nulls":56},512242,"Фотографска опрема"]
[{"$nulls":56},512250,"Опрема за домаћинство и угоститељство"]
[{"$nulls":56},512251,"Опрема за домаћинство"]
[{"$nulls":56},512252,"Опрема за угоститељство"]
[{"$nulls":56},512260,"Лизинг административне опреме"]
[{"$nulls":56},512261,"Лизинг административне опреме"]
[{"$nulls":56},512300,"Опрема за пољопривреду"]
[{"$nulls":56},512310,"Пољопривредна опрема"]
[{"$nulls":56},512311,"Пољопривредна опрема"]
[{"$nulls":56},512320,"Лизинг пољопривредне опреме"]
[{"$nulls":56},512321,"Лизинг пољопривредне опреме"]
[{"$nulls":56},512400,"Опрема за заштиту животне средине"]
[{"$nulls":56},512410,"Опрема за заштиту животне средине"]
[{"$nulls":56},512411,"Опрема за заштиту животне средине"]
[{"$nulls":56},512420,"Лизинг опреме за заштиту животне средине"]
[{"$nulls":56},512421,"Лизинг опреме за заштиту животне средине"]
[{"$nulls":56},512500,"Медицинска и лабораторијска опрема"]
[{"$nulls":56},512510,"Медицинска опрема"]
[{"$nulls":56},512511,"Медицинска опрема"]
[{"$nulls":56},512520,"Лабораторијска опрема"]
[{"$nulls":56},512521,"Лабораторијска опрема"]
[{"$nulls":56},512530,"Мерни и контролни инструменти"]
[{"$nulls":56},512531,"Мерни и контролни инструменти"]
[{"$nulls":56},512540,"Лизинг медицинске и лабораторијске опреме"]
[{"$nulls":56},512541,"Лизинг медицинске и лабораторијске опреме"]
[{"$nulls":56},512600,"Опрема за образовање, науку, културу и спорт"]
[{"$nulls":56},512610,"Опрема за образовање"]
[{"$nulls":56},512611,"Опрема за образовање"]
[{"$nulls":56},512620,"Опрема за науку"]
[{"$nulls":56},512621,"Опрема за науку"]
[{"$nulls":56},512630,"Опрема за културу"]
[{"$nulls":56},512631,"Опрема за културу"]
[{"$nulls":56},512640,"Опрема за спорт"]
[{"$nulls":56},512641,"Опрема за спорт"]
[{"$nulls":56},512650,"Лизинг опреме за образовање, науку, културу и спорт"]
[{"$nulls":56},512651,"Лизинг опреме за образовање, науку, културу и спорт"]
[{"$nulls":56},512700,"Опрема за војску"]
[{"$nulls":56},512710,"Опрема за војску"]
[{"$nulls":56},512711,"Опрема за војску"]
[{"$nulls":56},512720,"Лизинг опремe за војску"]
[{"$nulls":56},512721,"Лизинг опремe за војску"]
[{"$nulls":56},512800,"Опрема за јавну безбедност"]
[{"$nulls":56},512810,"Опрема за јавну безбедност"]
[{"$nulls":56},512811,"Опрема за јавну безбедност"]
[{"$nulls":56},512820,"Лизинг опремe за јавну безбедност"]
[{"$nulls":56},512821,"Лизинг опремe за јавну безбедност"]
[{"$nulls":56},512900,"Опрема за производњу, моторна, непокретна и немоторна опрема"]
[{"$nulls":56},512910,"Опрема за производњу"]
[{"$nulls":56},512911,"Опрема за производњу"]
[{"$nulls":56},512920,"Моторна опрема"]
[{"$nulls":56},512921,"Моторна опрема"]
[{"$nulls":56},512930,"Непокретна опрема"]
[{"$nulls":56},512931,"Уграђена опрема"]
[{"$nulls":56},512932,"Монтирана опрема"]
[{"$nulls":56},512933,"Механичка опрема"]
[{"$nulls":56},512940,"Немоторизовани алати"]
[{"$nulls":56},512941,"Немоторизовани алати"]
[{"$nulls":56},512950,"Лизинг опреме за производњу, моторна, непокретна и немоторна опрема"]
[{"$nulls":56},512951,"Лизинг опреме за производњу, моторна, непокретна и немоторна опрема"]
[{"$nulls":56},513000,"Остале некретнине и опрема"]
[{"$nulls":56},513100,"Остале некретнине и опрема"]
[{"$nulls":56},513110,"Остале некретнине и опрема"]
[{"$nulls":56},513111,"Остале некретнине и опрема"]
[{"$nulls":56},513119,"Лизинг остале некретнине и опрема"]
[{"$nulls":56},514000,"Култивисана имовина"]
[{"$nulls":56},514100,"Култивисана имовина"]
[{"$nulls":56},514110,"Стока"]
[{"$nulls":56},514111,"Говеда"]
[{"$nulls":56},514112,"Коњи"]
[{"$nulls":56},514113,"Магарци, муле, мазге"]
[{"$nulls":56},514114,"Свиње"]
[{"$nulls":56},514115,"Овце и козе"]
[{"$nulls":56},514116,"Живина"]
[{"$nulls":56},514117,"Рибе"]
[{"$nulls":56},514118,"Пчелињаци"]
[{"$nulls":56},514119,"Остала стока"]
[{"$nulls":56},514120,"Вишегодишњи засади"]
[{"$nulls":56},514121,"Вишегодишњи засади"]
[{"$nulls":56},515000,"Нематеријална имовина"]
[{"$nulls":56},515100,"Нематеријална имовина"]
[{"$nulls":56},515110,"Компјутерски софтвер"]
[{"$nulls":56},515111,"Компјутерски софтвер"]
[{"$nulls":56},515120,"Књижевна и уметничка дела"]
[{"$nulls":56},515121,"Књиге у библиотеци"]
[{"$nulls":56},515122,"Музејски експонати и споменици културе"]
[{"$nulls":56},515123,"Визуелна уметност"]
[{"$nulls":56},515124,"Скулптуре"]
[{"$nulls":56},515125,"Архивска грађа"]
[{"$nulls":56},515126,"Природне реткости"]
[{"$nulls":56},515129,"Остала књижевна и уметничка дела"]
[{"$nulls":56},515190,"Остала нематеријална основна средства"]
[{"$nulls":56},515191,"Издаци за патенте и технологију, техничку и технолошку документацију"]
[{"$nulls":56},515192,"Лиценце"]
[{"$nulls":56},515193,"Концесије"]
[{"$nulls":56},515194,"Заштитни знак, индустријска заштитна права, занатска и слична права"]
[{"$nulls":56},515195,"Остала заштићена права и интелектуална својина (компјутерски програми, трајна ауторска права и слично)"]
[{"$nulls":56},515196,"Права кориштења имовине у туђем власништву"]
[{"$nulls":56},515197,"Прикључак за телефонске линије"]
[{"$nulls":56},515199,"Остала нематеријална основна средства"]
[{"$nulls":56},520000,"Залихе"]
[{"$nulls":56},521000,"Робне резерве"]
[{"$nulls":56},521100,"Робне резерве"]
[{"$nulls":56},521110,"Робне резерве"]
[{"$nulls":56},521111,"Робне резерве"]
[{"$nulls":56},522000,"Залихе производње"]
[{"$nulls":56},522100,"Залихе материјала"]
[{"$nulls":56},522110,"Залихе материјала"]
[{"$nulls":56},522111,"Залихе материјала"]
[{"$nulls":56},522200,"Залихе недовршене производње"]
[{"$nulls":56},522210,"Залихе недовршене производње"]
[{"$nulls":56},522211,"Залихе недовршене производње"]
[{"$nulls":56},522300,"Залихе готових производа"]
[{"$nulls":56},522310,"Залихе готових производа"]
[{"$nulls":56},522311,"Залихе готових производа"]
[{"$nulls":56},523000,"Залихе робе за даљу продају"]
[{"$nulls":56},523100,"Залихе робе за даљу продају"]
[{"$nulls":56},523110,"Залихе робе за даљу продају"]
[{"$nulls":56},523111,"Залихе робе за даљу продају"]
[{"$nulls":56},530000,"Драгоцености"]
[{"$nulls":56},531000,"Драгоцености"]
[{"$nulls":56},531100,"Драгоцености"]
[{"$nulls":56},531110,"Драгоцености"]
[{"$nulls":56},531111,"Драгоцености"]
[{"$nulls":56},540000,"Природна имовина"]
[{"$nulls":56},541000,"Земљиште"]
[{"$nulls":56},541100,"Земљиште"]
[{"$nulls":56},541110,"Набавка земљишта"]
[{"$nulls":56},541111,"Набавка пољопривредног земљишта"]
[{"$nulls":56},541112,"Набавка грађевинског земљишта"]
[{"$nulls":56},541113,"Набавка земљишта које се налази испод зграда и објеката"]
[{"$nulls":56},541114,"Набавка спортских терена и придружених водених површина"]
[{"$nulls":56},541115,"Набавка другог земљишта и придружених водених површина"]
[{"$nulls":56},541120,"Побољшања земљишта"]
[{"$nulls":56},541121,"Побољшања пољопривредног земљишта"]
[{"$nulls":56},541122,"Побољшања грађевинског земљишта"]
[{"$nulls":56},541123,"Побољшања земљишта које се налази испод зграда и објеката"]
[{"$nulls":56},541124,"Побољшања спортских терена и придружене водене површине"]
[{"$nulls":56},541125,"Побољшања другог земљишта и придружене водене површине"]
[{"$nulls":56},542000,"Рудна богатства"]
[{"$nulls":56},542100,"Копови"]
[{"$nulls":56},542110,"Копови"]
[{"$nulls":56},542111,"Копови"]
[{"$nulls":56},542112,"Набавка угља, нафте и природног гаса"]
[{"$nulls":56},542113,"Набавка минералних резерви метала"]
[{"$nulls":56},542120,"Побољшања копова"]
[{"$nulls":56},542121,"Побољшање копова"]
[{"$nulls":56},542122,"Побољшања угља, нафте и природног гаса"]
[{"$nulls":56},542123,"Побољшање металних минералних резерви"]
[{"$nulls":56},543000,"Шуме и воде"]
[{"$nulls":56},543100,"Шуме"]
[{"$nulls":56},543110,"Шуме"]
[{"$nulls":56},543111,"Набавка шума"]
[{"$nulls":56},543120,"Побољшања шуме"]
[{"$nulls":56},543121,"Побољшања шума"]
[{"$nulls":56},543200,"Воде"]
[{"$nulls":56},543210,"Воде"]
[{"$nulls":56},543211,"Набавка воде"]
[{"$nulls":56},543220,"Побољшања воде"]
[{"$nulls":56},543221,"Побољшања воде"]
[{"$nulls":56},550000,"Нефинансијска имовина која се финансира из средстава за реализацију националног инвестиционог плана"]
[{"$nulls":56},551000,"Нефинансијска имовина која се финансира из средстава за реализацију националног инвестиционог плана"]
[{"$nulls":56},551100,"Нефинансијска имовина која се финансира из средстава за реализацију националног инвестиционог плана"]
[{"$nulls":56},551110,"Нефинансијска имовина која се финансира из средстава за реализацију националног инвестиционог плана"]
[{"$nulls":56},551111,"Нефинансијска имовина која се финансира из средстава за реализацију националног инвестиционог плана"]
[{"$nulls":56},551120,"Нефинансијска имовина која се финансира из средстава за реализацију националног инвестиционог плана на територији АП Војводине"]
[{"$nulls":56},551121,"Нефинансијска имовина која се финансира из средстава за реализацију националног инвестиционог плана на територији АП Војводине"]
[{"$nulls":56},600000,"Издаци за отплату главнице и набавку финансијске имовине"]
[{"$nulls":56},610000,"Отплата главнице"]
[{"$nulls":56},611000,"Отплата главнице домаћим кредиторима"]
[{"$nulls":56},611100,"Отплата главнице на домаће хартије од вредности, изузев акција"]
[{"$nulls":56},611110,"Отплата главнице на домаће краткорочне хартије од вредности, изузев акција"]
[{"$nulls":56},611111,"Отплата главнице на домаће краткорочне хартије од вредности, изузев акција"]
[{"$nulls":56},611120,"Отплата главнице на домаће дугорочне хартије од вредности, изузев акција"]
[{"$nulls":56},611121,"Отплата главнице на домаће дугорочне хартије од вредности, изузев акција"]
[{"$nulls":56},611122,"Дисконти на домаће дугорочне хартије од вредности, изузев акција"]
[{"$nulls":56},611200,"Отплата главнице осталим нивоима власти"]
[{"$nulls":56},611210,"Отплата главнице нивоу Републике"]
[{"$nulls":56},611211,"Отплата главнице нивоу Републике"]
[{"$nulls":56},611220,"Отплата главнице нивоу територијалних аутономија"]
[{"$nulls":56},611221,"Отплата главнице нивоу територијалних аутономија"]
[{"$nulls":56},611230,"Отплата главнице нивоу градова"]
[{"$nulls":56},611231,"Отплата главнице нивоу градова"]
[{"$nulls":56},611240,"Отплата главнице нивоу општина"]
[{"$nulls":56},611241,"Отплата главнице нивоу општина"]
[{"$nulls":56},611250,"Отплата главнице организацијама обавезног социјалног осигурања"]
[{"$nulls":56},611251,"Отплата главнице Републичком фонду за здравствено осигурање"]
[{"$nulls":56},611252,"Отплата главнице Републичком фонду за ПИО"]
[{"$nulls":56},611255,"Отплата главнице Националној служби за запошљавање"]
[{"$nulls":56},611256,"Отплата главнице Фонду за социјално осигурање војних осигураника"]
[{"$nulls":56},611300,"Отплата главнице домаћим јавним финансијским институцијама"]
[{"$nulls":56},611310,"Отплата главнице НБС"]
[{"$nulls":56},611311,"Отплата главнице НБС"]
[{"$nulls":56},611390,"Отплата главнице осталим домаћим јавним финансијским институцијама"]
[{"$nulls":56},611391,"Отплата главнице осталим домаћим јавним финансијским институцијама"]
[{"$nulls":56},611400,"Отплата главнице домаћим пословним банкама"]
[{"$nulls":56},611410,"Отплата главнице домаћим пословним банкама"]
[{"$nulls":56},611411,"Отплата главнице домаћим пословним банкама"]
[{"$nulls":56},611500,"Отплата главнице осталим домаћим кредиторима"]
[{"$nulls":56},611510,"Отплата главнице осталим домаћим кредиторима"]
[{"$nulls":56},611511,"Отплата главнице осталим домаћим кредиторима"]
[{"$nulls":56},611600,"Отплата главнице домаћинствима у земљи"]
[{"$nulls":56},611610,"Отплата главнице домаћинствима у земљи"]
[{"$nulls":56},611611,"Отплата главнице домаћинствима у земљи"]
[{"$nulls":56},611700,"Отплата главнице на домаће финансијске деривате"]
[{"$nulls":56},611710,"Отплата главнице на домаће финансијске деривате"]
[{"$nulls":56},611711,"Отплата главнице на домаће финансијске деривате"]
[{"$nulls":56},611800,"Отплата домаћих меница"]
[{"$nulls":56},611810,"Отплата домаћих меница"]
[{"$nulls":56},611811,"Отплата домаћих меница"]
[{"$nulls":56},611900,"Исправка унутрашњег дуга"]
[{"$nulls":56},611910,"Исправка унутрашњег дуга од осталих нивоа власти за средства отплаћена у току фискалне године"]
[{"$nulls":56},611911,"Исправка унутрашњег дуга од осталих нивоа власти за средства отплаћена у току фискалне године"]
[{"$nulls":56},611920,"Исправка унутрашњег дуга од осталих домаћих кредитора за средства отплаћена у току фискалне године"]
[{"$nulls":56},611921,"Исправка унутрашњег дуга од осталих домаћих кредитора за средства отплаћена у току фискалне године"]
[{"$nulls":56},612000,"Отплата главнице страним кредиторима"]
[{"$nulls":56},612100,"Отплата главнице на хартије од вредности, изузев акција, емитоване на иностраном финансијском тржишту"]
[{"$nulls":56},612110,"Отплата главнице на краткорочне хартије од вредности, изузев акција, емитоване на иностраном финансијском тржишту"]
[{"$nulls":56},612111,"Отплата главнице на краткорочне хартије од вредности, изузев акција, емитоване на иностраном финансијском тржишту"]
[{"$nulls":56},612120,"Отплата главнице на дугорочне хартије од вредности, изузев акција, емитоване на иностраном финансијском тржишту"]
[{"$nulls":56},612121,"Отплата главнице на дугорочне хартије од вредности, изузев акција, емитоване на иностраном финансијском тржишту"]
[{"$nulls":56},612122,"Дисконти на дугорочне хартије од вредности, изузев акција, емитоване на иностраном финансијском тржишту"]
[{"$nulls":56},612200,"Отплата главнице страним владама"]
[{"$nulls":56},612210,"Отплата главнице Париском клубу"]
[{"$nulls":56},612211,"Отплата главнице Париском клубу"]
[{"$nulls":56},612220,"Отплата главнице страним извозно увозним банкама"]
[{"$nulls":56},612221,"Отплата главнице страним извозно увозним банкама"]
[{"$nulls":56},612290,"Отплата главнице осталим страним владама"]
[{"$nulls":56},612291,"Отплата главнице осталим страним владама"]
[{"$nulls":56},612300,"Отплата главнице мултилатералним институцијама"]
[{"$nulls":56},612310,"Отплата главнице Светској банци"]
[{"$nulls":56},612311,"Отплата главнице Светској банци"]
[{"$nulls":56},612320,"Отплата главнице IBRD"]
[{"$nulls":56},612321,"Отплата главнице IBRD"]
[{"$nulls":56},612330,"Отплата главнице EBRD"]
[{"$nulls":56},612331,"Отплата главнице EBRD"]
[{"$nulls":56},612340,"Отплата главнице EIB"]
[{"$nulls":56},612341,"Отплата главнице EIB"]
[{"$nulls":56},612350,"Отплата главнице CEB"]
[{"$nulls":56},612351,"Отплата главнице CEB"]
[{"$nulls":56},612390,"Отплата главнице осталим мултилатералним институцијама"]
[{"$nulls":56},612391,"Отплата главнице осталим мултилатералним институцијама"]
[{"$nulls":56},612400,"Отплата главнице страним пословним банкама"]
[{"$nulls":56},612410,"Отплата главнице Лондонском клубу"]
[{"$nulls":56},612411,"Отплата главнице Лондонском клубу"]
[{"$nulls":56},612490,"Отплата главнице осталим страним пословним банкама"]
[{"$nulls":56},612491,"Отплата главнице осталим страним пословним банкама"]
[{"$nulls":56},612500,"Отплата главнице осталим страним кредиторима"]
[{"$nulls":56},612510,"Отплата главнице осталим страним кредиторима"]
[{"$nulls":56},612511,"Отплата главнице осталим страним кредиторима"]
[{"$nulls":56},612600,"Отплата главнице на стране финансијске деривате"]
[{"$nulls":56},612610,"Отплата главнице на стране финансијске деривате"]
[{"$nulls":56},612611,"Отплата главнице на стране финансијске деривате"]
[{"$nulls":56},612900,"Исправка спољног дуга"]
[{"$nulls":56},612910,"Исправка спољног дуга за средства отплаћена у фискалној години"]
[{"$nulls":56},612911,"Исправка спољног дуга за средства отплаћена у фискалној години"]
[{"$nulls":56},613000,"Отплата главнице по гаранцијама"]
[{"$nulls":56},613100,"Отплата главнице по гаранцијама"]
[{"$nulls":56},613110,"Отплата главнице по гаранцијама"]
[{"$nulls":56},613111,"Отплата главнице по гаранцијама"]
[{"$nulls":56},614000,"Отплата главнице за финансијски лизинг"]
[{"$nulls":56},614100,"Отплата главнице за финансијски лизинг"]
[{"$nulls":56},614110,"Отплата главнице за финансијски лизинг"]
[{"$nulls":56},614111,"Отплата главнице зa финансијски лизинг"]
[{"$nulls":56},615000,"Отплата гаранција по комерцијалним трансакцијама"]
[{"$nulls":56},615100,"Отплата гаранција по комерцијалним трансакцијама"]
[{"$nulls":56},615110,"Отплата гаранција по комерцијалним трансакцијама"]
[{"$nulls":56},615111,"Отплата гаранција по комерцијалним трансакцијама"]
[{"$nulls":56},620000,"Набавка финансијске имовине"]
[{"$nulls":56},621000,"Набавка домаће финансијске имовине"]
[{"$nulls":56},621100,"Набавка домаћих хартија од вредности, изузев акција"]
[{"$nulls":56},621110,"Набавка домаћих краткорочних хартија од вредности, изузев акција"]
[{"$nulls":56},621111,"Набавка домаћих краткорочних хартија од вредности, изузев акција"]
[{"$nulls":56},621120,"Набавка домаћих дугорочних хартија од вредности, изузев акција"]
[{"$nulls":56},621121,"Набавка домаћих дугорочних хартија од вредности, изузев акција"]
[{"$nulls":56},621200,"Кредити осталим нивоима власти"]
[{"$nulls":56},621210,"Кредити нивоу Републике"]
[{"$nulls":56},621211,"Кредити нивоу Републике"]
[{"$nulls":56},621220,"Кредити нивоу територијалних аутономија"]
[{"$nulls":56},621221,"Кредити нивоу територијалних аутономија"]
[{"$nulls":56},621230,"Кредити нивоу градова"]
[{"$nulls":56},621231,"Кредити нивоу градова"]
[{"$nulls":56},621240,"Кредити нивоу општина"]
[{"$nulls":56},621241,"Кредити нивоу општина"]
[{"$nulls":56},621250,"Кредити организацијама обавезног социјалног осигурања"]
[{"$nulls":56},621251,"Кредити Републичком фонду за здравствено осигурање"]
[{"$nulls":56},621252,"Кредити Републичком фонду за ПИО"]
[{"$nulls":56},621255,"Кредити Националној служби за запошљавање"]
[{"$nulls":56},621256,"Кредити Фонду за социјално осигурање војних осигураника"]
[{"$nulls":56},621300,"Кредити домаћим јавним финансијским институцијама"]
[{"$nulls":56},621310,"Кредити Народној банци Србије"]
[{"$nulls":56},621311,"Кредити Народној банци Србије"]
[{"$nulls":56},621390,"Кредити осталим домаћим јавним финансијским институцијама"]
[{"$nulls":56},621391,"Кредити осталим домаћим јавним финансијским институцијама"]
[{"$nulls":56},621400,"Кредити домаћим пословним банкама"]
[{"$nulls":56},621410,"Кредити домаћим пословним банкама"]
[{"$nulls":56},621411,"Кредити домаћим пословним банкама"]
[{"$nulls":56},621500,"Кредити домаћим нефинансијским јавним институцијама"]
[{"$nulls":56},621510,"Кредити домаћим нефинансијским јавним институцијама"]
[{"$nulls":56},621511,"Кредити домаћим нефинансијским јавним институцијама"]
[{"$nulls":56},621600,"Кредити физичким лицима и домаћинствима у земљи"]
[{"$nulls":56},621610,"Кредити физичким лицима и домаћинствима у земљи"]
[{"$nulls":56},621611,"Кредити физичким лицима у земљи, за потребе становања"]
[{"$nulls":56},621612,"Кредити физичким лицима у земљи, за комерцијалне потребе"]
[{"$nulls":56},621613,"Кредити студентима и ученицима у земљи"]
[{"$nulls":56},621700,"Кредити невладиним организацијама у земљи"]
[{"$nulls":56},621710,"Кредити невладиним организацијама у земљи"]
[{"$nulls":56},621711,"Кредити удружењима грађана у земљи"]
[{"$nulls":56},621712,"Кредити непрофитним организацијама у земљи"]
[{"$nulls":56},621800,"Кредити домаћим нефинансијским приватним предузећима"]
[{"$nulls":56},621810,"Кредити домаћим нефинансијским приватним предузећима"]
[{"$nulls":56},621811,"Кредити домаћим нефинансијским приватним предузећима"]
[{"$nulls":56},621900,"Набавка домаћих акција и осталог капитала"]
[{"$nulls":56},621910,"Учешће капитала у домаћим нефинансијским јавним предузећима и институцијама"]
[{"$nulls":56},621911,"Учешће капитала у домаћим нефинансијским јавним предузећима и институцијама"]
[{"$nulls":56},621920,"Учешће капитала у домаћим јавним финансијским институцијама"]
[{"$nulls":56},621921,"Учешће капитала у Народној банци Србије"]
[{"$nulls":56},621922,"Учешће капитала у осталим јавним финансијским институцијама у земљи"]
[{"$nulls":56},621930,"Учешће капитала у домаћим нефинансијским приватним предузећима"]
[{"$nulls":56},621931,"Учешће капитала у домаћим нефинансијским приватним предузећима"]
[{"$nulls":56},621940,"Учешће капитала у домаћим пословним банкама"]
[{"$nulls":56},621941,"Учешће капитала у домаћим пословним банкама"]
[{"$nulls":56},622000,"Набавка стране финансијске имовине"]
[{"$nulls":56},622100,"Набавка страних хартија од вредности, изузев акција"]
[{"$nulls":56},622110,"Набавка страних краткорочних хартија од вредности, изузев акција"]
[{"$nulls":56},622111,"Набавка страних краткорочних хартија од вредности, изузев акција"]
[{"$nulls":56},622120,"Набавка страних дугорочних хартија од вредности, изузев акција"]
[{"$nulls":56},622121,"Набавка страних дугорочних хартија од вредности, изузев акција"]
[{"$nulls":56},622200,"Кредити страним владама"]
[{"$nulls":56},622210,"Кредити страним владама"]
[{"$nulls":56},622211,"Кредити страним владама"]
[{"$nulls":56},622300,"Кредити међународним организацијама"]
[{"$nulls":56},622310,"Кредити међународним организацијама"]
[{"$nulls":56},622311,"Кредити међународним организацијама"]
[{"$nulls":56},622312,"Кредити за премошћавање финансирања пројеката ЕУ"]
[{"$nulls":56},622400,"Кредити страним пословним банкама"]
[{"$nulls":56},622410,"Кредити страним пословним банкама"]
[{"$nulls":56},622411,"Кредити страним пословним банкама"]
[{"$nulls":56},622500,"Кредити страним нефинансијским институцијама"]
[{"$nulls":56},622510,"Кредити страним нефинансијским институцијама"]
[{"$nulls":56},622511,"Кредити страним нефинансијским институцијама"]
[{"$nulls":56},622600,"Кредити страним невладиним организацијама"]
[{"$nulls":56},622610,"Кредити страним невладиним организацијама"]
[{"$nulls":56},622611,"Кредити страним удружењима грађана"]
[{"$nulls":56},622612,"Кредити страним непрофитним институцијама"]
[{"$nulls":56},622700,"Набавка страних акција и осталог капитала"]
[{"$nulls":56},622710,"Учешће капитала у међународним финансијским институцијама"]
[{"$nulls":56},622711,"Учешће капитала у међународним финансијским институцијама"]
[{"$nulls":56},622720,"Учешће капитала у страним компанијама и нефинансијским институцијама"]
[{"$nulls":56},622721,"Учешће капитала у страним компанијама и нефинансијским институцијама"]
[{"$nulls":56},622800,"Куповина стране валуте"]
[{"$nulls":56},622810,"Куповина стране валуте"]
[{"$nulls":56},622811,"Куповина стране валуте"]
[{"$nulls":56},623000,"Набавка финансијске имовине која се финансира из средстава за реализацију националног инвестиционог плана"]
[{"$nulls":56},623100,"Набавка финансијске имовине која се финансира из средстава за реализацију националног инвестиционог плана"]
[{"$nulls":56},623110,"Набавка финансијске имовине која се финансира из средстава за реализацију националног инвестиционог плана"]
[{"$nulls":56},623111,"Набавка финансијске имовине која се финансира из средстава за реализацију националног инвестиционог плана"]
{"$rows_empty":13}
[{"$nulls":7},"prvi red",{"$nulls":9},"drugi red",{"$nulls":4},"treci red",{"$nulls":4},"treci red",{"$nulls":9},"cetvrti red",{"$nulls":9},"5 red",{"$nulls":9},"6 red",{"$nulls":9},"7 red",{"$nulls":9},"8 red",{"$nulls":9},"9 red",{"$nulls":9},"10 red",{"$nulls":9},"11 red",{"$nulls":9},"12 red",{"$nulls":9},"13 red",{"$nulls":9},"14 red",{"$nulls":9},"15 red",{"$nulls":9},"16 red",{"$nulls":9},"17 red",{"$nulls":7},"17 red"]
[{"$nulls":3},{"$f":"IF($B1751<>\"\",INDIRECT(\"'\"&$B1751&\"'\"&\"!z2\"),\"\")","v":""},{"$f":"IF($B1751<>\"\",INDIRECT(\"'\"&$B1751&\"'\"&\"!aa2\"),\"\")","v":""},{"$f":"IF($B1751<>\"\",INDIRECT(\"'\"&$B1751&\"'\"&\"!ab2\"),\"\")","v":""},{"$f":"IF($B1751<>\"\",INDIRECT(\"'\"&$B1751&\"'\"&\"!ac2\"),\"\")","v":""},2015,2016,2017,2018,null,null,{"$f":"IF($B1751<>\"\",INDIRECT(\"'\"&$B1751&\"'\"&\"!z2\"),\"\")","v":""},{"$f":"IF($B1751<>\"\",INDIRECT(\"'\"&$B1751&\"'\"&\"!aa2\"),\"\")","v":""},{"$f":"IF($B1751<>\"\",INDIRECT(\"'\"&$B1751&\"'\"&\"!ab2\"),\"\")","v":""},{"$f":"IF($B1751<>\"\",INDIRECT(\"'\"&$B1751&\"'\"&\"!ac2\"),\"\")","v":""},2015,2016,2017,2018,null,null,{"$f":"IF($B1751<>\"\",INDIRECT(\"'\"&$B1751&\"'\"&\"!z2\"),\"\")","v":""},{"$f":"IF($B1751<>\"\",INDIRECT(\"'\"&$B1751&\"'\"&\"!aa2\"),\"\")","v":""},{"$f":"IF($B1751<>\"\",INDIRECT(\"'\"&$B1751&\"'\"&\"!ab2\"),\"\")","v":""},{"$f":"IF($B1751<>\"\",INDIRECT(\"'\"&$B1751&\"'\"&\"!ac2\"),\"\")","v":""},2015,2016,2017,2018,null,null,{"$f":"IF($B1751<>\"\",INDIRECT(\"'\"&$B1751&\"'\"&\"!z2\"),\"\")","v":""},{"$f":"IF($B1751<>\"\",INDIRECT(\"'\"&$B1751&\"'\"&\"!aa2\"),\"\")","v":""},{"$f":"IF($B1751<>\"\",INDIRECT(\"'\"&$B1751&\"'\"&\"!ab2\"),\"\")","v":""},{"$f":"IF($B1751<>\"\",INDIRECT(\"'\"&$B1751&\"'\"&\"!ac2\"),\"\")","v":""},2015,2016,2017,2018,null,null,{"$f":"IF($B1751<>\"\",INDIRECT(\"'\"&$B1751&\"'\"&\"!z2\"),\"\")","v":""},{"$f":"IF($B1751<>\"\",INDIRECT(\"'\"&$B1751&\"'\"&\"!aa2\"),\"\")","v":""},{"$f":"IF($B1751<>\"\",INDIRECT(\"'\"&$B1751&\"'\"&\"!ab2\"),\"\")","v":""},{"$f":"IF($B1751<>\"\",INDIRECT(\"'\"&$B1751&\"'\"&\"!ac2\"),\"\")","v":""},2015,2016,2017,2018,null,null,{"$f":"IF($B1751<>\"\",INDIRECT(\"'\"&$B1751&\"'\"&\"!z2\"),\"\")","v":""},{"$f":"IF($B1751<>\"\",INDIRECT(\"'\"&$B1751&\"'\"&\"!aa2\"),\"\")","v":""},{"$f":"IF($B1751<>\"\",INDIRECT(\"'\"&$B1751&\"'\"&\"!ab2\"),\"\")","v":""},{"$f":"IF($B1751<>\"\",INDIRECT(\"'\"&$B1751&\"'\"&\"!ac2\"),\"\")","v":""},2015,2016,2017,2018,null,null,{"$f":"IF($B1751<>\"\",INDIRECT(\"'\"&$B1751&\"'\"&\"!z2\"),\"\")","v":""},{"$f":"IF($B1751<>\"\",INDIRECT(\"'\"&$B1751&\"'\"&\"!aa2\"),\"\")","v":""},{"$f":"IF($B1751<>\"\",INDIRECT(\"'\"&$B1751&\"'\"&\"!ab2\"),\"\")","v":""},{"$f":"IF($B1751<>\"\",INDIRECT(\"'\"&$B1751&\"'\"&\"!ac2\"),\"\")","v":""},2015,2016,2017,2018,null,null,{"$f":"IF($B1751<>\"\",INDIRECT(\"'\"&$B1751&\"'\"&\"!z2\"),\"\")","v":""},{"$f":"IF($B1751<>\"\",INDIRECT(\"'\"&$B1751&\"'\"&\"!aa2\"),\"\")","v":""},{"$f":"IF($B1751<>\"\",INDIRECT(\"'\"&$B1751&\"'\"&\"!ab2\"),\"\")","v":""},{"$f":"IF($B1751<>\"\",INDIRECT(\"'\"&$B1751&\"'\"&\"!ac2\"),\"\")","v":""},2015,2016,2017,2018,null,null,{"$f":"IF($B1751<>\"\",INDIRECT(\"'\"&$B1751&\"'\"&\"!z2\"),\"\")","v":""},{"$f":"IF($B1751<>\"\",INDIRECT(\"'\"&$B1751&\"'\"&\"!aa2\"),\"\")","v":""},{"$f":"IF($B1751<>\"\",INDIRECT(\"'\"&$B1751&\"'\"&\"!ab2\"),\"\")","v":""},{"$f":"IF($B1751<>\"\",INDIRECT(\"'\"&$B1751&\"'\"&\"!ac2\"),\"\")","v":""},2015,2016,2017,2018,null,null,{"$f":"IF($B1751<>\"\",INDIRECT(\"'\"&$B1751&\"'\"&\"!z2\"),\"\")","v":""},{"$f":"IF($B1751<>\"\",INDIRECT(\"'\"&$B1751&\"'\"&\"!aa2\"),\"\")","v":""},{"$f":"IF($B1751<>\"\",INDIRECT(\"'\"&$B1751&\"'\"&\"!ab2\"),\"\")","v":""},{"$f":"IF($B1751<>\"\",INDIRECT(\"'\"&$B1751&\"'\"&\"!ac2\"),\"\")","v":""},2015,2016,2017,2018,null,null,{"$f":"IF($B1751<>\"\",INDIRECT(\"'\"&$B1751&\"'\"&\"!z2\"),\"\")","v":""},{"$f":"IF($B1751<>\"\",INDIRECT(\"'\"&$B1751&\"'\"&\"!aa2\"),\"\")","v":""},{"$f":"IF($B1751<>\"\",INDIRECT(\"'\"&$B1751&\"'\"&\"!ab2\"),\"\")","v":""},{"$f":"IF($B1751<>\"\",INDIRECT(\"'\"&$B1751&\"'\"&\"!ac2\"),\"\")","v":""},2015,2016,2017,2018,null,null,{"$f":"IF($B1751<>\"\",INDIRECT(\"'\"&$B1751&\"'\"&\"!z2\"),\"\")","v":""},{"$f":"IF($B1751<>\"\",INDIRECT(\"'\"&$B1751&\"'\"&\"!aa2\"),\"\")","v":""},{"$f":"IF($B1751<>\"\",INDIRECT(\"'\"&$B1751&\"'\"&\"!ab2\"),\"\")","v":""},{"$f":"IF($B1751<>\"\",INDIRECT(\"'\"&$B1751&\"'\"&\"!ac2\"),\"\")","v":""},2015,2016,2017,2018,null,null,{"$f":"IF($B1751<>\"\",INDIRECT(\"'\"&$B1751&\"'\"&\"!z2\"),\"\")","v":""},{"$f":"IF($B1751<>\"\",INDIRECT(\"'\"&$B1751&\"'\"&\"!aa2\"),\"\")","v":""},{"$f":"IF($B1751<>\"\",INDIRECT(\"'\"&$B1751&\"'\"&\"!ab2\"),\"\")","v":""},{"$f":"IF($B1751<>\"\",INDIRECT(\"'\"&$B1751&\"'\"&\"!ac2\"),\"\")","v":""},2015,2016,2017,2018,null,null,{"$f":"IF($B1751<>\"\",INDIRECT(\"'\"&$B1751&\"'\"&\"!z2\"),\"\")","v":""},{"$f":"IF($B1751<>\"\",INDIRECT(\"'\"&$B1751&\"'\"&\"!aa2\"),\"\")","v":""},{"$f":"IF($B1751<>\"\",INDIRECT(\"'\"&$B1751&\"'\"&\"!ab2\"),\"\")","v":""},{"$f":"IF($B1751<>\"\",INDIRECT(\"'\"&$B1751&\"'\"&\"!ac2\"),\"\")","v":""},2015,2016,2017,2018,null,null,{"$f":"IF($B1751<>\"\",INDIRECT(\"'\"&$B1751&\"'\"&\"!z2\"),\"\")","v":""},{"$f":"IF($B1751<>\"\",INDIRECT(\"'\"&$B1751&\"'\"&\"!aa2\"),\"\")","v":""},{"$f":"IF($B1751<>\"\",INDIRECT(\"'\"&$B1751&\"'\"&\"!ab2\"),\"\")","v":""},{"$f":"IF($B1751<>\"\",INDIRECT(\"'\"&$B1751&\"'\"&\"!ac2\"),\"\")","v":""},2015,2016,2017,2018,null,null,{"$f":"IF($B1751<>\"\",INDIRECT(\"'\"&$B1751&\"'\"&\"!z2\"),\"\")","v":""},{"$f":"IF($B1751<>\"\",INDIRECT(\"'\"&$B1751&\"'\"&\"!aa2\"),\"\")","v":""},{"$f":"IF($B1751<>\"\",INDIRECT(\"'\"&$B1751&\"'\"&\"!ab2\"),\"\")","v":""},{"$f":"IF($B1751<>\"\",INDIRECT(\"'\"&$B1751&\"'\"&\"!ac2\"),\"\")","v":""},2015,2016,2017,2018,null,null,{"$f":"IF($B1751<>\"\",INDIRECT(\"'\"&$B1751&\"'\"&\"!z2\"),\"\")","v":""},{"$f":"IF($B1751<>\"\",INDIRECT(\"'\"&$B1751&\"'\"&\"!aa2\"),\"\")","v":""},{"$f":"IF($B1751<>\"\",INDIRECT(\"'\"&$B1751&\"'\"&\"!ab2\"),\"\")","v":""},{"$f":"IF($B1751<>\"\",INDIRECT(\"'\"&$B1751&\"'\"&\"!ac2\"),\"\")","v":""},2015,2016,2017,2018,{"$nulls":4},2015,2016,2017,2018]
[null,null,"01 - Приходи из буџета",{"$nulls":4},{"$f":"SUMIF(C$1773:C$1872,$C1752,D$1773:E$1872)","v":0},{"$f":"SUMIF(C$1773:C$1872,$C1752,F$1773:G$1872)","v":0},{"$f":"SUMIF(C$1773:C$1872,$C1752,H$1773:I$1872)","v":0},{"$f":"SUMIF(C$1773:C$1872,$C1752,J$1773:K$1872)","v":0},null,"01 - Приходи из буџета",{"$f":"IF($B1752<>\"\",INDIRECT(\"'\"&$B1752&\"'\"&\"!z2\"),\"\")","v":""},{"$f":"IF($B1752<>\"\",INDIRECT(\"'\"&$B1752&\"'\"&\"!aa2\"),\"\")","v":""},{"$f":"IF($B1752<>\"\",INDIRECT(\"'\"&$B1752&\"'\"&\"!ab2\"),\"\")","v":""},{"$f":"IF($B1752<>\"\",INDIRECT(\"'\"&$B1752&\"'\"&\"!ac2\"),\"\")","v":""},{"$f":"SUMIF(M$1773:M$1872,$C1752,N$1773:O$1872)","v":0},{"$f":"SUMIF(M$1773:M$1872,$C1752,P$1773:Q$1872)","v":0},{"$f":"SUMIF(M$1773:M$1872,$C1752,R$1773:S$1872)","v":0},{"$f":"SUMIF(M$1773:M$1872,$C1752,T$1773:U$1872)","v":0},null,"01 - Приходи из буџета",{"$f":"IF($B1752<>\"\",INDIRECT(\"'\"&$B1752&\"'\"&\"!z2\"),\"\")","v":""},{"$f":"IF($B1752<>\"\",INDIRECT(\"'\"&$B1752&\"'\"&\"!aa2\"),\"\")","v":""},{"$f":"IF($B1752<>\"\",INDIRECT(\"'\"&$B1752&\"'\"&\"!ab2\"),\"\")","v":""},{"$f":"IF($B1752<>\"\",INDIRECT(\"'\"&$B1752&\"'\"&\"!ac2\"),\"\")","v":""},{"$f":"SUMIF(W$1773:W$1872,$C1752,X$1773:Y$1872)","v":0},{"$f":"SUMIF(W$1773:W$1872,$C1752,Z$1773:AA$1872)","v":0},{"$f":"SUMIF(W$1773:W$1872,$C1752,AB$1773:AC$1872)","v":0},{"$f":"SUMIF(W$1773:W$1872,$C1752,AD$1773:AE$1872)","v":0},null,"01 - Приходи из буџета",{"$f":"IF($B1752<>\"\",INDIRECT(\"'\"&$B1752&\"'\"&\"!z2\"),\"\")","v":""},{"$f":"IF($B1752<>\"\",INDIRECT(\"'\"&$B1752&\"'\"&\"!aa2\"),\"\")","v":""},{"$f":"IF($B1752<>\"\",INDIRECT(\"'\"&$B1752&\"'\"&\"!ab2\"),\"\")","v":""},{"$f":"IF($B1752<>\"\",INDIRECT(\"'\"&$B1752&\"'\"&\"!ac2\"),\"\")","v":""},{"$f":"SUMIF(AG$1773:AG$1872,$C1752,AH$1773:AI$1872)","v":0},{"$f":"SUMIF(AG$1773:AG$1872,$C1752,AJ$1773:AK$1872)","v":0},{"$f":"SUMIF(AG$1773:AG$1872,$C1752,AL$1773:AM$1872)","v":0},{"$f":"SUMIF(AG$1773:AG$1872,$C1752,AN$1773:AO$1872)","v":0},null,"01 - Приходи из буџета",{"$f":"IF($B1752<>\"\",INDIRECT(\"'\"&$B1752&\"'\"&\"!z2\"),\"\")","v":""},{"$f":"IF($B1752<>\"\",INDIRECT(\"'\"&$B1752&\"'\"&\"!aa2\"),\"\")","v":""},{"$f":"IF($B1752<>\"\",INDIRECT(\"'\"&$B1752&\"'\"&\"!ab2\"),\"\")","v":""},{"$f":"IF($B1752<>\"\",INDIRECT(\"'\"&$B1752&\"'\"&\"!ac2\"),\"\")","v":""},{"$f":"SUMIF(AQ$1773:AQ$1872,$C1752,AR$1773:AS$1872)","v":0},{"$f":"SUMIF(AQ$1773:AQ$1872,$C1752,AT$1773:AU$1872)","v":0},{"$f":"SUMIF(AQ$1773:AQ$1872,$C1752,AV$1773:AW$1872)","v":0},{"$f":"SUMIF(AQ$1773:AQ$1872,$C1752,AX$1773:AY$1872)","v":0},null,"01 - Приходи из буџета",{"$f":"IF($B1752<>\"\",INDIRECT(\"'\"&$B1752&\"'\"&\"!z2\"),\"\")","v":""},{"$f":"IF($B1752<>\"\",INDIRECT(\"'\"&$B1752&\"'\"&\"!aa2\"),\"\")","v":""},{"$f":"IF($B1752<>\"\",INDIRECT(\"'\"&$B1752&\"'\"&\"!ab2\"),\"\")","v":""},{"$f":"IF($B1752<>\"\",INDIRECT(\"'\"&$B1752&\"'\"&\"!ac2\"),\"\")","v":""},{"$f":"SUMIF(BA$1773:BA$1872,$C1752,BB$1773:BC$1872)","v":0},{"$f":"SUMIF(BA$1773:BA$1872,$C1752,BD$1773:BE$1872)","v":0},{"$f":"SUMIF(BA$1773:BA$1872,$C1752,BF$1773:BG$1872)","v":0},{"$f":"SUMIF(BA$1773:BA$1872,$C1752,BH$1773:BI$1872)","v":0},null,"01 - Приходи из буџета",{"$f":"IF($B1752<>\"\",INDIRECT(\"'\"&$B1752&\"'\"&\"!z2\"),\"\")","v":""},{"$f":"IF($B1752<>\"\",INDIRECT(\"'\"&$B1752&\"'\"&\"!aa2\"),\"\")","v":""},{"$f":"IF($B1752<>\"\",INDIRECT(\"'\"&$B1752&\"'\"&\"!ab2\"),\"\")","v":""},{"$f":"IF($B1752<>\"\",INDIRECT(\"'\"&$B1752&\"'\"&\"!ac2\"),\"\")","v":""},{"$f":"SUMIF(BK$1773:BK$1872,$C1752,BL$1773:BM$1872)","v":0},{"$f":"SUMIF(BK$1773:BK$1872,$C1752,BN$1773:BO$1872)","v":0},{"$f":"SUMIF(BK$1773:BK$1872,$C1752,BP$1773:BQ$1872)","v":0},{"$f":"SUMIF(BK$1773:BK$1872,$C1752,BR$1773:BS$1872)","v":0},null,"01 - Приходи из буџета",{"$f":"IF($B1752<>\"\",INDIRECT(\"'\"&$B1752&\"'\"&\"!z2\"),\"\")","v":""},{"$f":"IF($B1752<>\"\",INDIRECT(\"'\"&$B1752&\"'\"&\"!aa2\"),\"\")","v":""},{"$f":"IF($B1752<>\"\",INDIRECT(\"'\"&$B1752&\"'\"&\"!ab2\"),\"\")","v":""},{"$f":"IF($B1752<>\"\",INDIRECT(\"'\"&$B1752&\"'\"&\"!ac2\"),\"\")","v":""},{"$f":"SUMIF(BU$1773:BU$1872,$C1752,BV$1773:BW$1872)","v":0},{"$f":"SUMIF(BU$1773:BU$1872,$C1752,BX$1773:BY$1872)","v":0},{"$f":"SUMIF(BU$1773:BU$1872,$C1752,BZ$1773:CA$1872)","v":0},{"$f":"SUMIF(BU$1773:BU$1872,$C1752,CB$1773:CC$1872)","v":0},null,"01 - Приходи из буџета",{"$f":"IF($B1752<>\"\",INDIRECT(\"'\"&$B1752&\"'\"&\"!z2\"),\"\")","v":""},{"$f":"IF($B1752<>\"\",INDIRECT(\"'\"&$B1752&\"'\"&\"!aa2\"),\"\")","v":""},{"$f":"IF($B1752<>\"\",INDIRECT(\"'\"&$B1752&\"'\"&\"!ab2\"),\"\")","v":""},{"$f":"IF($B1752<>\"\",INDIRECT(\"'\"&$B1752&\"'\"&\"!ac2\"),\"\")","v":""},{"$f":"SUMIF(CE$1773:CE$1872,$C1752,CF$1773:CG$1872)","v":0},{"$f":"SUMIF(CE$1773:CE$1872,$C1752,CH$1773:CI$1872)","v":0},{"$f":"SUMIF(CE$1773:CE$1872,$C1752,CJ$1773:CK$1872)","v":0},{"$f":"SUMIF(CE$1773:CE$1872,$C1752,CL$1773:CM$1872)","v":0},null,"01 - Приходи из буџета",{"$f":"IF($B1752<>\"\",INDIRECT(\"'\"&$B1752&\"'\"&\"!z2\"),\"\")","v":""},{"$f":"IF($B1752<>\"\",INDIRECT(\"'\"&$B1752&\"'\"&\"!aa2\"),\"\")","v":""},{"$f":"IF($B1752<>\"\",INDIRECT(\"'\"&$B1752&\"'\"&\"!ab2\"),\"\")","v":""},{"$f":"IF($B1752<>\"\",INDIRECT(\"'\"&$B1752&\"'\"&\"!ac2\"),\"\")","v":""},{"$f":"SUMIF(CO$1773:CO$1872,$C1752,CP$1773:CQ$1872)","v":0},{"$f":"SUMIF(CO$1773:CO$1872,$C1752,CR$1773:CS$1872)","v":0},{"$f":"SUMIF(CO$1773:CO$1872,$C1752,CT$1773:CU$1872)","v":0},{"$f":"SUMIF(CO$1773:CO$1872,$C1752,CV$1773:CW$1872)","v":0},null,"01 - Приходи из буџета",{"$f":"IF($B1752<>\"\",INDIRECT(\"'\"&$B1752&\"'\"&\"!z2\"),\"\")","v":""},{"$f":"IF($B1752<>\"\",INDIRECT(\"'\"&$B1752&\"'\"&\"!aa2\"),\"\")","v":""},{"$f":"IF($B1752<>\"\",INDIRECT(\"'\"&$B1752&\"'\"&\"!ab2\"),\"\")","v":""},{"$f":"IF($B1752<>\"\",INDIRECT(\"'\"&$B1752&\"'\"&\"!ac2\"),\"\")","v":""},{"$f":"SUMIF(CY$1773:CY$1872,$C1752,CZ$1773:DA$1872)","v":0},{"$f":"SUMIF(CY$1773:CY$1872,$C1752,DB$1773:DC$1872)","v":0},{"$f":"SUMIF(CY$1773:CY$1872,$C1752,DD$1773:DE$1872)","v":0},{"$f":"SUMIF(CY$1773:CY$1872,$C1752,DF$1773:DG$1872)","v":0},null,"01 - Приходи из буџета",{"$f":"IF($B1752<>\"\",INDIRECT(\"'\"&$B1752&\"'\"&\"!z2\"),\"\")","v":""},{"$f":"IF($B1752<>\"\",INDIRECT(\"'\"&$B1752&\"'\"&\"!aa2\"),\"\")","v":""},{"$f":"IF($B1752<>\"\",INDIRECT(\"'\"&$B1752&\"'\"&\"!ab2\"),\"\")","v":""},{"$f":"IF($B1752<>\"\",INDIRECT(\"'\"&$B1752&\"'\"&\"!ac2\"),\"\")","v":""},{"$f":"SUMIF(DI$1773:DI$1872,$C1752,DJ$1773:DK$1872)","v":0},{"$f":"SUMIF(DI$1773:DI$1872,$C1752,DL$1773:DM$1872)","v":0},{"$f":"SUMIF(DI$1773:DI$1872,$C1752,DN$1773:DO$1872)","v":0},{"$f":"SUMIF(DI$1773:DI$1872,$C1752,DP$1773:DQ$1872)","v":0},null,"01 - Приходи из буџета",{"$f":"IF($B1752<>\"\",INDIRECT(\"'\"&$B1752&\"'\"&\"!z2\"),\"\")","v":""},{"$f":"IF($B1752<>\"\",INDIRECT(\"'\"&$B1752&\"'\"&\"!aa2\"),\"\")","v":""},{"$f":"IF($B1752<>\"\",INDIRECT(\"'\"&$B1752&\"'\"&\"!ab2\"),\"\")","v":""},{"$f":"IF($B1752<>\"\",INDIRECT(\"'\"&$B1752&\"'\"&\"!ac2\"),\"\")","v":""},{"$f":"SUMIF(DS$1773:DS$1872,$C1752,DT$1773:DU$1872)","v":0},{"$f":"SUMIF(DS$1773:DS$1872,$C1752,DV$1773:DW$1872)","v":0},{"$f":"SUMIF(DS$1773:DS$1872,$C1752,DX$1773:DY$1872)","v":0},{"$f":"SUMIF(DS$1773:DS$1872,$C1752,DZ$1773:EA$1872)","v":0},null,"01 - Приходи из буџета",{"$f":"IF($B1752<>\"\",INDIRECT(\"'\"&$B1752&\"'\"&\"!z2\"),\"\")","v":""},{"$f":"IF($B1752<>\"\",INDIRECT(\"'\"&$B1752&\"'\"&\"!aa2\"),\"\")","v":""},{"$f":"IF($B1752<>\"\",INDIRECT(\"'\"&$B1752&\"'\"&\"!ab2\"),\"\")","v":""},{"$f":"IF($B1752<>\"\",INDIRECT(\"'\"&$B1752&\"'\"&\"!ac2\"),\"\")","v":""},{"$f":"SUMIF(EC$1773:EC$1872,$C1752,ED$1773:EE$1872)","v":0},{"$f":"SUMIF(EC$1773:EC$1872,$C1752,EF$1773:EG$1872)","v":0},{"$f":"SUMIF(EC$1773:EC$1872,$C1752,EH$1773:EI$1872)","v":0},{"$f":"SUMIF(EC$1773:EC$1872,$C1752,EJ$1773:EK$1872)","v":0},null,"01 - Приходи из буџета",{"$f":"IF($B1752<>\"\",INDIRECT(\"'\"&$B1752&\"'\"&\"!z2\"),\"\")","v":""},{"$f":"IF($B1752<>\"\",INDIRECT(\"'\"&$B1752&\"'\"&\"!aa2\"),\"\")","v":""},{"$f":"IF($B1752<>\"\",INDIRECT(\"'\"&$B1752&\"'\"&\"!ab2\"),\"\")","v":""},{"$f":"IF($B1752<>\"\",INDIRECT(\"'\"&$B1752&\"'\"&\"!ac2\"),\"\")","v":""},{"$f":"SUMIF(EM$1773:EM$1872,$C1752,EN$1773:EO$1872)","v":0},{"$f":"SUMIF(EM$1773:EM$1872,$C1752,EP$1773:EQ$1872)","v":0},{"$f":"SUMIF(EM$1773:EM$1872,$C1752,ER$1773:ES$1872)","v":0},{"$f":"SUMIF(EM$1773:EM$1872,$C1752,ET$1773:EU$1872)","v":0},null,"01 - Приходи из буџета",{"$f":"IF($B1752<>\"\",INDIRECT(\"'\"&$B1752&\"'\"&\"!z2\"),\"\")","v":""},{"$f":"IF($B1752<>\"\",INDIRECT(\"'\"&$B1752&\"'\"&\"!aa2\"),\"\")","v":""},{"$f":"IF($B1752<>\"\",INDIRECT(\"'\"&$B1752&\"'\"&\"!ab2\"),\"\")","v":""},{"$f":"IF($B1752<>\"\",INDIRECT(\"'\"&$B1752&\"'\"&\"!ac2\"),\"\")","v":""},{"$f":"SUMIF(EW$1773:EW$1872,$C1752,EX$1773:EY$1872)","v":0},{"$f":"SUMIF(EW$1773:EW$1872,$C1752,EZ$1773:FA$1872)","v":0},{"$f":"SUMIF(EW$1773:EW$1872,$C1752,FB$1773:FC$1872)","v":0},{"$f":"SUMIF(EW$1773:EW$1872,$C1752,FD$1773:FE$1872)","v":0},null,"01 - Приходи из буџета",{"$f":"IF($B1752<>\"\",INDIRECT(\"'\"&$B1752&\"'\"&\"!z2\"),\"\")","v":""},{"$f":"IF($B1752<>\"\",INDIRECT(\"'\"&$B1752&\"'\"&\"!aa2\"),\"\")","v":""},{"$f":"IF($B1752<>\"\",INDIRECT(\"'\"&$B1752&\"'\"&\"!ab2\"),\"\")","v":""},{"$f":"IF($B1752<>\"\",INDIRECT(\"'\"&$B1752&\"'\"&\"!ac2\"),\"\")","v":""},{"$f":"SUMIF(FG$1773:FG$1872,$C1752,FH$1773:FI$1872)","v":0},{"$f":"SUMIF(FG$1773:FG$1872,$C1752,FJ$1773:FK$1872)","v":0},{"$f":"SUMIF(FG$1773:FG$1872,$C1752,FL$1773:FM$1872)","v":0},{"$f":"SUMIF(FG$1773:FG$1872,$C1752,FN$1773:FO$1872)","v":0},{"$f":"IF(FX1752>0,MAX($FP$1750:FP1751)+1,\"\")","v":""},"01 - Приходи из буџета",null,null,{"$f":"FL1752+FB1752+ER1752+EH1752+DX1752+DN1752+DD1752+CT1752+CJ1752+BZ1752+BP1752+BF1752+AV1752+AL1752+AB1752+R1752+H1752","v":0},{"$f":"FM1752+FC1752+ES1752+EI1752+DY1752+DO1752+DE1752+CU1752+CK1752+CA1752+BQ1752+BG1752+AW1752+AM1752+AC1752+S1752+I1752","v":0},0,0,{"$f":"SUM(FT1752:FW1752)","v":0}]
[null,null,"02 - Трансфери између корисника на истом нивоу",{"$nulls":4},{"$f":"SUMIF(C$1773:C$1872,$C1753,D$1773:E$1872)","v":0},{"$f":"SUMIF(C$1773:C$1872,$C1753,F$1773:G$1872)","v":0},{"$f":"SUMIF(C$1773:C$1872,$C1753,H$1773:I$1872)","v":0},{"$f":"SUMIF(C$1773:C$1872,$C1753,J$1773:K$1872)","v":0},null,"02 - Трансфери између корисника на истом нивоу",{"$f":"IF($B1753<>\"\",INDIRECT(\"'\"&$B1753&\"'\"&\"!z2\"),\"\")","v":""},{"$f":"IF($B1753<>\"\",INDIRECT(\"'\"&$B1753&\"'\"&\"!aa2\"),\"\")","v":""},{"$f":"IF($B1753<>\"\",INDIRECT(\"'\"&$B1753&\"'\"&\"!ab2\"),\"\")","v":""},{"$f":"IF($B1753<>\"\",INDIRECT(\"'\"&$B1753&\"'\"&\"!ac2\"),\"\")","v":""},{"$f":"SUMIF(M$1773:M$1872,$C1753,N$1773:O$1872)","v":0},{"$f":"SUMIF(M$1773:M$1872,$C1753,P$1773:Q$1872)","v":0},{"$f":"SUMIF(M$1773:M$1872,$C1753,R$1773:S$1872)","v":0},{"$f":"SUMIF(M$1773:M$1872,$C1753,T$1773:U$1872)","v":0},null,"02 - Трансфери између корисника на истом нивоу",{"$f":"IF($B1753<>\"\",INDIRECT(\"'\"&$B1753&\"'\"&\"!z2\"),\"\")","v":""},{"$f":"IF($B1753<>\"\",INDIRECT(\"'\"&$B1753&\"'\"&\"!aa2\"),\"\")","v":""},{"$f":"IF($B1753<>\"\",INDIRECT(\"'\"&$B1753&\"'\"&\"!ab2\"),\"\")","v":""},{"$f":"IF($B1753<>\"\",INDIRECT(\"'\"&$B1753&\"'\"&\"!ac2\"),\"\")","v":""},{"$f":"SUMIF(W$1773:W$1872,$C1753,X$1773:Y$1872)","v":0},{"$f":"SUMIF(W$1773:W$1872,$C1753,Z$1773:AA$1872)","v":0},{"$f":"SUMIF(W$1773:W$1872,$C1753,AB$1773:AC$1872)","v":0},{"$f":"SUMIF(W$1773:W$1872,$C1753,AD$1773:AE$1872)","v":0},null,"02 - Трансфери између корисника на истом нивоу",{"$f":"IF($B1753<>\"\",INDIRECT(\"'\"&$B1753&\"'\"&\"!z2\"),\"\")","v":""},{"$f":"IF($B1753<>\"\",INDIRECT(\"'\"&$B1753&\"'\"&\"!aa2\"),\"\")","v":""},{"$f":"IF($B1753<>\"\",INDIRECT(\"'\"&$B1753&\"'\"&\"!ab2\"),\"\")","v":""},{"$f":"IF($B1753<>\"\",INDIRECT(\"'\"&$B1753&\"'\"&\"!ac2\"),\"\")","v":""},{"$f":"SUMIF(AG$1773:AG$1872,$C1753,AH$1773:AI$1872)","v":0},{"$f":"SUMIF(AG$1773:AG$1872,$C1753,AJ$1773:AK$1872)","v":0},{"$f":"SUMIF(AG$1773:AG$1872,$C1753,AL$1773:AM$1872)","v":0},{"$f":"SUMIF(AG$1773:AG$1872,$C1753,AN$1773:AO$1872)","v":0},null,"02 - Трансфери између корисника на истом нивоу",{"$f":"IF($B1753<>\"\",INDIRECT(\"'\"&$B1753&\"'\"&\"!z2\"),\"\")","v":""},{"$f":"IF($B1753<>\"\",INDIRECT(\"'\"&$B1753&\"'\"&\"!aa2\"),\"\")","v":""},{"$f":"IF($B1753<>\"\",INDIRECT(\"'\"&$B1753&\"'\"&\"!ab2\"),\"\")","v":""},{"$f":"IF($B1753<>\"\",INDIRECT(\"'\"&$B1753&\"'\"&\"!ac2\"),\"\")","v":""},{"$f":"SUMIF(AQ$1773:AQ$1872,$C1753,AR$1773:AS$1872)","v":0},{"$f":"SUMIF(AQ$1773:AQ$1872,$C1753,AT$1773:AU$1872)","v":0},{"$f":"SUMIF(AQ$1773:AQ$1872,$C1753,AV$1773:AW$1872)","v":0},{"$f":"SUMIF(AQ$1773:AQ$1872,$C1753,AX$1773:AY$1872)","v":0},null,"02 - Трансфери између корисника на истом нивоу",{"$f":"IF($B1753<>\"\",INDIRECT(\"'\"&$B1753&\"'\"&\"!z2\"),\"\")","v":""},{"$f":"IF($B1753<>\"\",INDIRECT(\"'\"&$B1753&\"'\"&\"!aa2\"),\"\")","v":""},{"$f":"IF($B1753<>\"\",INDIRECT(\"'\"&$B1753&\"'\"&\"!ab2\"),\"\")","v":""},{"$f":"IF($B1753<>\"\",INDIRECT(\"'\"&$B1753&\"'\"&\"!ac2\"),\"\")","v":""},{"$f":"SUMIF(BA$1773:BA$1872,$C1753,BB$1773:BC$1872)","v":0},{"$f":"SUMIF(BA$1773:BA$1872,$C1753,BD$1773:BE$1872)","v":0},{"$f":"SUMIF(BA$1773:BA$1872,$C1753,BF$1773:BG$1872)","v":0},{"$f":"SUMIF(BA$1773:BA$1872,$C1753,BH$1773:BI$1872)","v":0},null,"02 - Трансфери између корисника на истом нивоу",{"$f":"IF($B1753<>\"\",INDIRECT(\"'\"&$B1753&\"'\"&\"!z2\"),\"\")","v":""},{"$f":"IF($B1753<>\"\",INDIRECT(\"'\"&$B1753&\"'\"&\"!aa2\"),\"\")","v":""},{"$f":"IF($B1753<>\"\",INDIRECT(\"'\"&$B1753&\"'\"&\"!ab2\"),\"\")","v":""},{"$f":"IF($B1753<>\"\",INDIRECT(\"'\"&$B1753&\"'\"&\"!ac2\"),\"\")","v":""},{"$f":"SUMIF(BK$1773:BK$1872,$C1753,BL$1773:BM$1872)","v":0},{"$f":"SUMIF(BK$1773:BK$1872,$C1753,BN$1773:BO$1872)","v":0},{"$f":"SUMIF(BK$1773:BK$1872,$C1753,BP$1773:BQ$1872)","v":0},{"$f":"SUMIF(BK$1773:BK$1872,$C1753,BR$1773:BS$1872)","v":0},null,"02 - Трансфери између корисника на истом нивоу",{"$f":"IF($B1753<>\"\",INDIRECT(\"'\"&$B1753&\"'\"&\"!z2\"),\"\")","v":""},{"$f":"IF($B1753<>\"\",INDIRECT(\"'\"&$B1753&\"'\"&\"!aa2\"),\"\")","v":""},{"$f":"IF($B1753<>\"\",INDIRECT(\"'\"&$B1753&\"'\"&\"!ab2\"),\"\")","v":""},{"$f":"IF($B1753<>\"\",INDIRECT(\"'\"&$B1753&\"'\"&\"!ac2\"),\"\")","v":""},{"$f":"SUMIF(BU$1773:BU$1872,$C1753,BV$1773:BW$1872)","v":0},{"$f":"SUMIF(BU$1773:BU$1872,$C1753,BX$1773:BY$1872)","v":0},{"$f":"SUMIF(BU$1773:BU$1872,$C1753,BZ$1773:CA$1872)","v":0},{"$f":"SUMIF(BU$1773:BU$1872,$C1753,CB$1773:CC$1872)","v":0},null,"02 - Трансфери између корисника на истом нивоу",{"$f":"IF($B1753<>\"\",INDIRECT(\"'\"&$B1753&\"'\"&\"!z2\"),\"\")","v":""},{"$f":"IF($B1753<>\"\",INDIRECT(\"'\"&$B1753&\"'\"&\"!aa2\"),\"\")","v":""},{"$f":"IF($B1753<>\"\",INDIRECT(\"'\"&$B1753&\"'\"&\"!ab2\"),\"\")","v":""},{"$f":"IF($B1753<>\"\",INDIRECT(\"'\"&$B1753&\"'\"&\"!ac2\"),\"\")","v":""},{"$f":"SUMIF(CE$1773:CE$1872,$C1753,CF$1773:CG$1872)","v":0},{"$f":"SUMIF(CE$1773:CE$1872,$C1753,CH$1773:CI$1872)","v":0},{"$f":"SUMIF(CE$1773:CE$1872,$C1753,CJ$1773:CK$1872)","v":0},{"$f":"SUMIF(CE$1773:CE$1872,$C1753,CL$1773:CM$1872)","v":0},null,"02 - Трансфери између корисника на истом нивоу",{"$f":"IF($B1753<>\"\",INDIRECT(\"'\"&$B1753&\"'\"&\"!z2\"),\"\")","v":""},{"$f":"IF($B1753<>\"\",INDIRECT(\"'\"&$B1753&\"'\"&\"!aa2\"),\"\")","v":""},{"$f":"IF($B1753<>\"\",INDIRECT(\"'\"&$B1753&\"'\"&\"!ab2\"),\"\")","v":""},{"$f":"IF($B1753<>\"\",INDIRECT(\"'\"&$B1753&\"'\"&\"!ac2\"),\"\")","v":""},{"$f":"SUMIF(CO$1773:CO$1872,$C1753,CP$1773:CQ$1872)","v":0},{"$f":"SUMIF(CO$1773:CO$1872,$C1753,CR$1773:CS$1872)","v":0},{"$f":"SUMIF(CO$1773:CO$1872,$C1753,CT$1773:CU$1872)","v":0},{"$f":"SUMIF(CO$1773:CO$1872,$C1753,CV$1773:CW$1872)","v":0},null,"02 - Трансфери између корисника на истом нивоу",{"$f":"IF($B1753<>\"\",INDIRECT(\"'\"&$B1753&\"'\"&\"!z2\"),\"\")","v":""},{"$f":"IF($B1753<>\"\",INDIRECT(\"'\"&$B1753&\"'\"&\"!aa2\"),\"\")","v":""},{"$f":"IF($B1753<>\"\",INDIRECT(\"'\"&$B1753&\"'\"&\"!ab2\"),\"\")","v":""},{"$f":"IF($B1753<>\"\",INDIRECT(\"'\"&$B1753&\"'\"&\"!ac2\"),\"\")","v":""},{"$f":"SUMIF(CY$1773:CY$1872,$C1753,CZ$1773:DA$1872)","v":0},{"$f":"SUMIF(CY$1773:CY$1872,$C1753,DB$1773:DC$1872)","v":0},{"$f":"SUMIF(CY$1773:CY$1872,$C1753,DD$1773:DE$1872)","v":0},{"$f":"SUMIF(CY$1773:CY$1872,$C1753,DF$1773:DG$1872)","v":0},null,"02 - Трансфери између корисника на истом нивоу",{"$f":"IF($B1753<>\"\",INDIRECT(\"'\"&$B1753&\"'\"&\"!z2\"),\"\")","v":""},{"$f":"IF($B1753<>\"\",INDIRECT(\"'\"&$B1753&\"'\"&\"!aa2\"),\"\")","v":""},{"$f":"IF($B1753<>\"\",INDIRECT(\"'\"&$B1753&\"'\"&\"!ab2\"),\"\")","v":""},{"$f":"IF($B1753<>\"\",INDIRECT(\"'\"&$B1753&\"'\"&\"!ac2\"),\"\")","v":""},{"$f":"SUMIF(DI$1773:DI$1872,$C1753,DJ$1773:DK$1872)","v":0},{"$f":"SUMIF(DI$1773:DI$1872,$C1753,DL$1773:DM$1872)","v":0},{"$f":"SUMIF(DI$1773:DI$1872,$C1753,DN$1773:DO$1872)","v":0},{"$f":"SUMIF(DI$1773:DI$1872,$C1753,DP$1773:DQ$1872)","v":0},null,"02 - Трансфери између корисника на истом нивоу",{"$f":"IF($B1753<>\"\",INDIRECT(\"'\"&$B1753&\"'\"&\"!z2\"),\"\")","v":""},{"$f":"IF($B1753<>\"\",INDIRECT(\"'\"&$B1753&\"'\"&\"!aa2\"),\"\")","v":""},{"$f":"IF($B1753<>\"\",INDIRECT(\"'\"&$B1753&\"'\"&\"!ab2\"),\"\")","v":""},{"$f":"IF($B1753<>\"\",INDIRECT(\"'\"&$B1753&\"'\"&\"!ac2\"),\"\")","v":""},{"$f":"SUMIF(DS$1773:DS$1872,$C1753,DT$1773:DU$1872)","v":0},{"$f":"SUMIF(DS$1773:DS$1872,$C1753,DV$1773:DW$1872)","v":0},{"$f":"SUMIF(DS$1773:DS$1872,$C1753,DX$1773:DY$1872)","v":0},{"$f":"SUMIF(DS$1773:DS$1872,$C1753,DZ$1773:EA$1872)","v":0},null,"02 - Трансфери између корисника на истом нивоу",{"$f":"IF($B1753<>\"\",INDIRECT(\"'\"&$B1753&\"'\"&\"!z2\"),\"\")","v":""},{"$f":"IF($B1753<>\"\",INDIRECT(\"'\"&$B1753&\"'\"&\"!aa2\"),\"\")","v":""},{"$f":"IF($B1753<>\"\",INDIRECT(\"'\"&$B1753&\"'\"&\"!ab2\"),\"\")","v":""},{"$f":"IF($B1753<>\"\",INDIRECT(\"'\"&$B1753&\"'\"&\"!ac2\"),\"\")","v":""},{"$f":"SUMIF(EC$1773:EC$1872,$C1753,ED$1773:EE$1872)","v":0},{"$f":"SUMIF(EC$1773:EC$1872,$C1753,EF$1773:EG$1872)","v":0},{"$f":"SUMIF(EC$1773:EC$1872,$C1753,EH$1773:EI$1872)","v":0},{"$f":"SUMIF(EC$1773:EC$1872,$C1753,EJ$1773:EK$1872)","v":0},null,"02 - Трансфери између корисника на истом нивоу",{"$f":"IF($B1753<>\"\",INDIRECT(\"'\"&$B1753&\"'\"&\"!z2\"),\"\")","v":""},{"$f":"IF($B1753<>\"\",INDIRECT(\"'\"&$B1753&\"'\"&\"!aa2\"),\"\")","v":""},{"$f":"IF($B1753<>\"\",INDIRECT(\"'\"&$B1753&\"'\"&\"!ab2\"),\"\")","v":""},{"$f":"IF($B1753<>\"\",INDIRECT(\"'\"&$B1753&\"'\"&\"!ac2\"),\"\")","v":""},{"$f":"SUMIF(EM$1773:EM$1872,$C1753,EN$1773:EO$1872)","v":0},{"$f":"SUMIF(EM$1773:EM$1872,$C1753,EP$1773:EQ$1872)","v":0},{"$f":"SUMIF(EM$1773:EM$1872,$C1753,ER$1773:ES$1872)","v":0},{"$f":"SUMIF(EM$1773:EM$1872,$C1753,ET$1773:EU$1872)","v":0},null,"02 - Трансфери између корисника на истом нивоу",{"$f":"IF($B1753<>\"\",INDIRECT(\"'\"&$B1753&\"'\"&\"!z2\"),\"\")","v":""},{"$f":"IF($B1753<>\"\",INDIRECT(\"'\"&$B1753&\"'\"&\"!aa2\"),\"\")","v":""},{"$f":"IF($B1753<>\"\",INDIRECT(\"'\"&$B1753&\"'\"&\"!ab2\"),\"\")","v":""},{"$f":"IF($B1753<>\"\",INDIRECT(\"'\"&$B1753&\"'\"&\"!ac2\"),\"\")","v":""},{"$f":"SUMIF(EW$1773:EW$1872,$C1753,EX$1773:EY$1872)","v":0},{"$f":"SUMIF(EW$1773:EW$1872,$C1753,EZ$1773:FA$1872)","v":0},{"$f":"SUMIF(EW$1773:EW$1872,$C1753,FB$1773:FC$1872)","v":0},{"$f":"SUMIF(EW$1773:EW$1872,$C1753,FD$1773:FE$1872)","v":0},null,"02 - Трансфери између корисника на истом нивоу",{"$f":"IF($B1753<>\"\",INDIRECT(\"'\"&$B1753&\"'\"&\"!z2\"),\"\")","v":""},{"$f":"IF($B1753<>\"\",INDIRECT(\"'\"&$B1753&\"'\"&\"!aa2\"),\"\")","v":""},{"$f":"IF($B1753<>\"\",INDIRECT(\"'\"&$B1753&\"'\"&\"!ab2\"),\"\")","v":""},{"$f":"IF($B1753<>\"\",INDIRECT(\"'\"&$B1753&\"'\"&\"!ac2\"),\"\")","v":""},{"$f":"SUMIF(FG$1773:FG$1872,$C1753,FH$1773:FI$1872)","v":0},{"$f":"SUMIF(FG$1773:FG$1872,$C1753,FJ$1773:FK$1872)","v":0},{"$f":"SUMIF(FG$1773:FG$1872,$C1753,FL$1773:FM$1872)","v":0},{"$f":"SUMIF(FG$1773:FG$1872,$C1753,FN$1773:FO$1872)","v":0},{"$f":"IF(FX1753>0,MAX($FP$1750:FP1752)+1,\"\")","v":""},"02 - Трансфери између корисника на истом нивоу",null,null,{"$f":"FL1753+FB1753+ER1753+EH1753+DX1753+DN1753+DD1753+CT1753+CJ1753+BZ1753+BP1753+BF1753+AV1753+AL1753+AB1753+R1753+H1753","v":0},0,0,0,{"$f":"SUM(FT1753:FW1753)","v":0}]
[null,null,"03 - Социјални доприноси",{"$nulls":4},0,0,0,0,null,"03 - Социјални доприноси",{"$f":"IF($B1754<>\"\",INDIRECT(\"'\"&$B1754&\"'\"&\"!z2\"),\"\")","v":""},{"$f":"IF($B1754<>\"\",INDIRECT(\"'\"&$B1754&\"'\"&\"!aa2\"),\"\")","v":""},{"$f":"IF($B1754<>\"\",INDIRECT(\"'\"&$B1754&\"'\"&\"!ab2\"),\"\")","v":""},{"$f":"IF($B1754<>\"\",INDIRECT(\"'\"&$B1754&\"'\"&\"!ac2\"),\"\")","v":""},0,0,0,0,null,"03 - Социјални доприноси",{"$f":"IF($B1754<>\"\",INDIRECT(\"'\"&$B1754&\"'\"&\"!z2\"),\"\")","v":""},{"$f":"IF($B1754<>\"\",INDIRECT(\"'\"&$B1754&\"'\"&\"!aa2\"),\"\")","v":""},{"$f":"IF($B1754<>\"\",INDIRECT(\"'\"&$B1754&\"'\"&\"!ab2\"),\"\")","v":""},{"$f":"IF($B1754<>\"\",INDIRECT(\"'\"&$B1754&\"'\"&\"!ac2\"),\"\")","v":""},0,0,0,0,null,"03 - Социјални доприноси",{"$f":"IF($B1754<>\"\",INDIRECT(\"'\"&$B1754&\"'\"&\"!z2\"),\"\")","v":""},{"$f":"IF($B1754<>\"\",INDIRECT(\"'\"&$B1754&\"'\"&\"!aa2\"),\"\")","v":""},{"$f":"IF($B1754<>\"\",INDIRECT(\"'\"&$B1754&\"'\"&\"!ab2\"),\"\")","v":""},{"$f":"IF($B1754<>\"\",INDIRECT(\"'\"&$B1754&\"'\"&\"!ac2\"),\"\")","v":""},0,0,0,0,null,"03 - Социјални доприноси",{"$f":"IF($B1754<>\"\",INDIRECT(\"'\"&$B1754&\"'\"&\"!z2\"),\"\")","v":""},{"$f":"IF($B1754<>\"\",INDIRECT(\"'\"&$B1754&\"'\"&\"!aa2\"),\"\")","v":""},{"$f":"IF($B1754<>\"\",INDIRECT(\"'\"&$B1754&\"'\"&\"!ab2\"),\"\")","v":""},{"$f":"IF($B1754<>\"\",INDIRECT(\"'\"&$B1754&\"'\"&\"!ac2\"),\"\")","v":""},0,0,0,0,null,"03 - Социјални доприноси",{"$f":"IF($B1754<>\"\",INDIRECT(\"'\"&$B1754&\"'\"&\"!z2\"),\"\")","v":""},{"$f":"IF($B1754<>\"\",INDIRECT(\"'\"&$B1754&\"'\"&\"!aa2\"),\"\")","v":""},{"$f":"IF($B1754<>\"\",INDIRECT(\"'\"&$B1754&\"'\"&\"!ab2\"),\"\")","v":""},{"$f":"IF($B1754<>\"\",INDIRECT(\"'\"&$B1754&\"'\"&\"!ac2\"),\"\")","v":""},0,0,0,0,null,"03 - Социјални доприноси",{"$f":"IF($B1754<>\"\",INDIRECT(\"'\"&$B1754&\"'\"&\"!z2\"),\"\")","v":""},{"$f":"IF($B1754<>\"\",INDIRECT(\"'\"&$B1754&\"'\"&\"!aa2\"),\"\")","v":""},{"$f":"IF($B1754<>\"\",INDIRECT(\"'\"&$B1754&\"'\"&\"!ab2\"),\"\")","v":""},{"$f":"IF($B1754<>\"\",INDIRECT(\"'\"&$B1754&\"'\"&\"!ac2\"),\"\")","v":""},0,0,0,0,null,"03 - Социјални доприноси",{"$f":"IF($B1754<>\"\",INDIRECT(\"'\"&$B1754&\"'\"&\"!z2\"),\"\")","v":""},{"$f":"IF($B1754<>\"\",INDIRECT(\"'\"&$B1754&\"'\"&\"!aa2\"),\"\")","v":""},{"$f":"IF($B1754<>\"\",INDIRECT(\"'\"&$B1754&\"'\"&\"!ab2\"),\"\")","v":""},{"$f":"IF($B1754<>\"\",INDIRECT(\"'\"&$B1754&\"'\"&\"!ac2\"),\"\")","v":""},0,0,0,0,null,"03 - Социјални доприноси",{"$f":"IF($B1754<>\"\",INDIRECT(\"'\"&$B1754&\"'\"&\"!z2\"),\"\")","v":""},{"$f":"IF($B1754<>\"\",INDIRECT(\"'\"&$B1754&\"'\"&\"!aa2\"),\"\")","v":""},{"$f":"IF($B1754<>\"\",INDIRECT(\"'\"&$B1754&\"'\"&\"!ab2\"),\"\")","v":""},{"$f":"IF($B1754<>\"\",INDIRECT(\"'\"&$B1754&\"'\"&\"!ac2\"),\"\")","v":""},0,0,0,0,null,"03 - Социјални доприноси",{"$f":"IF($B1754<>\"\",INDIRECT(\"'\"&$B1754&\"'\"&\"!z2\"),\"\")","v":""},{"$f":"IF($B1754<>\"\",INDIRECT(\"'\"&$B1754&\"'\"&\"!aa2\"),\"\")","v":""},{"$f":"IF($B1754<>\"\",INDIRECT(\"'\"&$B1754&\"'\"&\"!ab2\"),\"\")","v":""},{"$f":"IF($B1754<>\"\",INDIRECT(\"'\"&$B1754&\"'\"&\"!ac2\"),\"\")","v":""},0,0,0,0,null,"03 - Социјални доприноси",{"$f":"IF($B1754<>\"\",INDIRECT(\"'\"&$B1754&\"'\"&\"!z2\"),\"\")","v":""},{"$f":"IF($B1754<>\"\",INDIRECT(\"'\"&$B1754&\"'\"&\"!aa2\"),\"\")","v":""},{"$f":"IF($B1754<>\"\",INDIRECT(\"'\"&$B1754&\"'\"&\"!ab2\"),\"\")","v":""},{"$f":"IF($B1754<>\"\",INDIRECT(\"'\"&$B1754&\"'\"&\"!ac2\"),\"\")","v":""},0,0,0,0,null,"03 - Социјални доприноси",{"$f":"IF($B1754<>\"\",INDIRECT(\"'\"&$B1754&\"'\"&\"!z2\"),\"\")","v":""},{"$f":"IF($B1754<>\"\",INDIRECT(\"'\"&$B1754&\"'\"&\"!aa2\"),\"\")","v":""},{"$f":"IF($B1754<>\"\",INDIRECT(\"'\"&$B1754&\"'\"&\"!ab2\"),\"\")","v":""},{"$f":"IF($B1754<>\"\",INDIRECT(\"'\"&$B1754&\"'\"&\"!ac2\"),\"\")","v":""},0,0,0,0,null,"03 - Социјални доприноси",{"$f":"IF($B1754<>\"\",INDIRECT(\"'\"&$B1754&\"'\"&\"!z2\"),\"\")","v":""},{"$f":"IF($B1754<>\"\",INDIRECT(\"'\"&$B1754&\"'\"&\"!aa2\"),\"\")","v":""},{"$f":"IF($B1754<>\"\",INDIRECT(\"'\"&$B1754&\"'\"&\"!ab2\"),\"\")","v":""},{"$f":"IF($B1754<>\"\",INDIRECT(\"'\"&$B1754&\"'\"&\"!ac2\"),\"\")","v":""},0,0,0,0,null,"03 - Социјални доприноси",{"$f":"IF($B1754<>\"\",INDIRECT(\"'\"&$B1754&\"'\"&\"!z2\"),\"\")","v":""},{"$f":"IF($B1754<>\"\",INDIRECT(\"'\"&$B1754&\"'\"&\"!aa2\"),\"\")","v":""},{"$f":"IF($B1754<>\"\",INDIRECT(\"'\"&$B1754&\"'\"&\"!ab2\"),\"\")","v":""},{"$f":"IF($B1754<>\"\",INDIRECT(\"'\"&$B1754&\"'\"&\"!ac2\"),\"\")","v":""},0,0,0,0,null,"03 - Социјални доприноси",{"$f":"IF($B1754<>\"\",INDIRECT(\"'\"&$B1754&\"'\"&\"!z2\"),\"\")","v":""},{"$f":"IF($B1754<>\"\",INDIRECT(\"'\"&$B1754&\"'\"&\"!aa2\"),\"\")","v":""},{"$f":"IF($B1754<>\"\",INDIRECT(\"'\"&$B1754&\"'\"&\"!ab2\"),\"\")","v":""},{"$f":"IF($B1754<>\"\",INDIRECT(\"'\"&$B1754&\"'\"&\"!ac2\"),\"\")","v":""},0,0,0,0,null,"03 - Социјални доприноси",{"$f":"IF($B1754<>\"\",INDIRECT(\"'\"&$B1754&\"'\"&\"!z2\"),\"\")","v":""},{"$f":"IF($B1754<>\"\",INDIRECT(\"'\"&$B1754&\"'\"&\"!aa2\"),\"\")","v":""},{"$f":"IF($B1754<>\"\",INDIRECT(\"'\"&$B1754&\"'\"&\"!ab2\"),\"\")","v":""},{"$f":"IF($B1754<>\"\",INDIRECT(\"'\"&$B1754&\"'\"&\"!ac2\"),\"\")","v":""},0,0,0,0,null,"03 - Социјални доприноси",{"$f":"IF($B1754<>\"\",INDIRECT(\"'\"&$B1754&\"'\"&\"!z2\"),\"\")","v":""},{"$f":"IF($B1754<>\"\",INDIRECT(\"'\"&$B1754&\"'\"&\"!aa2\"),\"\")","v":""},{"$f":"IF($B1754<>\"\",INDIRECT(\"'\"&$B1754&\"'\"&\"!ab2\"),\"\")","v":""},{"$f":"IF($B1754<>\"\",INDIRECT(\"'\"&$B1754&\"'\"&\"!ac2\"),\"\")","v":""},0,0,0,0,{"$f":"IF(FX1754>0,MAX($FP$1750:FP1753)+1,\"\")","v":""},"03 - Социјални доприноси",null,null,0,0,0,0,0]
[null,null,"04 - Сопствени приходи буџетских корисника",{"$nulls":4},0,0,0,0,null,"04 - Сопствени приходи буџетских корисника",{"$nulls":4},0,0,0,0,null,"04 - Сопствени приходи буџетских корисника",{"$nulls":4},0,0,0,0,null,"04 - Сопствени приходи буџетских корисника",{"$nulls":4},0,0,0,0,null,"04 - Сопствени приходи буџетских корисника",{"$nulls":4},0,0,0,0,null,"04 - Сопствени приходи буџетских корисника",{"$nulls":4},0,0,0,0,null,"04 - Сопствени приходи буџетских корисника",{"$nulls":4},0,0,0,0,null,"04 - Сопствени приходи буџетских корисника",{"$nulls":4},0,0,0,0,null,"04 - Сопствени приходи буџетских корисника",{"$nulls":4},0,0,0,0,null,"04 - Сопствени приходи буџетских корисника",{"$nulls":4},0,0,0,0,null,"04 - Сопствени приходи буџетских корисника",{"$nulls":4},0,0,0,0,null,"04 - Сопствени приходи буџетских корисника",{"$nulls":4},0,0,0,0,null,"04 - Сопствени приходи буџетских корисника",{"$nulls":4},0,0,0,0,null,"04 - Сопствени приходи буџетских корисника",{"$nulls":4},0,0,0,0,null,"04 - Сопствени приходи буџетских корисника",{"$nulls":4},0,0,0,0,null,"04 - Сопствени приходи буџетских корисника",{"$nulls":4},0,0,0,0,null,"04 - Сопствени приходи буџетских корисника",{"$nulls":4},0,0,0,0,{"$f":"IF(FX1755>0,MAX($FP$1750:FP1754)+1,\"\")","v":""},"04 - Сопствени приходи буџетских корисника",null,null,0,0,0,0,0]
[null,null,"05 - Донације од иностраних земаља",{"$nulls":4},0,0,0,0,null,"05 - Донације од иностраних земаља",{"$nulls":4},0,0,0,0,null,"05 - Донације од иностраних земаља",{"$nulls":4},0,0,0,0,null,"05 - Донације од иностраних земаља",{"$nulls":4},0,0,0,0,null,"05 - Донације од иностраних земаља",{"$nulls":4},0,0,0,0,null,"05 - Донације од иностраних земаља",{"$nulls":4},0,0,0,0,null,"05 - Донације од иностраних земаља",{"$nulls":4},0,0,0,0,null,"05 - Донације од иностраних земаља",{"$nulls":4},0,0,0,0,null,"05 - Донације од иностраних земаља",{"$nulls":4},0,0,0,0,null,"05 - Донације од иностраних земаља",{"$nulls":4},0,0,0,0,null,"05 - Донације од иностраних земаља",{"$nulls":4},0,0,0,0,null,"05 - Донације од иностраних земаља",{"$nulls":4},0,0,0,0,null,"05 - Донације од иностраних земаља",{"$nulls":4},0,0,0,0,null,"05 - Донације од иностраних земаља",{"$nulls":4},0,0,0,0,null,"05 - Донације од иностраних земаља",{"$nulls":4},0,0,0,0,null,"05 - Донације од иностраних земаља",{"$nulls":4},{"$f":"SUMIF(EW$1773:EW$1872,$C1756,EX$1773:EY$1872)","v":0},0,0,0,null,"05 - Донације од иностраних земаља",{"$nulls":4},0,0,0,0,{"$f":"IF(FX1756>0,MAX($FP$1750:FP1755)+1,\"\")","v":""},"05 - Донације од иностраних земаља",null,null,0,0,0,0,0]
[null,null,"06 - Донације од међународних организација",{"$nulls":4},0,0,0,0,null,"06 - Донације од међународних организација",{"$nulls":4},0,0,0,0,null,"06 - Донације од међународних организација",{"$nulls":4},0,0,0,0,null,"06 - Донације од међународних организација",{"$nulls":4},0,0,0,0,null,"06 - Донације од међународних организација",{"$nulls":4},0,0,0,0,null,"06 - Донације од међународних организација",{"$nulls":4},0,0,0,0,null,"06 - Донације од међународних организација",{"$nulls":4},0,0,0,0,null,"06 - Донације од међународних организација",{"$nulls":4},0,0,0,0,null,"06 - Донације од међународних организација",{"$nulls":4},0,0,0,0,null,"06 - Донације од међународних организација",{"$nulls":4},0,0,0,0,null,"06 - Донације од међународних организација",{"$nulls":4},0,0,0,0,null,"06 - Донације од међународних организација",{"$nulls":4},0,0,0,0,null,"06 - Донације од међународних организација",{"$nulls":4},0,0,0,0,null,"06 - Донације од међународних организација",{"$nulls":4},0,0,0,0,null,"06 - Донације од међународних организација",{"$nulls":4},0,0,0,0,null,"06 - Донације од међународних организација",{"$nulls":4},0,0,0,{"$f":"SUMIF(EW$1773:EW$1872,$C1757,FD$1773:FE$1872)","v":0},null,"06 - Донације од међународних организација",{"$nulls":4},0,0,0,0,{"$f":"IF(FX1757>0,MAX($FP$1750:FP1756)+1,\"\")","v":""},"06 - Донације од међународних организација",null,null,0,0,0,0,0]
[null,null,"07 - Трансфери од других нивоа власти",{"$nulls":4},0,0,0,0,null,"07 - Трансфери од других нивоа власти",{"$nulls":4},0,0,0,0,null,"07 - Трансфери од других нивоа власти",{"$nulls":4},0,0,0,0,null,"07 - Трансфери од других нивоа власти",{"$nulls":4},0,0,0,0,null,"07 - Трансфери од других нивоа власти",{"$nulls":4},0,0,0,0,null,"07 - Трансфери од других нивоа власти",{"$nulls":4},0,0,0,0,null,"07 - Трансфери од других нивоа власти",{"$nulls":4},0,0,0,0,null,"07 - Трансфери од других нивоа власти",{"$nulls":4},0,0,0,0,null,"07 - Трансфери од других нивоа власти",{"$nulls":4},0,0,0,0,null,"07 - Трансфери од других нивоа власти",{"$nulls":4},0,0,0,0,null,"07 - Трансфери од других нивоа власти",{"$nulls":4},0,0,0,0,null,"07 - Трансфери од других нивоа власти",{"$nulls":4},0,0,0,0,null,"07 - Трансфери од других нивоа власти",{"$nulls":4},0,0,0,0,null,"07 - Трансфери од других нивоа власти",{"$nulls":4},0,0,0,0,null,"07 - Трансфери од других нивоа власти",{"$nulls":4},0,0,0,0,null,"07 - Трансфери од других нивоа власти",{"$nulls":4},0,0,0,0,null,"07 - Трансфери од других нивоа власти",{"$nulls":4},0,0,0,0,{"$f":"IF(FX1758>0,MAX($FP$1750:FP1757)+1,\"\")","v":""},"07 - Трансфери од других нивоа власти",null,null,0,0,0,0,0]
[null,null,"08 - Добровољни трансфери од физичких и правних лица",{"$nulls":4},0,0,0,0,null,"08 - Добровољни трансфери од физичких и правних лица",{"$nulls":4},0,0,0,0,null,"08 - Добровољни трансфери од физичких и правних лица",{"$nulls":4},0,0,0,0,null,"08 - Добровољни трансфери од физичких и правних лица",{"$nulls":4},0,0,0,0,null,"08 - Добровољни трансфери од физичких и правних лица",{"$nulls":4},0,0,0,0,null,"08 - Добровољни трансфери од физичких и правних лица",{"$nulls":4},0,0,0,0,null,"08 - Добровољни трансфери од физичких и правних лица",{"$nulls":4},0,0,0,0,null,"08 - Добровољни трансфери од физичких и правних лица",{"$nulls":4},0,0,0,0,null,"08 - Добровољни трансфери од физичких и правних лица",{"$nulls":4},0,0,0,0,null,"08 - Добровољни трансфери од физичких и правних лица",{"$nulls":4},0,0,0,0,null,"08 - Добровољни трансфери од физичких и правних лица",{"$nulls":4},0,0,0,0,null,"08 - Добровољни трансфери од физичких и правних лица",{"$nulls":4},0,0,0,0,null,"08 - Добровољни трансфери од физичких и правних лица",{"$nulls":4},0,0,0,0,null,"08 - Добровољни трансфери од физичких и правних лица",{"$nulls":4},0,0,0,0,null,"08 - Добровољни трансфери од физичких и правних лица",{"$nulls":4},0,0,0,0,null,"08 - Добровољни трансфери од физичких и правних лица",{"$nulls":4},0,0,0,0,null,"08 - Добровољни трансфери од физичких и правних лица",{"$nulls":4},0,0,0,0,{"$f":"IF(FX1759>0,MAX($FP$1750:FP1758)+1,\"\")","v":""},"08 - Добровољни трансфери од физичких и правних лица",null,null,0,0,0,0,0]
[null,null,"09 - Примања од продаје нефинансијске имовине",{"$nulls":4},0,0,0,0,null,"09 - Примања од продаје нефинансијске имовине",{"$nulls":4},0,0,0,0,null,"09 - Примања од продаје нефинансијске имовине",{"$nulls":4},0,0,0,0,null,"09 - Примања од продаје нефинансијске имовине",{"$nulls":4},0,0,0,0,null,"09 - Примања од продаје нефинансијске имовине",{"$nulls":4},0,0,0,0,null,"09 - Примања од продаје нефинансијске имовине",{"$nulls":4},0,0,0,0,null,"09 - Примања од продаје нефинансијске имовине",{"$nulls":4},0,0,0,0,null,"09 - Примања од продаје нефинансијске имовине",{"$nulls":4},0,0,0,0,null,"09 - Примања од продаје нефинансијске имовине",{"$nulls":4},0,0,0,0,null,"09 - Примања од продаје нефинансијске имовине",{"$nulls":4},0,0,0,0,null,"09 - Примања од продаје нефинансијске имовине",{"$nulls":4},0,0,0,0,null,"09 - Примања од продаје нефинансијске имовине",{"$nulls":4},0,0,0,0,null,"09 - Примања од продаје нефинансијске имовине",{"$nulls":4},0,0,0,0,null,"09 - Примања од продаје нефинансијске имовине",{"$nulls":4},0,0,0,0,null,"09 - Примања од продаје нефинансијске имовине",{"$nulls":4},0,0,0,0,null,"09 - Примања од продаје нефинансијске имовине",{"$nulls":4},0,0,0,0,null,"09 - Примања од продаје нефинансијске имовине",{"$nulls":4},0,0,0,0,{"$f":"IF(FX1760>0,MAX($FP$1750:FP1759)+1,\"\")","v":""},"09 - Примања од продаје нефинансијске имовине",null,null,0,0,0,0,0]
[null,null,"10 - Примања од домаћих задуживања",{"$nulls":4},0,0,0,0,null,"10 - Примања од домаћих задуживања",{"$nulls":4},0,0,0,0,null,"10 - Примања од домаћих задуживања",{"$nulls":4},{"$f":"SUMIF(W$1773:W$1872,$C1761,X$1773:Y$1872)","v":0},0,0,0,null,"10 - Примања од домаћих задуживања",{"$nulls":4},0,0,0,0,null,"10 - Примања од домаћих задуживања",{"$nulls":4},0,0,0,0,null,"10 - Примања од домаћих задуживања",{"$nulls":4},0,0,0,0,null,"10 - Примања од домаћих задуживања",{"$nulls":4},0,0,0,0,null,"10 - Примања од домаћих задуживања",{"$nulls":4},0,0,0,0,null,"10 - Примања од домаћих задуживања",{"$nulls":4},0,0,0,0,null,"10 - Примања од домаћих задуживања",{"$nulls":4},0,0,0,0,null,"10 - Примања од домаћих задуживања",{"$nulls":4},0,0,0,0,null,"10 - Примања од домаћих задуживања",{"$nulls":4},0,0,0,0,null,"10 - Примања од домаћих задуживања",{"$nulls":4},0,0,0,0,null,"10 - Примања од домаћих задуживања",{"$nulls":4},0,0,0,0,null,"10 - Примања од домаћих задуживања",{"$nulls":4},0,0,0,0,null,"10 - Примања од домаћих задуживања",{"$nulls":4},0,0,0,0,null,"10 - Примања од домаћих задуживања",{"$nulls":4},0,0,0,0,{"$f":"IF(FX1761>0,MAX($FP$1750:FP1760)+1,\"\")","v":""},"10 - Примања од домаћих задуживања",null,null,0,0,0,0,0]
[null,null,"11 - Примања од иностраних задуживања",{"$nulls":4},0,0,0,0,null,"11 - Примања од иностраних задуживања",{"$nulls":4},0,0,0,0,null,"11 - Примања од иностраних задуживања",{"$nulls":4},0,0,0,0,null,"11 - Примања од иностраних задуживања",{"$nulls":4},0,0,0,0,null,"11 - Примања од иностраних задуживања",{"$nulls":4},0,0,0,0,null,"11 - Примања од иностраних задуживања",{"$nulls":4},0,0,0,0,null,"11 - Примања од иностраних задуживања",{"$nulls":4},0,0,0,0,null,"11 - Примања од иностраних задуживања",{"$nulls":4},0,0,0,0,null,"11 - Примања од иностраних задуживања",{"$nulls":4},0,0,0,0,null,"11 - Примања од иностраних задуживања",{"$nulls":4},0,0,0,0,null,"11 - Примања од иностраних задуживања",{"$nulls":4},0,0,0,0,null,"11 - Примања од иностраних задуживања",{"$nulls":4},0,0,0,0,null,"11 - Примања од иностраних задуживања",{"$nulls":4},0,0,0,0,null,"11 - Примања од иностраних задуживања",{"$nulls":4},0,0,0,0,null,"11 - Примања од иностраних задуживања",{"$nulls":4},0,0,0,0,null,"11 - Примања од иностраних задуживања",{"$nulls":4},0,0,{"$f":"SUMIF(EW$1773:EW$1872,$C1762,FB$1773:FC$1872)","v":0},0,null,"11 - Примања од иностраних задуживања",{"$nulls":4},{"$f":"SUMIF(FG$1773:FG$1872,$C1762,FH$1773:FI$1872)","v":0},{"$f":"SUMIF(FG$1773:FG$1872,$C1762,FJ$1773:FK$1872)","v":0},0,0,{"$f":"IF(FX1762>0,MAX($FP$1750:FP1761)+1,\"\")","v":""},"11 - Примања од иностраних задуживања",null,null,0,0,0,0,0]
[null,null,"12 - Примања од отплате датих кредита и продаје финансијске имовине",{"$nulls":4},0,0,0,0,null,"12 - Примања од отплате датих кредита и продаје финансијске имовине",{"$nulls":4},0,0,0,0,null,"12 - Примања од отплате датих кредита и продаје финансијске имовине",{"$nulls":4},0,0,0,0,null,"12 - Примања од отплате датих кредита и продаје финансијске имовине",{"$nulls":4},0,0,0,0,null,"12 - Примања од отплате датих кредита и продаје финансијске имовине",{"$nulls":4},0,0,0,0,null,"12 - Примања од отплате датих кредита и продаје финансијске имовине",{"$nulls":4},0,0,0,0,null,"12 - Примања од отплате датих кредита и продаје финансијске имовине",{"$nulls":4},0,0,0,0,null,"12 - Примања од отплате датих кредита и продаје финансијске имовине",{"$nulls":4},0,0,0,0,null,"12 - Примања од отплате датих кредита и продаје финансијске имовине",{"$nulls":4},0,0,0,0,null,"12 - Примања од отплате датих кредита и продаје финансијске имовине",{"$nulls":4},0,0,0,0,null,"12 - Примања од отплате датих кредита и продаје финансијске имовине",{"$nulls":4},0,0,0,0,null,"12 - Примања од отплате датих кредита и продаје финансијске имовине",{"$nulls":4},0,0,0,0,null,"12 - Примања од отплате датих кредита и продаје финансијске имовине",{"$nulls":4},0,0,0,0,null,"12 - Примања од отплате датих кредита и продаје финансијске имовине",{"$nulls":4},0,0,0,0,null,"12 - Примања од отплате датих кредита и продаје финансијске имовине",{"$nulls":4},0,0,0,0,null,"12 - Примања од отплате датих кредита и продаје финансијске имовине",{"$nulls":4},0,0,0,0,null,"12 - Примања од отплате датих кредита и продаје финансијске имовине",{"$nulls":4},0,0,0,0,{"$f":"IF(FX1763>0,MAX($FP$1750:FP1762)+1,\"\")","v":""},"12 - Примања од отплате датих кредита и продаје финансијске имовине",null,null,0,0,0,0,0]
[null,null,"13 - Нераспоређени вишак прихода из ранијих година",{"$nulls":4},0,0,0,0,null,"13 - Нераспоређени вишак прихода из ранијих година",{"$nulls":4},0,0,0,0,null,"13 - Нераспоређени вишак прихода из ранијих година",{"$nulls":4},0,0,0,0,null,"13 - Нераспоређени вишак прихода из ранијих година",{"$nulls":4},0,0,0,0,null,"13 - Нераспоређени вишак прихода из ранијих година",{"$nulls":4},0,0,0,0,null,"13 - Нераспоређени вишак прихода из ранијих година",{"$nulls":4},0,0,0,0,null,"13 - Нераспоређени вишак прихода из ранијих година",{"$nulls":4},0,0,0,0,null,"13 - Нераспоређени вишак прихода из ранијих година",{"$nulls":4},0,0,0,0,null,"13 - Нераспоређени вишак прихода из ранијих година",{"$nulls":4},0,0,0,0,null,"13 - Нераспоређени вишак прихода из ранијих година",{"$nulls":4},0,0,0,0,null,"13 - Нераспоређени вишак прихода из ранијих година",{"$nulls":4},0,0,0,0,null,"13 - Нераспоређени вишак прихода из ранијих година",{"$nulls":4},0,0,0,0,null,"13 - Нераспоређени вишак прихода из ранијих година",{"$nulls":4},0,0,0,0,null,"13 - Нераспоређени вишак прихода из ранијих година",{"$nulls":4},0,0,0,0,null,"13 - Нераспоређени вишак прихода из ранијих година",{"$nulls":4},0,0,0,0,null,"13 - Нераспоређени вишак прихода из ранијих година",{"$nulls":4},0,0,0,0,null,"13 - Нераспоређени вишак прихода из ранијих година",{"$nulls":4},0,0,0,0,{"$f":"IF(FX1764>0,MAX($FP$1750:FP1763)+1,\"\")","v":""},"13 - Нераспоређени вишак прихода из ранијих година",null,null,0,0,0,0,0]
[null,null,"14 - Неутрошена средства од приватизације из ранијих година",{"$nulls":4},0,0,0,0,null,"14 - Неутрошена средства од приватизације из ранијих година",{"$nulls":4},0,0,0,0,null,"14 - Неутрошена средства од приватизације из ранијих година",{"$nulls":4},0,0,0,0,null,"14 - Неутрошена средства од приватизације из ранијих година",{"$nulls":4},0,0,0,0,null,"14 - Неутрошена средства од приватизације из ранијих година",{"$nulls":4},0,0,0,0,null,"14 - Неутрошена средства од приватизације из ранијих година",{"$nulls":4},0,0,0,0,null,"14 - Неутрошена средства од приватизације из ранијих година",{"$nulls":4},0,0,0,0,null,"14 - Неутрошена средства од приватизације из ранијих година",{"$nulls":4},0,0,0,0,null,"14 - Неутрошена средства од приватизације из ранијих година",{"$nulls":4},0,0,0,0,null,"14 - Неутрошена средства од приватизације из ранијих година",{"$nulls":4},0,0,0,0,null,"14 - Неутрошена средства од приватизације из ранијих година",{"$nulls":4},0,0,0,0,null,"14 - Неутрошена средства од приватизације из ранијих година",{"$nulls":4},0,0,0,0,null,"14 - Неутрошена средства од приватизације из ранијих година",{"$nulls":4},0,0,0,0,null,"14 - Неутрошена средства од приватизације из ранијих година",{"$nulls":4},0,0,0,0,null,"14 - Неутрошена средства од приватизације из ранијих година",{"$nulls":4},0,0,0,0,null,"14 - Неутрошена средства од приватизације из ранијих година",{"$nulls":4},0,0,0,0,null,"14 - Неутрошена средства од приватизације из ранијих година",{"$nulls":4},0,0,0,0,{"$f":"IF(FX1765>0,MAX($FP$1750:FP1764)+1,\"\")","v":""},"14 - Неутрошена средства од приватизације из ранијих година",null,null,0,0,0,0,0]
[null,null,"15 - Неутрошена средства донација из ранијих година",{"$nulls":4},0,0,0,0,null,"15 - Неутрошена средства донација из ранијих година",{"$nulls":4},0,0,0,0,null,"15 - Неутрошена средства донација из ранијих година",{"$nulls":4},0,0,0,0,null,"15 - Неутрошена средства донација из ранијих година",{"$nulls":4},0,0,0,0,null,"15 - Неутрошена средства донација из ранијих година",{"$nulls":4},0,0,0,0,null,"15 - Неутрошена средства донација из ранијих година",{"$nulls":4},0,0,0,0,null,"15 - Неутрошена средства донација из ранијих година",{"$nulls":4},0,0,0,0,null,"15 - Неутрошена средства донација из ранијих година",{"$nulls":4},0,0,0,0,null,"15 - Неутрошена средства донација из ранијих година",{"$nulls":4},0,0,0,0,null,"15 - Неутрошена средства донација из ранијих година",{"$nulls":4},0,0,0,0,null,"15 - Неутрошена средства донација из ранијих година",{"$nulls":4},0,0,0,0,null,"15 - Неутрошена средства донација из ранијих година",{"$nulls":4},0,0,0,0,null,"15 - Неутрошена средства донација из ранијих година",{"$nulls":4},0,0,0,0,null,"15 - Неутрошена средства донација из ранијих година",{"$nulls":4},0,0,0,0,null,"15 - Неутрошена средства донација из ранијих година",{"$nulls":4},0,0,0,0,null,"15 - Неутрошена средства донација из ранијих година",{"$nulls":4},0,0,0,0,null,"15 - Неутрошена средства донација из ранијих година",{"$nulls":4},0,0,0,0,{"$f":"IF(FX1766>0,MAX($FP$1750:FP1765)+1,\"\")","v":""},"15 - Неутрошена средства донација из ранијих година",null,null,0,0,0,0,0]
[null,null,"16 - Родитељски динар за ваннаставне активности",{"$nulls":4},0,0,0,0,null,"16 - Родитељски динар за ваннаставне активности",{"$nulls":4},0,0,0,0,null,"16 - Родитељски динар за ваннаставне активности",{"$nulls":4},0,0,0,0,null,"16 - Родитељски динар за ваннаставне активности",{"$nulls":4},0,0,0,0,null,"16 - Родитељски динар за ваннаставне активности",{"$nulls":4},0,0,0,0,null,"16 - Родитељски динар за ваннаставне активности",{"$nulls":4},0,0,0,0,null,"16 - Родитељски динар за ваннаставне активности",{"$nulls":4},0,0,0,0,null,"16 - Родитељски динар за ваннаставне активности",{"$nulls":4},0,0,0,0,null,"16 - Родитељски динар за ваннаставне активности",{"$nulls":4},0,0,0,0,null,"16 - Родитељски динар за ваннаставне активности",{"$nulls":4},0,0,0,0,null,"16 - Родитељски динар за ваннаставне активности",{"$nulls":4},0,0,0,0,null,"16 - Родитељски динар за ваннаставне активности",{"$nulls":4},0,0,0,0,null,"16 - Родитељски динар за ваннаставне активности",{"$nulls":4},0,0,0,0,null,"16 - Родитељски динар за ваннаставне активности",{"$nulls":4},0,0,0,0,null,"16 - Родитељски динар за ваннаставне активности",{"$nulls":4},0,0,0,0,null,"16 - Родитељски динар за ваннаставне активности",{"$nulls":4},0,0,0,0,null,"16 - Родитељски динар за ваннаставне активности",{"$nulls":4},0,0,0,0,{"$f":"IF(FX1767>0,MAX($FP$1750:FP1766)+1,\"\")","v":""},"16 - Родитељски динар за ваннаставне активности",null,null,0,0,0,0,0]
[null,null,"56 - Финансијска помоћ ЕУ",{"$nulls":4},0,0,0,0,null,"56 - Финансијска помоћ ЕУ",{"$nulls":4},0,0,0,0,null,"56 - Финансијска помоћ ЕУ",{"$nulls":4},0,0,0,0,null,"56 - Финансијска помоћ ЕУ",{"$nulls":4},0,0,0,0,null,"56 - Финансијска помоћ ЕУ",{"$nulls":4},0,0,0,0,null,"56 - Финансијска помоћ ЕУ",{"$nulls":4},0,0,0,0,null,"56 - Финансијска помоћ ЕУ",{"$nulls":4},0,0,0,0,null,"56 - Финансијска помоћ ЕУ",{"$nulls":4},0,0,0,0,null,"56 - Финансијска помоћ ЕУ",{"$nulls":4},0,0,0,0,null,"56 - Финансијска помоћ ЕУ",{"$nulls":4},0,0,0,0,null,"56 - Финансијска помоћ ЕУ",{"$nulls":4},0,0,0,0,null,"56 - Финансијска помоћ ЕУ",{"$nulls":4},0,0,0,0,null,"56 - Финансијска помоћ ЕУ",{"$nulls":4},0,0,0,0,null,"56 - Финансијска помоћ ЕУ",{"$nulls":4},0,0,0,0,null,"56 - Финансијска помоћ ЕУ",{"$nulls":4},0,0,0,0,null,"56 - Финансијска помоћ ЕУ",{"$nulls":4},0,0,0,0,null,"56 - Финансијска помоћ ЕУ",{"$nulls":4},0,0,0,0,{"$f":"IF(FX1768>0,MAX($FP$1750:FP1767)+1,\"\")","v":""},"56 - Финансијска помоћ ЕУ",null,null,0,{"$f":"FM1768+FC1768+ES1768+EI1768+DY1768+DO1768+DE1768+CU1768+CK1768+CA1768+BQ1768+BG1768+AW1768+AM1768+AC1768+S1768+I1768","v":0},{"$f":"FN1768+FD1768+ET1768+EJ1768+DZ1768+DP1768+DF1768+CV1768+CL1768+CB1768+BR1768+BH1768+AX1768+AN1768+AD1768+T1768+J1768","v":0},{"$f":"FO1768+FE1768+EU1768+EK1768+EA1768+DQ1768+DG1768+CW1768+CM1768+CC1768+BS1768+BI1768+AY1768+AO1768+AE1768+U1768+K1768","v":0},0]
[]
[]
[null,null,"prvi red",{"$nulls":9},"drugi red",{"$nulls":9},"3. red",{"$nulls":9},"4. red",{"$nulls":9},"5. red",{"$nulls":9},"6 red",{"$nulls":9},"7. red",{"$nulls":9},"8. red",{"$nulls":9},"9. red",{"$nulls":9},"10 red",{"$nulls":9},"11 red",{"$nulls":9},"12. red",{"$nulls":9},"13. red",{"$nulls":9},"14. red",{"$nulls":9},"15 red",{"$nulls":9},"16. red",{"$nulls":9},"17. red"]
[null,null,"Izvori finansiranja","rashodi 2015",null,"rashodi 2016",null,"rashodi 2017",null,"rashodi 2018",null,null,"Izvori finansiranja","rashodi 2015",null,"rashodi 2016",null,"rashodi 2017",null,"rashodi 2018",null,null,"Izvori finansiranja","rashodi 2015",null,"rashodi 2016",null,"rashodi 2017",null,"rashodi 2018",null,null,"Izvori finansiranja","rashodi 2015",null,"rashodi 2016",null,"rashodi 2017",null,"rashodi 2018",null,null,"Izvori finansiranja","rashodi 2015",null,"rashodi 2016",null,"rashodi 2017",null,"rashodi 2018",null,null,"Izvori finansiranja","rashodi 2015",null,"rashodi 2016",null,"rashodi 2017",null,"rashodi 2018",null,null,"Izvori finansiranja","rashodi 2015",null,"rashodi 2016",null,"rashodi 2017",null,"rashodi 2018",null,null,"Izvori finansiranja","rashodi 2015",null,"rashodi 2016",null,"rashodi 2017",null,"rashodi 2018",null,null,"Izvori finansiranja","rashodi 2015",null,"rashodi 2016",null,"rashodi 2017",null,"rashodi 2018",null,null,"Izvori finansiranja","rashodi 2015",null,"rashodi 2016",null,"rashodi 2017",null,"rashodi 2018",null,null,"Izvori finansiranja","rashodi 2015",null,"rashodi 2016",null,"rashodi 2017",null,"rashodi 2018",null,null,"Izvori finansiranja","rashodi 2015",null,"rashodi 2016",null,"rashodi 2017",null,"rashodi 2018",null,null,"Izvori finansiranja","rashodi 2015",null,"rashodi 2016",null,"rashodi 2017",null,"rashodi 2018",null,null,"Izvori finansiranja","rashodi 2015",null,"rashodi 2016",null,"rashodi 2017",null,"rashodi 2018",null,null,"Izvori finansiranja","rashodi 2015",null,"rashodi 2016",null,"rashodi 2017",null,"rashodi 2018",null,null,"Izvori finansiranja","rashodi 2015",null,"rashodi 2016",null,"rashodi 2017",null,"rashodi 2018",null,null,"Izvori finansiranja","rashodi 2015",null,"rashodi 2016",null,"rashodi 2017",null,"rashodi 2018"]
[1,{"$f":"IF(ISERROR(INDEX(WS,ROWS($A$1773:$A1773))),\"\",MID(INDEX(WS,ROWS($A$1773:$A1773)), FIND(\"]\",INDEX(WS,ROWS($A$1773:$A1773)))+1,32))&T(NOW())","v":"Програм"},{"$f":"IF($B1773<>\"\",INDIRECT(\"'\"&$B1773&\"'\"&\"!y3\"),\"\")","v":0},{"$f":"IF($B1773<>\"\",INDIRECT(\"'\"&$B1773&\"'\"&\"!z3\"),\"\")","v":0},null,{"$f":"IF($B1773<>\"\",INDIRECT(\"'\"&$B1773&\"'\"&\"!ab3\"),\"\")","v":0},null,{"$f":"IF($B1773<>\"\",INDIRECT(\"'\"&$B1773&\"'\"&\"!ad3\"),\"\")","v":0},null,{"$f":"IF($B1773<>\"\",INDIRECT(\"'\"&$B1773&\"'\"&\"!af3\"),\"\")","v":0},null,null,{"$f":"IF($B1773<>\"\",INDIRECT(\"'\"&$B1773&\"'\"&\"!y4\"),\"\")","v":0},{"$f":"IF($B1773<>\"\",INDIRECT(\"'\"&$B1773&\"'\"&\"!z4\"),\"\")","v":0},null,{"$f":"IF($B1773<>\"\",INDIRECT(\"'\"&$B1773&\"'\"&\"!ab4\"),\"\")","v":0},null,{"$f":"IF($B1773<>\"\",INDIRECT(\"'\"&$B1773&\"'\"&\"!ad4\"),\"\")","v":0},null,{"$f":"IF($B1773<>\"\",INDIRECT(\"'\"&$B1773&\"'\"&\"!af4\"),\"\")","v":0},null,null,{"$f":"IF($B1773<>\"\",INDIRECT(\"'\"&$B1773&\"'\"&\"!y5\"),\"\")","v":0},{"$f":"IF($B1773<>\"\",INDIRECT(\"'\"&$B1773&\"'\"&\"!z5\"),\"\")","v":0},null,{"$f":"IF($B1773<>\"\",INDIRECT(\"'\"&$B1773&\"'\"&\"!ab5\"),\"\")","v":0},null,{"$f":"IF($B1773<>\"\",INDIRECT(\"'\"&$B1773&\"'\"&\"!ad5\"),\"\")","v":0},null,{"$f":"IF($B1773<>\"\",INDIRECT(\"'\"&$B1773&\"'\"&\"!af5\"),\"\")","v":0},null,null,{"$f":"IF($B1773<>\"\",INDIRECT(\"'\"&$B1773&\"'\"&\"!y6\"),\"\")","v":0},{"$f":"IF($B1773<>\"\",INDIRECT(\"'\"&$B1773&\"'\"&\"!z6\"),\"\")","v":0},null,{"$f":"IF($B1773<>\"\",INDIRECT(\"'\"&$B1773&\"'\"&\"!ab6\"),\"\")","v":0},null,{"$f":"IF($B1773<>\"\",INDIRECT(\"'\"&$B1773&\"'\"&\"!ad6\"),\"\")","v":0},null,{"$f":"IF($B1773<>\"\",INDIRECT(\"'\"&$B1773&\"'\"&\"!af6\"),\"\")","v":0},null,null,{"$f":"IF($B1773<>\"\",INDIRECT(\"'\"&$B1773&\"'\"&\"!y7\"),\"\")","v":0},{"$f":"IF($B1773<>\"\",INDIRECT(\"'\"&$B1773&\"'\"&\"!z7\"),\"\")","v":0},null,{"$f":"IF($B1773<>\"\",INDIRECT(\"'\"&$B1773&\"'\"&\"!ab7\"),\"\")","v":0},null,{"$f":"IF($B1773<>\"\",INDIRECT(\"'\"&$B1773&\"'\"&\"!ad7\"),\"\")","v":0},null,{"$f":"IF($B1773<>\"\",INDIRECT(\"'\"&$B1773&\"'\"&\"!af7\"),\"\")","v":0},null,null,{"$f":"IF($B1773<>\"\",INDIRECT(\"'\"&$B1773&\"'\"&\"!y8\"),\"\")","v":0},{"$f":"IF($B1773<>\"\",INDIRECT(\"'\"&$B1773&\"'\"&\"!z8\"),\"\")","v":0},null,{"$f":"IF($B1773<>\"\",INDIRECT(\"'\"&$B1773&\"'\"&\"!ab8\"),\"\")","v":0},null,{"$f":"IF($B1773<>\"\",INDIRECT(\"'\"&$B1773&\"'\"&\"!ad8\"),\"\")","v":0},null,{"$f":"IF($B1773<>\"\",INDIRECT(\"'\"&$B1773&\"'\"&\"!af8\"),\"\")","v":0},null,null,{"$f":"IF($B1773<>\"\",INDIRECT(\"'\"&$B1773&\"'\"&\"!y9\"),\"\")","v":0},{"$f":"IF($B1773<>\"\",INDIRECT(\"'\"&$B1773&\"'\"&\"!z9\"),\"\")","v":0},null,{"$f":"IF($B1773<>\"\",INDIRECT(\"'\"&$B1773&\"'\"&\"!ab9\"),\"\")","v":0},null,{"$f":"IF($B1773<>\"\",INDIRECT(\"'\"&$B1773&\"'\"&\"!ad9\"),\"\")","v":0},null,{"$f":"IF($B1773<>\"\",INDIRECT(\"'\"&$B1773&\"'\"&\"!af9\"),\"\")","v":0},null,null,{"$f":"IF($B1773<>\"\",INDIRECT(\"'\"&$B1773&\"'\"&\"!y10\"),\"\")","v":0},{"$f":"IF($B1773<>\"\",INDIRECT(\"'\"&$B1773&\"'\"&\"!z10\"),\"\")","v":0},null,{"$f":"IF($B1773<>\"\",INDIRECT(\"'\"&$B1773&\"'\"&\"!ab10\"),\"\")","v":0},null,{"$f":"IF($B1773<>\"\",INDIRECT(\"'\"&$B1773&\"'\"&\"!ad10\"),\"\")","v":0},null,{"$f":"IF($B1773<>\"\",INDIRECT(\"'\"&$B1773&\"'\"&\"!af10\"),\"\")","v":0},null,null,{"$f":"IF($B1773<>\"\",INDIRECT(\"'\"&$B1773&\"'\"&\"!y11\"),\"\")","v":0},{"$f":"IF($B1773<>\"\",INDIRECT(\"'\"&$B1773&\"'\"&\"!z11\"),\"\")","v":0},null,{"$f":"IF($B1773<>\"\",INDIRECT(\"'\"&$B1773&\"'\"&\"!ab11\"),\"\")","v":0},null,{"$f":"IF($B1773<>\"\",INDIRECT(\"'\"&$B1773&\"'\"&\"!ad11\"),\"\")","v":0},null,{"$f":"IF($B1773<>\"\",INDIRECT(\"'\"&$B1773&\"'\"&\"!af11\"),\"\")","v":0},null,null,{"$f":"IF($B1773<>\"\",INDIRECT(\"'\"&$B1773&\"'\"&\"!y12\"),\"\")","v":0},{"$f":"IF($B1773<>\"\",INDIRECT(\"'\"&$B1773&\"'\"&\"!z12\"),\"\")","v":0},null,{"$f":"IF($B1773<>\"\",INDIRECT(\"'\"&$B1773&\"'\"&\"!ab12\"),\"\")","v":0},null,{"$f":"IF($B1773<>\"\",INDIRECT(\"'\"&$B1773&\"'\"&\"!ad12\"),\"\")","v":0},null,{"$f":"IF($B1773<>\"\",INDIRECT(\"'\"&$B1773&\"'\"&\"!af12\"),\"\")","v":0},null,null,{"$f":"IF($B1773<>\"\",INDIRECT(\"'\"&$B1773&\"'\"&\"!y13\"),\"\")","v":0},{"$f":"IF($B1773<>\"\",INDIRECT(\"'\"&$B1773&\"'\"&\"!z13\"),\"\")","v":0},null,{"$f":"IF($B1773<>\"\",INDIRECT(\"'\"&$B1773&\"'\"&\"!ab13\"),\"\")","v":0},null,{"$f":"IF($B1773<>\"\",INDIRECT(\"'\"&$B1773&\"'\"&\"!ad13\"),\"\")","v":0},null,{"$f":"IF($B1773<>\"\",INDIRECT(\"'\"&$B1773&\"'\"&\"!af13\"),\"\")","v":0},null,null,{"$f":"IF($B1773<>\"\",INDIRECT(\"'\"&$B1773&\"'\"&\"!y14\"),\"\")","v":0},{"$f":"IF($B1773<>\"\",INDIRECT(\"'\"&$B1773&\"'\"&\"!z14\"),\"\")","v":0},null,{"$f":"IF($B1773<>\"\",INDIRECT(\"'\"&$B1773&\"'\"&\"!ab14\"),\"\")","v":0},null,{"$f":"IF($B1773<>\"\",INDIRECT(\"'\"&$B1773&\"'\"&\"!ad14\"),\"\")","v":0},null,{"$f":"IF($B1773<>\"\",INDIRECT(\"'\"&$B1773&\"'\"&\"!af14\"),\"\")","v":0},null,null,{"$f":"IF($B1773<>\"\",INDIRECT(\"'\"&$B1773&\"'\"&\"!y15\"),\"\")","v":0},{"$f":"IF($B1773<>\"\",INDIRECT(\"'\"&$B1773&\"'\"&\"!z15\"),\"\")","v":0},null,{"$f":"IF($B1773<>\"\",INDIRECT(\"'\"&$B1773&\"'\"&\"!ab15\"),\"\")","v":0},null,{"$f":"IF($B1773<>\"\",INDIRECT(\"'\"&$B1773&\"'\"&\"!ad15\"),\"\")","v":0},null,{"$f":"IF($B1773<>\"\",INDIRECT(\"'\"&$B1773&\"'\"&\"!af15\"),\"\")","v":0},null,null,{"$f":"IF($B1773<>\"\",INDIRECT(\"'\"&$B1773&\"'\"&\"!y16\"),\"\")","v":0},{"$f":"IF($B1773<>\"\",INDIRECT(\"'\"&$B1773&\"'\"&\"!z16\"),\"\")","v":0},null,{"$f":"IF($B1773<>\"\",INDIRECT(\"'\"&$B1773&\"'\"&\"!ab16\"),\"\")","v":0},null,{"$f":"IF($B1773<>\"\",INDIRECT(\"'\"&$B1773&\"'\"&\"!ad16\"),\"\")","v":0},null,{"$f":"IF($B1773<>\"\",INDIRECT(\"'\"&$B1773&\"'\"&\"!af16\"),\"\")","v":0},null,null,{"$f":"IF($B1773<>\"\",INDIRECT(\"'\"&$B1773&\"'\"&\"!y17\"),\"\")","v":0},{"$f":"IF($B1773<>\"\",INDIRECT(\"'\"&$B1773&\"'\"&\"!z17\"),\"\")","v":0},null,{"$f":"IF($B1773<>\"\",INDIRECT(\"'\"&$B1773&\"'\"&\"!ab17\"),\"\")","v":0},null,{"$f":"IF($B1773<>\"\",INDIRECT(\"'\"&$B1773&\"'\"&\"!ad17\"),\"\")","v":0},null,{"$f":"IF($B1773<>\"\",INDIRECT(\"'\"&$B1773&\"'\"&\"!af17\"),\"\")","v":0},null,null,{"$f":"IF($B1773<>\"\",INDIRECT(\"'\"&$B1773&\"'\"&\"!y18\"),\"\")","v":0},{"$f":"IF($B1773<>\"\",INDIRECT(\"'\"&$B1773&\"'\"&\"!z18\"),\"\")","v":0},null,{"$f":"IF($B1773<>\"\",INDIRECT(\"'\"&$B1773&\"'\"&\"!ab18\"),\"\")","v":0},null,{"$f":"IF($B1773<>\"\",INDIRECT(\"'\"&$B1773&\"'\"&\"!ad18\"),\"\")","v":0},null,{"$f":"IF($B1773<>\"\",INDIRECT(\"'\"&$B1773&\"'\"&\"!af18\"),\"\")","v":0},null,null,{"$f":"IF($B1773<>\"\",INDIRECT(\"'\"&$B1773&\"'\"&\"!y19\"),\"\")","v":0},{"$f":"IF($B1773<>\"\",INDIRECT(\"'\"&$B1773&\"'\"&\"!z19\"),\"\")","v":0},null,{"$f":"IF($B1773<>\"\",INDIRECT(\"'\"&$B1773&\"'\"&\"!ab19\"),\"\")","v":0},null,{"$f":"IF($B1773<>\"\",INDIRECT(\"'\"&$B1773&\"'\"&\"!ad19\"),\"\")","v":0},null,{"$f":"IF($B1773<>\"\",INDIRECT(\"'\"&$B1773&\"'\"&\"!af19\"),\"\")","v":0}]
[2,{"$f":"IF(ISERROR(INDEX(WS,ROWS($A$1773:$A1774))),\"\",MID(INDEX(WS,ROWS($A$1773:$A1774)), FIND(\"]\",INDEX(WS,ROWS($A$1773:$A1774)))+1,32))&T(NOW())","v":"Програмска активност"},0,{"$f":"IF($B1774<>\"\",INDIRECT(\"'\"&$B1774&\"'\"&\"!z3\"),\"\")","v":0},null,{"$f":"IF($B1774<>\"\",INDIRECT(\"'\"&$B1774&\"'\"&\"!ab3\"),\"\")","v":0},null,{"$f":"IF($B1774<>\"\",INDIRECT(\"'\"&$B1774&\"'\"&\"!ad3\"),\"\")","v":0},null,{"$f":"IF($B1774<>\"\",INDIRECT(\"'\"&$B1774&\"'\"&\"!af3\"),\"\")","v":0},null,null,{"$f":"IF($B1774<>\"\",INDIRECT(\"'\"&$B1774&\"'\"&\"!y4\"),\"\")","v":0},{"$f":"IF($B1774<>\"\",INDIRECT(\"'\"&$B1774&\"'\"&\"!z4\"),\"\")","v":0},null,{"$f":"IF($B1774<>\"\",INDIRECT(\"'\"&$B1774&\"'\"&\"!ab4\"),\"\")","v":0},null,{"$f":"IF($B1774<>\"\",INDIRECT(\"'\"&$B1774&\"'\"&\"!ad4\"),\"\")","v":0},null,{"$f":"IF($B1774<>\"\",INDIRECT(\"'\"&$B1774&\"'\"&\"!af4\"),\"\")","v":0},null,null,{"$f":"IF($B1774<>\"\",INDIRECT(\"'\"&$B1774&\"'\"&\"!y5\"),\"\")","v":0},{"$f":"IF($B1774<>\"\",INDIRECT(\"'\"&$B1774&\"'\"&\"!z5\"),\"\")","v":0},null,{"$f":"IF($B1774<>\"\",INDIRECT(\"'\"&$B1774&\"'\"&\"!ab5\"),\"\")","v":0},null,{"$f":"IF($B1774<>\"\",INDIRECT(\"'\"&$B1774&\"'\"&\"!ad5\"),\"\")","v":0},null,{"$f":"IF($B1774<>\"\",INDIRECT(\"'\"&$B1774&\"'\"&\"!af5\"),\"\")","v":0},null,null,{"$f":"IF($B1774<>\"\",INDIRECT(\"'\"&$B1774&\"'\"&\"!y6\"),\"\")","v":0},{"$f":"IF($B1774<>\"\",INDIRECT(\"'\"&$B1774&\"'\"&\"!z6\"),\"\")","v":0},null,{"$f":"IF($B1774<>\"\",INDIRECT(\"'\"&$B1774&\"'\"&\"!ab6\"),\"\")","v":0},null,{"$f":"IF($B1774<>\"\",INDIRECT(\"'\"&$B1774&\"'\"&\"!ad6\"),\"\")","v":0},null,{"$f":"IF($B1774<>\"\",INDIRECT(\"'\"&$B1774&\"'\"&\"!af6\"),\"\")","v":0},null,null,{"$f":"IF($B1774<>\"\",INDIRECT(\"'\"&$B1774&\"'\"&\"!y7\"),\"\")","v":0},{"$f":"IF($B1774<>\"\",INDIRECT(\"'\"&$B1774&\"'\"&\"!z7\"),\"\")","v":0},null,{"$f":"IF($B1774<>\"\",INDIRECT(\"'\"&$B1774&\"'\"&\"!ab7\"),\"\")","v":0},null,{"$f":"IF($B1774<>\"\",INDIRECT(\"'\"&$B1774&\"'\"&\"!ad7\"),\"\")","v":0},null,{"$f":"IF($B1774<>\"\",INDIRECT(\"'\"&$B1774&\"'\"&\"!af7\"),\"\")","v":0},null,null,{"$f":"IF($B1774<>\"\",INDIRECT(\"'\"&$B1774&\"'\"&\"!y8\"),\"\")","v":0},{"$f":"IF($B1774<>\"\",INDIRECT(\"'\"&$B1774&\"'\"&\"!z8\"),\"\")","v":0},null,{"$f":"IF($B1774<>\"\",INDIRECT(\"'\"&$B1774&\"'\"&\"!ab8\"),\"\")","v":0},null,{"$f":"IF($B1774<>\"\",INDIRECT(\"'\"&$B1774&\"'\"&\"!ad8\"),\"\")","v":0},null,{"$f":"IF($B1774<>\"\",INDIRECT(\"'\"&$B1774&\"'\"&\"!af8\"),\"\")","v":0},null,null,{"$f":"IF($B1774<>\"\",INDIRECT(\"'\"&$B1774&\"'\"&\"!y9\"),\"\")","v":0},{"$f":"IF($B1774<>\"\",INDIRECT(\"'\"&$B1774&\"'\"&\"!z9\"),\"\")","v":0},null,{"$f":"IF($B1774<>\"\",INDIRECT(\"'\"&$B1774&\"'\"&\"!ab9\"),\"\")","v":0},null,{"$f":"IF($B1774<>\"\",INDIRECT(\"'\"&$B1774&\"'\"&\"!ad9\"),\"\")","v":0},null,{"$f":"IF($B1774<>\"\",INDIRECT(\"'\"&$B1774&\"'\"&\"!af9\"),\"\")","v":0},null,null,{"$f":"IF($B1774<>\"\",INDIRECT(\"'\"&$B1774&\"'\"&\"!y10\"),\"\")","v":0},{"$f":"IF($B1774<>\"\",INDIRECT(\"'\"&$B1774&\"'\"&\"!z10\"),\"\")","v":0},null,{"$f":"IF($B1774<>\"\",INDIRECT(\"'\"&$B1774&\"'\"&\"!ab10\"),\"\")","v":0},null,{"$f":"IF($B1774<>\"\",INDIRECT(\"'\"&$B1774&\"'\"&\"!ad10\"),\"\")","v":0},null,{"$f":"IF($B1774<>\"\",INDIRECT(\"'\"&$B1774&\"'\"&\"!af10\"),\"\")","v":0},null,null,{"$f":"IF($B1774<>\"\",INDIRECT(\"'\"&$B1774&\"'\"&\"!y11\"),\"\")","v":0},{"$f":"IF($B1774<>\"\",INDIRECT(\"'\"&$B1774&\"'\"&\"!z11\"),\"\")","v":0},null,{"$f":"IF($B1774<>\"\",INDIRECT(\"'\"&$B1774&\"'\"&\"!ab11\"),\"\")","v":0},null,{"$f":"IF($B1774<>\"\",INDIRECT(\"'\"&$B1774&\"'\"&\"!ad11\"),\"\")","v":0},null,{"$f":"IF($B1774<>\"\",INDIRECT(\"'\"&$B1774&\"'\"&\"!af11\"),\"\")","v":0},null,null,{"$f":"IF($B1774<>\"\",INDIRECT(\"'\"&$B1774&\"'\"&\"!y12\"),\"\")","v":0},{"$f":"IF($B1774<>\"\",INDIRECT(\"'\"&$B1774&\"'\"&\"!z12\"),\"\")","v":0},null,{"$f":"IF($B1774<>\"\",INDIRECT(\"'\"&$B1774&\"'\"&\"!ab12\"),\"\")","v":0},null,{"$f":"IF($B1774<>\"\",INDIRECT(\"'\"&$B1774&\"'\"&\"!ad12\"),\"\")","v":0},null,{"$f":"IF($B1774<>\"\",INDIRECT(\"'\"&$B1774&\"'\"&\"!af12\"),\"\")","v":0},null,null,{"$f":"IF($B1774<>\"\",INDIRECT(\"'\"&$B1774&\"'\"&\"!y13\"),\"\")","v":0},{"$f":"IF($B1774<>\"\",INDIRECT(\"'\"&$B1774&\"'\"&\"!z13\"),\"\")","v":0},null,{"$f":"IF($B1774<>\"\",INDIRECT(\"'\"&$B1774&\"'\"&\"!ab13\"),\"\")","v":0},null,{"$f":"IF($B1774<>\"\",INDIRECT(\"'\"&$B1774&\"'\"&\"!ad13\"),\"\")","v":0},null,{"$f":"IF($B1774<>\"\",INDIRECT(\"'\"&$B1774&\"'\"&\"!af13\"),\"\")","v":0},null,null,{"$f":"IF($B1774<>\"\",INDIRECT(\"'\"&$B1774&\"'\"&\"!y14\"),\"\")","v":0},{"$f":"IF($B1774<>\"\",INDIRECT(\"'\"&$B1774&\"'\"&\"!z14\"),\"\")","v":0},null,{"$f":"IF($B1774<>\"\",INDIRECT(\"'\"&$B1774&\"'\"&\"!ab14\"),\"\")","v":0},null,{"$f":"IF($B1774<>\"\",INDIRECT(\"'\"&$B1774&\"'\"&\"!ad14\"),\"\")","v":0},null,{"$f":"IF($B1774<>\"\",INDIRECT(\"'\"&$B1774&\"'\"&\"!af14\"),\"\")","v":0},null,null,{"$f":"IF($B1774<>\"\",INDIRECT(\"'\"&$B1774&\"'\"&\"!y15\"),\"\")","v":0},{"$f":"IF($B1774<>\"\",INDIRECT(\"'\"&$B1774&\"'\"&\"!z15\"),\"\")","v":0},null,{"$f":"IF($B1774<>\"\",INDIRECT(\"'\"&$B1774&\"'\"&\"!ab15\"),\"\")","v":0},null,{"$f":"IF($B1774<>\"\",INDIRECT(\"'\"&$B1774&\"'\"&\"!ad15\"),\"\")","v":0},null,{"$f":"IF($B1774<>\"\",INDIRECT(\"'\"&$B1774&\"'\"&\"!af15\"),\"\")","v":0},null,null,{"$f":"IF($B1774<>\"\",INDIRECT(\"'\"&$B1774&\"'\"&\"!y16\"),\"\")","v":0},{"$f":"IF($B1774<>\"\",INDIRECT(\"'\"&$B1774&\"'\"&\"!z16\"),\"\")","v":0},null,{"$f":"IF($B1774<>\"\",INDIRECT(\"'\"&$B1774&\"'\"&\"!ab16\"),\"\")","v":0},null,{"$f":"IF($B1774<>\"\",INDIRECT(\"'\"&$B1774&\"'\"&\"!ad16\"),\"\")","v":0},null,{"$f":"IF($B1774<>\"\",INDIRECT(\"'\"&$B1774&\"'\"&\"!af16\"),\"\")","v":0},null,null,{"$f":"IF($B1774<>\"\",INDIRECT(\"'\"&$B1774&\"'\"&\"!y17\"),\"\")","v":0},{"$f":"IF($B1774<>\"\",INDIRECT(\"'\"&$B1774&\"'\"&\"!z17\"),\"\")","v":0},null,{"$f":"IF($B1774<>\"\",INDIRECT(\"'\"&$B1774&\"'\"&\"!ab17\"),\"\")","v":0},null,{"$f":"IF($B1774<>\"\",INDIRECT(\"'\"&$B1774&\"'\"&\"!ad17\"),\"\")","v":0},null,{"$f":"IF($B1774<>\"\",INDIRECT(\"'\"&$B1774&\"'\"&\"!af17\"),\"\")","v":0},null,null,{"$f":"IF($B1774<>\"\",INDIRECT(\"'\"&$B1774&\"'\"&\"!y18\"),\"\")","v":0},{"$f":"IF($B1774<>\"\",INDIRECT(\"'\"&$B1774&\"'\"&\"!z18\"),\"\")","v":0},null,{"$f":"IF($B1774<>\"\",INDIRECT(\"'\"&$B1774&\"'\"&\"!ab18\"),\"\")","v":0},null,{"$f":"IF($B1774<>\"\",INDIRECT(\"'\"&$B1774&\"'\"&\"!ad18\"),\"\")","v":0},null,{"$f":"IF($B1774<>\"\",INDIRECT(\"'\"&$B1774&\"'\"&\"!af18\"),\"\")","v":0},null,null,{"$f":"IF($B1774<>\"\",INDIRECT(\"'\"&$B1774&\"'\"&\"!y19\"),\"\")","v":0},{"$f":"IF($B1774<>\"\",INDIRECT(\"'\"&$B1774&\"'\"&\"!z19\"),\"\")","v":0},null,{"$f":"IF($B1774<>\"\",INDIRECT(\"'\"&$B1774&\"'\"&\"!ab19\"),\"\")","v":0},null,{"$f":"IF($B1774<>\"\",INDIRECT(\"'\"&$B1774&\"'\"&\"!ad19\"),\"\")","v":0},null,{"$f":"IF($B1774<>\"\",INDIRECT(\"'\"&$B1774&\"'\"&\"!af19\"),\"\")","v":0}]
[3,{"$f":"IF(ISERROR(INDEX(WS,ROWS($A$1773:$A1775))),\"\",MID(INDEX(WS,ROWS($A$1773:$A1775)), FIND(\"]\",INDEX(WS,ROWS($A$1773:$A1775)))+1,32))&T(NOW())","v":"Пројекат"},0,0,null,0,null,0,null,0,null,null,0,0,null,0,null,0,null,0,null,null,0,0,null,0,null,0,null,0,null,null,0,0,null,0,null,0,null,0,null,null,0,0,null,0,null,0,null,0,null,null,0,0,null,0,null,0,null,0,null,null,0,0,null,0,null,0,null,0,null,null,0,0,null,0,null,0,null,0,null,null,0,0,null,0,null,0,null,0,null,null,0,0,null,0,null,0,null,0,null,null,0,0,null,0,null,0,null,0,null,null,0,0,null,0,null,0,null,0,null,null,0,0,null,0,null,0,null,0,null,null,0,0,null,0,null,0,null,0,null,null,0,0,null,0,null,0,null,0,null,null,0,0,null,0,null,0,null,0,null,null,0,0,null,0,null,0,null,0]
[4,{"$f":"IF(ISERROR(INDEX(WS,ROWS($A$1773:$A1776))),\"\",MID(INDEX(WS,ROWS($A$1773:$A1776)), FIND(\"]\",INDEX(WS,ROWS($A$1773:$A1776)))+1,32))&T(NOW())","v":"Упутство"},0,0,null,0,null,0,null,0,null,null,0,0,null,0,null,0,null,0,null,null,0,0,null,0,null,0,null,0,null,null,0,0,null,0,null,0,null,0,null,null,0,0,null,0,null,0,null,0,null,null,0,0,null,0,null,0,null,0,null,null,0,0,null,0,null,0,null,0,null,null,0,0,null,0,null,0,null,0,null,null,0,0,null,0,null,0,null,0,null,null,0,0,null,0,null,0,null,0,null,null,0,0,null,0,null,0,null,0,null,null,0,0,null,0,null,0,null,0,null,null,0,0,null,0,null,0,null,0,null,null,0,0,null,0,null,0,null,0,null,null,0,0,null,0,null,0,null,0,null,null,0,0,null,0,null,0,null,0,null,null,0,0,null,0,null,0,null,0]
[5,{"$f":"IF(ISERROR(INDEX(WS,ROWS($A$1773:$A1777))),\"\",MID(INDEX(WS,ROWS($A$1773:$A1777)), FIND(\"]\",INDEX(WS,ROWS($A$1773:$A1777)))+1,32))&T(NOW())","v":""},"","",null,"",null,"",null,"",null,null,"","",null,"",null,"",null,"",null,null,"","",null,"",null,"",null,"",null,null,"","",null,"",null,"",null,"",null,null,"","",null,"",null,"",null,"",null,null,"","",null,"",null,"",null,"",null,null,"","",null,"",null,"",null,"",null,null,"","",null,"",null,"",null,"",null,null,"","",null,"",null,"",null,"",null,null,"","",null,"",null,"",null,"",null,null,"","",null,"",null,"",null,"",null,null,"","",null,"",null,"",null,"",null,null,"","",null,"",null,"",null,"",null,null,"","",null,"",null,"",null,"",null,null,"","",null,"",null,"",null,"",null,null,"","",null,"",null,"",null,"",null,null,"","",null,"",null,"",null,""]
[6,{"$f":"IF(ISERROR(INDEX(WS,ROWS($A$1773:$A1778))),\"\",MID(INDEX(WS,ROWS($A$1773:$A1778)), FIND(\"]\",INDEX(WS,ROWS($A$1773:$A1778)))+1,32))&T(NOW())","v":""},"","",null,"",null,"",null,"",null,null,"","",null,"",null,"",null,"",null,null,"","",null,"",null,"",null,"",null,null,"","",null,"",null,"",null,"",null,null,"","",null,"",null,"",null,"",null,null,"","",null,"",null,"",null,"",null,null,"","",null,"",null,"",null,"",null,null,"","",null,"",null,"",null,"",null,null,"","",null,"",null,"",null,"",null,null,"","",null,"",null,"",null,"",null,null,"","",null,"",null,"",null,"",null,null,"","",null,"",null,"",null,"",null,null,"","",null,"",null,"",null,"",null,null,"","",null,"",null,"",null,"",null,null,"","",null,"",null,"",null,"",null,null,"","",null,"",null,"",null,"",null,null,"","",null,"",null,"",null,""]
[7,{"$f":"IF(ISERROR(INDEX(WS,ROWS($A$1773:$A1779))),\"\",MID(INDEX(WS,ROWS($A$1773:$A1779)), FIND(\"]\",INDEX(WS,ROWS($A$1773:$A1779)))+1,32))&T(NOW())","v":""},"","",null,"",null,"",null,"",null,null,"","",null,"",null,"",null,"",null,null,"","",null,"",null,"",null,"",null,null,"","",null,"",null,"",null,"",null,null,"","",null,"",null,"",null,"",null,null,"","",null,"",null,"",null,"",null,null,"","",null,"",null,"",null,"",null,null,"","",null,"",null,"",null,"",null,null,"","",null,"",null,"",null,"",null,null,"","",null,"",null,"",null,"",null,null,"","",null,"",null,"",null,"",null,null,"","",null,"",null,"",null,"",null,null,"","",null,"",null,"",null,"",null,null,"","",null,"",null,"",null,"",null,null,"","",null,"",null,"",null,"",null,null,"","",null,"",null,"",null,"",null,null,"","",null,"",null,"",null,""]
[8,{"$f":"IF(ISERROR(INDEX(WS,ROWS($A$1773:$A1780))),\"\",MID(INDEX(WS,ROWS($A$1773:$A1780)), FIND(\"]\",INDEX(WS,ROWS($A$1773:$A1780)))+1,32))&T(NOW())","v":""},"","",null,"",null,"",null,"",null,null,"","",null,"",null,"",null,"",null,null,"","",null,"",null,"",null,"",null,null,"","",null,"",null,"",null,"",null,null,"","",null,"",null,"",null,"",null,null,"","",null,"",null,"",null,"",null,null,"","",null,"",null,"",null,"",null,null,"","",null,"",null,"",null,"",null,null,"","",null,"",null,"",null,"",null,null,"","",null,"",null,"",null,"",null,null,"","",null,"",null,"",null,"",null,null,"","",null,"",null,"",null,"",null,null,"","",null,"",null,"",null,"",null,null,"","",null,"",null,"",null,"",null,null,"","",null,"",null,"",null,"",null,null,"","",null,"",null,"",null,"",null,null,"","",null,"",null,"",null,""]
[9,{"$f":"IF(ISERROR(INDEX(WS,ROWS($A$1773:$A1781))),\"\",MID(INDEX(WS,ROWS($A$1773:$A1781)), FIND(\"]\",INDEX(WS,ROWS($A$1773:$A1781)))+1,32))&T(NOW())","v":""},"","",null,"",null,"",null,"",null,null,"","",null,"",null,"",null,"",null,null,"","",null,"",null,"",null,"",null,null,"","",null,"",null,"",null,"",null,null,"","",null,"",null,"",null,"",null,null,"","",null,"",null,"",null,"",null,null,"","",null,"",null,"",null,"",null,null,"","",null,"",null,"",null,"",null,null,"","",null,"",null,"",null,"",null,null,"","",null,"",null,"",null,"",null,null,"","",null,"",null,"",null,"",null,null,"","",null,"",null,"",null,"",null,null,"","",null,"",null,"",null,"",null,null,"","",null,"",null,"",null,"",null,null,"","",null,"",null,"",null,"",null,null,"","",null,"",null,"",null,"",null,null,"","",null,"",null,"",null,""]
[10,{"$f":"IF(ISERROR(INDEX(WS,ROWS($A$1773:$A1782))),\"\",MID(INDEX(WS,ROWS($A$1773:$A1782)), FIND(\"]\",INDEX(WS,ROWS($A$1773:$A1782)))+1,32))&T(NOW())","v":""},"","",null,"",null,"",null,"",null,null,"","",null,"",null,"",null,"",null,null,"","",null,"",null,"",null,"",null,null,"","",null,"",null,"",null,"",null,null,"","",null,"",null,"",null,"",null,null,"","",null,"",null,"",null,"",null,null,"","",null,"",null,"",null,"",null,null,"","",null,"",null,"",null,"",null,null,"","",null,"",null,"",null,"",null,null,"","",null,"",null,"",null,"",null,null,"","",null,"",null,"",null,"",null,null,"","",null,"",null,"",null,"",null,null,"","",null,"",null,"",null,"",null,null,"","",null,"",null,"",null,"",null,null,"","",null,"",null,"",null,"",null,null,"","",null,"",null,"",null,"",null,null,"","",null,"",null,"",null,""]
[11,{"$f":"IF(ISERROR(INDEX(WS,ROWS($A$1773:$A1783))),\"\",MID(INDEX(WS,ROWS($A$1773:$A1783)), FIND(\"]\",INDEX(WS,ROWS($A$1773:$A1783)))+1,32))&T(NOW())","v":""},"","",null,"",null,"",null,"",null,null,"","",null,"",null,"",null,"",null,null,"","",null,"",null,"",null,"",null,null,"","",null,"",null,"",null,"",null,null,"","",null,"",null,"",null,"",null,null,"","",null,"",null,"",null,"",null,null,"","",null,"",null,"",null,"",null,null,"","",null,"",null,"",null,"",null,null,"","",null,"",null,"",null,"",null,null,"","",null,"",null,"",null,"",null,null,"","",null,"",null,"",null,"",null,null,"","",null,"",null,"",null,"",null,null,"","",null,"",null,"",null,"",null,null,"","",null,"",null,"",null,"",null,null,"","",null,"",null,"",null,"",null,null,"","",null,"",null,"",null,"",null,null,"","",null,"",null,"",null,""]
[12,{"$f":"IF(ISERROR(INDEX(WS,ROWS($A$1773:$A1784))),\"\",MID(INDEX(WS,ROWS($A$1773:$A1784)), FIND(\"]\",INDEX(WS,ROWS($A$1773:$A1784)))+1,32))&T(NOW())","v":""},"","",null,"",null,"",null,"",null,null,"","",null,"",null,"",null,"",null,null,"","",null,"",null,"",null,"",null,null,"","",null,"",null,"",null,"",null,null,"","",null,"",null,"",null,"",null,null,"","",null,"",null,"",null,"",null,null,"","",null,"",null,"",null,"",null,null,"","",null,"",null,"",null,"",null,null,"","",null,"",null,"",null,"",null,null,"","",null,"",null,"",null,"",null,null,"","",null,"",null,"",null,"",null,null,"","",null,"",null,"",null,"",null,null,"","",null,"",null,"",null,"",null,null,"","",null,"",null,"",null,"",null,null,"","",null,"",null,"",null,"",null,null,"","",null,"",null,"",null,"",null,null,"","",null,"",null,"",null,""]
[13,{"$f":"IF(ISERROR(INDEX(WS,ROWS($A$1773:$A1785))),\"\",MID(INDEX(WS,ROWS($A$1773:$A1785)), FIND(\"]\",INDEX(WS,ROWS($A$1773:$A1785)))+1,32))&T(NOW())","v":""},"","",null,"",null,"",null,"",null,null,"","",null,"",null,"",null,"",null,null,"","",null,"",null,"",null,"",null,null,"","",null,"",null,"",null,"",null,null,"","",null,"",null,"",null,"",null,null,"","",null,"",null,"",null,"",null,null,"","",null,"",null,"",null,"",null,null,"","",null,"",null,"",null,"",null,null,"","",null,"",null,"",null,"",null,null,"","",null,"",null,"",null,"",null,null,"","",null,"",null,"",null,"",null,null,"","",null,"",null,"",null,"",null,null,"","",null,"",null,"",null,"",null,null,"","",null,"",null,"",null,"",null,null,"","",null,"",null,"",null,"",null,null,"","",null,"",null,"",null,"",null,null,"","",null,"",null,"",null,""]
[14,{"$f":"IF(ISERROR(INDEX(WS,ROWS($A$1773:$A1786))),\"\",MID(INDEX(WS,ROWS($A$1773:$A1786)), FIND(\"]\",INDEX(WS,ROWS($A$1773:$A1786)))+1,32))&T(NOW())","v":""},"","",null,"",null,"",null,"",null,null,"","",null,"",null,"",null,"",null,null,"","",null,"",null,"",null,"",null,null,"","",null,"",null,"",null,"",null,null,"","",null,"",null,"",null,"",null,null,"","",null,"",null,"",null,"",null,null,"","",null,"",null,"",null,"",null,null,"","",null,"",null,"",null,"",null,null,"","",null,"",null,"",null,"",null,null,"","",null,"",null,"",null,"",null,null,"","",null,"",null,"",null,"",null,null,"","",null,"",null,"",null,"",null,null,"","",null,"",null,"",null,"",null,null,"","",null,"",null,"",null,"",null,null,"","",null,"",null,"",null,"",null,null,"","",null,"",null,"",null,"",null,null,"","",null,"",null,"",null,""]
[15,{"$f":"IF(ISERROR(INDEX(WS,ROWS($A$1773:$A1787))),\"\",MID(INDEX(WS,ROWS($A$1773:$A1787)), FIND(\"]\",INDEX(WS,ROWS($A$1773:$A1787)))+1,32))&T(NOW())","v":""},"","",null,"",null,"",null,"",null,null,"","",null,"",null,"",null,"",null,null,"","",null,"",null,"",null,"",null,null,"","",null,"",null,"",null,"",null,null,"","",null,"",null,"",null,"",null,null,"","",null,"",null,"",null,"",null,null,"","",null,"",null,"",null,"",null,null,"","",null,"",null,"",null,"",null,null,"","",null,"",null,"",null,"",null,null,"","",null,"",null,"",null,"",null,null,"","",null,"",null,"",null,"",null,null,"","",null,"",null,"",null,"",null,null,"","",null,"",null,"",null,"",null,null,"","",null,"",null,"",null,"",null,null,"","",null,"",null,"",null,"",null,null,"","",null,"",null,"",null,"",null,null,"","",null,"",null,"",null,""]
[16,{"$f":"IF(ISERROR(INDEX(WS,ROWS($A$1773:$A1788))),\"\",MID(INDEX(WS,ROWS($A$1773:$A1788)), FIND(\"]\",INDEX(WS,ROWS($A$1773:$A1788)))+1,32))&T(NOW())","v":""},"","",null,"",null,"",null,"",null,null,"","",null,"",null,"",null,"",null,null,"","",null,"",null,"",null,"",null,null,"","",null,"",null,"",null,"",null,null,"","",null,"",null,"",null,"",null,null,"","",null,"",null,"",null,"",null,null,"","",null,"",null,"",null,"",null,null,"","",null,"",null,"",null,"",null,null,"","",null,"",null,"",null,"",null,null,"","",null,"",null,"",null,"",null,null,"","",null,"",null,"",null,"",null,null,"","",null,"",null,"",null,"",null,null,"","",null,"",null,"",null,"",null,null,"","",null,"",null,"",null,"",null,null,"","",null,"",null,"",null,"",null,null,"","",null,"",null,"",null,"",null,null,"","",null,"",null,"",null,""]
[17,{"$f":"IF(ISERROR(INDEX(WS,ROWS($A$1773:$A1789))),\"\",MID(INDEX(WS,ROWS($A$1773:$A1789)), FIND(\"]\",INDEX(WS,ROWS($A$1773:$A1789)))+1,32))&T(NOW())","v":""},"","",null,"",null,"",null,"",null,null,"","",null,"",null,"",null,"",null,null,"","",null,"",null,"",null,"",null,null,"","",null,"",null,"",null,"",null,null,"","",null,"",null,"",null,"",null,null,"","",null,"",null,"",null,"",null,null,"","",null,"",null,"",null,"",null,null,"","",null,"",null,"",null,"",null,null,"","",null,"",null,"",null,"",null,null,"","",null,"",null,"",null,"",null,null,"","",null,"",null,"",null,"",null,null,"","",null,"",null,"",null,"",null,null,"","",null,"",null,"",null,"",null,null,"","",null,"",null,"",null,"",null,null,"","",null,"",null,"",null,"",null,null,"","",null,"",null,"",null,"",null,null,"","",null,"",null,"",null,""]
[18,{"$f":"IF(ISERROR(INDEX(WS,ROWS($A$1773:$A1790))),\"\",MID(INDEX(WS,ROWS($A$1773:$A1790)), FIND(\"]\",INDEX(WS,ROWS($A$1773:$A1790)))+1,32))&T(NOW())","v":""},"","",null,"",null,"",null,"",null,null,"","",null,"",null,"",null,"",null,null,"","",null,"",null,"",null,"",null,null,"","",null,"",null,"",null,"",null,null,"","",null,"",null,"",null,"",null,null,"","",null,"",null,"",null,"",null,null,"","",null,"",null,"",null,"",null,null,"","",null,"",null,"",null,"",null,null,"","",null,"",null,"",null,"",null,null,"","",null,"",null,"",null,"",null,null,"","",null,"",null,"",null,"",null,null,"","",null,"",null,"",null,"",null,null,"","",null,"",null,"",null,"",null,null,"","",null,"",null,"",null,"",null,null,"","",null,"",null,"",null,"",null,null,"","",null,"",null,"",null,"",null,null,"","",null,"",null,"",null,""]
[19,{"$f":"IF(ISERROR(INDEX(WS,ROWS($A$1773:$A1791))),\"\",MID(INDEX(WS,ROWS($A$1773:$A1791)), FIND(\"]\",INDEX(WS,ROWS($A$1773:$A1791)))+1,32))&T(NOW())","v":""},"","",null,"",null,"",null,"",null,null,"","",null,"",null,"",null,"",null,null,"","",null,"",null,"",null,"",null,null,"","",null,"",null,"",null,"",null,null,"","",null,"",null,"",null,"",null,null,"","",null,"",null,"",null,"",null,null,"","",null,"",null,"",null,"",null,null,"","",null,"",null,"",null,"",null,null,"","",null,"",null,"",null,"",null,null,"","",null,"",null,"",null,"",null,null,"","",null,"",null,"",null,"",null,null,"","",null,"",null,"",null,"",null,null,"","",null,"",null,"",null,"",null,null,"","",null,"",null,"",null,"",null,null,"","",null,"",null,"",null,"",null,null,"","",null,"",null,"",null,"",null,null,"","",null,"",null,"",null,""]
[20,{"$f":"IF(ISERROR(INDEX(WS,ROWS($A$1773:$A1792))),\"\",MID(INDEX(WS,ROWS($A$1773:$A1792)), FIND(\"]\",INDEX(WS,ROWS($A$1773:$A1792)))+1,32))&T(NOW())","v":""},"","",null,"",null,"",null,"",null,null,"","",null,"",null,"",null,"",null,null,"","",null,"",null,"",null,"",null,null,"","",null,"",null,"",null,"",null,null,"","",null,"",null,"",null,"",null,null,"","",null,"",null,"",null,"",null,null,"","",null,"",null,"",null,"",null,null,"","",null,"",null,"",null,"",null,null,"","",null,"",null,"",null,"",null,null,"","",null,"",null,"",null,"",null,null,"","",null,"",null,"",null,"",null,null,"","",null,"",null,"",null,"",null,null,"","",null,"",null,"",null,"",null,null,"","",null,"",null,"",null,"",null,null,"","",null,"",null,"",null,"",null,null,"","",null,"",null,"",null,"",null,null,"","",null,"",null,"",null,""]
[21,{"$f":"IF(ISERROR(INDEX(WS,ROWS($A$1773:$A1793))),\"\",MID(INDEX(WS,ROWS($A$1773:$A1793)), FIND(\"]\",INDEX(WS,ROWS($A$1773:$A1793)))+1,32))&T(NOW())","v":""},"","",null,"",null,"",null,"",null,null,"","",null,"",null,"",null,"",null,null,"","",null,"",null,"",null,"",null,null,"","",null,"",null,"",null,"",null,null,"","",null,"",null,"",null,"",null,null,"","",null,"",null,"",null,"",null,null,"","",null,"",null,"",null,"",null,null,"","",null,"",null,"",null,"",null,null,"","",null,"",null,"",null,"",null,null,"","",null,"",null,"",null,"",null,null,"","",null,"",null,"",null,"",null,null,"","",null,"",null,"",null,"",null,null,"","",null,"",null,"",null,"",null,null,"","",null,"",null,"",null,"",null,null,"","",null,"",null,"",null,"",null,null,"","",null,"",null,"",null,"",null,null,"","",null,"",null,"",null,""]
[22,{"$f":"IF(ISERROR(INDEX(WS,ROWS($A$1773:$A1794))),\"\",MID(INDEX(WS,ROWS($A$1773:$A1794)), FIND(\"]\",INDEX(WS,ROWS($A$1773:$A1794)))+1,32))&T(NOW())","v":""},"","",null,"",null,"",null,"",null,null,"","",null,"",null,"",null,"",null,null,"","",null,"",null,"",null,"",null,null,"","",null,"",null,"",null,"",null,null,"","",null,"",null,"",null,"",null,null,"","",null,"",null,"",null,"",null,null,"","",null,"",null,"",null,"",null,null,"","",null,"",null,"",null,"",null,null,"","",null,"",null,"",null,"",null,null,"","",null,"",null,"",null,"",null,null,"","",null,"",null,"",null,"",null,null,"","",null,"",null,"",null,"",null,null,"","",null,"",null,"",null,"",null,null,"","",null,"",null,"",null,"",null,null,"","",null,"",null,"",null,"",null,null,"","",null,"",null,"",null,"",null,null,"","",null,"",null,"",null,""]
[23,{"$f":"IF(ISERROR(INDEX(WS,ROWS($A$1773:$A1795))),\"\",MID(INDEX(WS,ROWS($A$1773:$A1795)), FIND(\"]\",INDEX(WS,ROWS($A$1773:$A1795)))+1,32))&T(NOW())","v":""},"","",null,"",null,"",null,"",null,null,"","",null,"",null,"",null,"",null,null,"","",null,"",null,"",null,"",null,null,"","",null,"",null,"",null,"",null,null,"","",null,"",null,"",null,"",null,null,"","",null,"",null,"",null,"",null,null,"","",null,"",null,"",null,"",null,null,"","",null,"",null,"",null,"",null,null,"","",null,"",null,"",null,"",null,null,"","",null,"",null,"",null,"",null,null,"","",null,"",null,"",null,"",null,null,"","",null,"",null,"",null,"",null,null,"","",null,"",null,"",null,"",null,null,"","",null,"",null,"",null,"",null,null,"","",null,"",null,"",null,"",null,null,"","",null,"",null,"",null,"",null,null,"","",null,"",null,"",null,""]
[24,{"$f":"IF(ISERROR(INDEX(WS,ROWS($A$1773:$A1796))),\"\",MID(INDEX(WS,ROWS($A$1773:$A1796)), FIND(\"]\",INDEX(WS,ROWS($A$1773:$A1796)))+1,32))&T(NOW())","v":""},"","",null,"",null,"",null,"",null,null,"","",null,"",null,"",null,"",null,null,"","",null,"",null,"",null,"",null,null,"","",null,"",null,"",null,"",null,null,"","",null,"",null,"",null,"",null,null,"","",null,"",null,"",null,"",null,null,"","",null,"",null,"",null,"",null,null,"","",null,"",null,"",null,"",null,null,"","",null,"",null,"",null,"",null,null,"","",null,"",null,"",null,"",null,null,"","",null,"",null,"",null,"",null,null,"","",null,"",null,"",null,"",null,null,"","",null,"",null,"",null,"",null,null,"","",null,"",null,"",null,"",null,null,"","",null,"",null,"",null,"",null,null,"","",null,"",null,"",null,"",null,null,"","",null,"",null,"",null,""]
[25,{"$f":"IF(ISERROR(INDEX(WS,ROWS($A$1773:$A1797))),\"\",MID(INDEX(WS,ROWS($A$1773:$A1797)), FIND(\"]\",INDEX(WS,ROWS($A$1773:$A1797)))+1,32))&T(NOW())","v":""},"","",null,"",null,"",null,"",null,null,"","",null,"",null,"",null,"",null,null,"","",null,"",null,"",null,"",null,null,"","",null,"",null,"",null,"",null,null,"","",null,"",null,"",null,"",null,null,"","",null,"",null,"",null,"",null,null,"","",null,"",null,"",null,"",null,null,"","",null,"",null,"",null,"",null,null,"","",null,"",null,"",null,"",null,null,"","",null,"",null,"",null,"",null,null,"","",null,"",null,"",null,"",null,null,"","",null,"",null,"",null,"",null,null,"","",null,"",null,"",null,"",null,null,"","",null,"",null,"",null,"",null,null,"","",null,"",null,"",null,"",null,null,"","",null,"",null,"",null,"",null,null,"","",null,"",null,"",null,""]
[26,{"$f":"IF(ISERROR(INDEX(WS,ROWS($A$1773:$A1798))),\"\",MID(INDEX(WS,ROWS($A$1773:$A1798)), FIND(\"]\",INDEX(WS,ROWS($A$1773:$A1798)))+1,32))&T(NOW())","v":""},"","",null,"",null,"",null,"",null,null,"","",null,"",null,"",null,"",null,null,"","",null,"",null,"",null,"",null,null,"","",null,"",null,"",null,"",null,null,"","",null,"",null,"",null,"",null,null,"","",null,"",null,"",null,"",null,null,"","",null,"",null,"",null,"",null,null,"","",null,"",null,"",null,"",null,null,"","",null,"",null,"",null,"",null,null,"","",null,"",null,"",null,"",null,null,"","",null,"",null,"",null,"",null,null,"","",null,"",null,"",null,"",null,null,"","",null,"",null,"",null,"",null,null,"","",null,"",null,"",null,"",null,null,"","",null,"",null,"",null,"",null,null,"","",null,"",null,"",null,"",null,null,"","",null,"",null,"",null,""]
[27,{"$f":"IF(ISERROR(INDEX(WS,ROWS($A$1773:$A1799))),\"\",MID(INDEX(WS,ROWS($A$1773:$A1799)), FIND(\"]\",INDEX(WS,ROWS($A$1773:$A1799)))+1,32))&T(NOW())","v":""},"","",null,"",null,"",null,"",null,null,"","",null,"",null,"",null,"",null,null,"","",null,"",null,"",null,"",null,null,"","",null,"",null,"",null,"",null,null,"","",null,"",null,"",null,"",null,null,"","",null,"",null,"",null,"",null,null,"","",null,"",null,"",null,"",null,null,"","",null,"",null,"",null,"",null,null,"","",null,"",null,"",null,"",null,null,"","",null,"",null,"",null,"",null,null,"","",null,"",null,"",null,"",null,null,"","",null,"",null,"",null,"",null,null,"","",null,"",null,"",null,"",null,null,"","",null,"",null,"",null,"",null,null,"","",null,"",null,"",null,"",null,null,"","",null,"",null,"",null,"",null,null,"","",null,"",null,"",null,""]
[28,{"$f":"IF(ISERROR(INDEX(WS,ROWS($A$1773:$A1800))),\"\",MID(INDEX(WS,ROWS($A$1773:$A1800)), FIND(\"]\",INDEX(WS,ROWS($A$1773:$A1800)))+1,32))&T(NOW())","v":""},"","",null,"",null,"",null,"",null,null,"","",null,"",null,"",null,"",null,null,"","",null,"",null,"",null,"",null,null,"","",null,"",null,"",null,"",null,null,"","",null,"",null,"",null,"",null,null,"","",null,"",null,"",null,"",null,null,"","",null,"",null,"",null,"",null,null,"","",null,"",null,"",null,"",null,null,"","",null,"",null,"",null,"",null,null,"","",null,"",null,"",null,"",null,null,"","",null,"",null,"",null,"",null,null,"","",null,"",null,"",null,"",null,null,"","",null,"",null,"",null,"",null,null,"","",null,"",null,"",null,"",null,null,"","",null,"",null,"",null,"",null,null,"","",null,"",null,"",null,"",null,null,"","",null,"",null,"",null,""]
[29,{"$f":"IF(ISERROR(INDEX(WS,ROWS($A$1773:$A1801))),\"\",MID(INDEX(WS,ROWS($A$1773:$A1801)), FIND(\"]\",INDEX(WS,ROWS($A$1773:$A1801)))+1,32))&T(NOW())","v":""},"","",null,"",null,"",null,"",null,null,"","",null,"",null,"",null,"",null,null,"","",null,"",null,"",null,"",null,null,"","",null,"",null,"",null,"",null,null,"","",null,"",null,"",null,"",null,null,"","",null,"",null,"",null,"",null,null,"","",null,"",null,"",null,"",null,null,"","",null,"",null,"",null,"",null,null,"","",null,"",null,"",null,"",null,null,"","",null,"",null,"",null,"",null,null,"","",null,"",null,"",null,"",null,null,"","",null,"",null,"",null,"",null,null,"","",null,"",null,"",null,"",null,null,"","",null,"",null,"",null,"",null,null,"","",null,"",null,"",null,"",null,null,"","",null,"",null,"",null,"",null,null,"","",null,"",null,"",null,""]
[30,{"$f":"IF(ISERROR(INDEX(WS,ROWS($A$1773:$A1802))),\"\",MID(INDEX(WS,ROWS($A$1773:$A1802)), FIND(\"]\",INDEX(WS,ROWS($A$1773:$A1802)))+1,32))&T(NOW())","v":""},"","",null,"",null,"",null,"",null,null,"","",null,"",null,"",null,"",null,null,"","",null,"",null,"",null,"",null,null,"","",null,"",null,"",null,"",null,null,"","",null,"",null,"",null,"",null,null,"","",null,"",null,"",null,"",null,null,"","",null,"",null,"",null,"",null,null,"","",null,"",null,"",null,"",null,null,"","",null,"",null,"",null,"",null,null,"","",null,"",null,"",null,"",null,null,"","",null,"",null,"",null,"",null,null,"","",null,"",null,"",null,"",null,null,"","",null,"",null,"",null,"",null,null,"","",null,"",null,"",null,"",null,null,"","",null,"",null,"",null,"",null,null,"","",null,"",null,"",null,"",null,null,"","",null,"",null,"",null,""]
[31,{"$f":"IF(ISERROR(INDEX(WS,ROWS($A$1773:$A1803))),\"\",MID(INDEX(WS,ROWS($A$1773:$A1803)), FIND(\"]\",INDEX(WS,ROWS($A$1773:$A1803)))+1,32))&T(NOW())","v":""},"","",null,"",null,"",null,"",null,null,"","",null,"",null,"",null,"",null,null,"","",null,"",null,"",null,"",null,null,"","",null,"",null,"",null,"",null,null,"","",null,"",null,"",null,"",null,null,"","",null,"",null,"",null,"",null,null,"","",null,"",null,"",null,"",null,null,"","",null,"",null,"",null,"",null,null,"","",null,"",null,"",null,"",null,null,"","",null,"",null,"",null,"",null,null,"","",null,"",null,"",null,"",null,null,"","",null,"",null,"",null,"",null,null,"","",null,"",null,"",null,"",null,null,"","",null,"",null,"",null,"",null,null,"","",null,"",null,"",null,"",null,null,"","",null,"",null,"",null,"",null,null,"","",null,"",null,"",null,""]
[32,{"$f":"IF(ISERROR(INDEX(WS,ROWS($A$1773:$A1804))),\"\",MID(INDEX(WS,ROWS($A$1773:$A1804)), FIND(\"]\",INDEX(WS,ROWS($A$1773:$A1804)))+1,32))&T(NOW())","v":""},"","",null,"",null,"",null,"",null,null,"","",null,"",null,"",null,"",null,null,"","",null,"",null,"",null,"",null,null,"","",null,"",null,"",null,"",null,null,"","",null,"",null,"",null,"",null,null,"","",null,"",null,"",null,"",null,null,"","",null,"",null,"",null,"",null,null,"","",null,"",null,"",null,"",null,null,"","",null,"",null,"",null,"",null,null,"","",null,"",null,"",null,"",null,null,"","",null,"",null,"",null,"",null,null,"","",null,"",null,"",null,"",null,null,"","",null,"",null,"",null,"",null,null,"","",null,"",null,"",null,"",null,null,"","",null,"",null,"",null,"",null,null,"","",null,"",null,"",null,"",null,null,"","",null,"",null,"",null,""]
[33,{"$f":"IF(ISERROR(INDEX(WS,ROWS($A$1773:$A1805))),\"\",MID(INDEX(WS,ROWS($A$1773:$A1805)), FIND(\"]\",INDEX(WS,ROWS($A$1773:$A1805)))+1,32))&T(NOW())","v":""},{"$f":"IF($B1805<>\"\",INDIRECT(\"'\"&$B1805&\"'\"&\"!y3\"),\"\")","v":""},"",null,"",null,"",null,"",null,null,"","",null,"",null,"",null,"",null,null,"","",null,"",null,"",null,"",null,null,"","",null,"",null,"",null,"",null,null,"","",null,"",null,"",null,"",null,null,"","",null,"",null,"",null,"",null,null,"","",null,"",null,"",null,"",null,null,"","",null,"",null,"",null,"",null,null,"","",null,"",null,"",null,"",null,null,"","",null,"",null,"",null,"",null,null,"","",null,"",null,"",null,"",null,null,"","",null,"",null,"",null,"",null,null,"","",null,"",null,"",null,"",null,null,"","",null,"",null,"",null,"",null,null,"","",null,"",null,"",null,"",null,null,"","",null,"",null,"",null,"",null,null,"","",null,"",null,"",null,""]
[34,{"$f":"IF(ISERROR(INDEX(WS,ROWS($A$1773:$A1806))),\"\",MID(INDEX(WS,ROWS($A$1773:$A1806)), FIND(\"]\",INDEX(WS,ROWS($A$1773:$A1806)))+1,32))&T(NOW())","v":""},"","",null,"",null,"",null,"",null,null,"","",null,"",null,"",null,"",null,null,"","",null,"",null,"",null,"",null,null,"","",null,"",null,"",null,"",null,null,"","",null,"",null,"",null,"",null,null,"","",null,"",null,"",null,"",null,null,"","",null,"",null,"",null,"",null,null,"","",null,"",null,"",null,"",null,null,"","",null,"",null,"",null,"",null,null,"","",null,"",null,"",null,"",null,null,"","",null,"",null,"",null,"",null,null,"","",null,"",null,"",null,"",null,null,"","",null,"",null,"",null,"",null,null,"","",null,"",null,"",null,"",null,null,"","",null,"",null,"",null,"",null,null,"","",null,"",null,"",null,"",null,null,"","",null,"",null,"",null,""]
[35,{"$f":"IF(ISERROR(INDEX(WS,ROWS($A$1773:$A1807))),\"\",MID(INDEX(WS,ROWS($A$1773:$A1807)), FIND(\"]\",INDEX(WS,ROWS($A$1773:$A1807)))+1,32))&T(NOW())","v":""},"","",null,"",null,"",null,"",null,null,"","",null,"",null,"",null,"",null,null,"","",null,"",null,"",null,"",null,null,"","",null,"",null,"",null,"",null,null,"","",null,"",null,"",null,"",null,null,"","",null,"",null,"",null,"",null,null,"","",null,"",null,"",null,"",null,null,"","",null,"",null,"",null,"",null,null,"","",null,"",null,"",null,"",null,null,"","",null,"",null,"",null,"",null,null,"","",null,"",null,"",null,"",null,null,"","",null,"",null,"",null,"",null,null,"","",null,"",null,"",null,"",null,null,"","",null,"",null,"",null,"",null,null,"","",null,"",null,"",null,"",null,null,"","",null,"",null,"",null,"",null,null,"","",null,"",null,"",null,""]
[36,{"$f":"IF(ISERROR(INDEX(WS,ROWS($A$1773:$A1808))),\"\",MID(INDEX(WS,ROWS($A$1773:$A1808)), FIND(\"]\",INDEX(WS,ROWS($A$1773:$A1808)))+1,32))&T(NOW())","v":""},"","",null,"",null,"",null,"",null,null,"","",null,"",null,"",null,"",null,null,"","",null,"",null,"",null,"",null,null,"","",null,"",null,"",null,"",null,null,"","",null,"",null,"",null,"",null,null,"","",null,"",null,"",null,"",null,null,"","",null,"",null,"",null,"",null,null,"","",null,"",null,"",null,"",null,null,"","",null,"",null,"",null,"",null,null,"","",null,"",null,"",null,"",null,null,"","",null,"",null,"",null,"",null,null,"","",null,"",null,"",null,"",null,null,"","",null,"",null,"",null,"",null,null,"","",null,"",null,"",null,"",null,null,"","",null,"",null,"",null,"",null,null,"","",null,"",null,"",null,"",null,null,"","",null,"",null,"",null,""]
[37,{"$f":"IF(ISERROR(INDEX(WS,ROWS($A$1773:$A1809))),\"\",MID(INDEX(WS,ROWS($A$1773:$A1809)), FIND(\"]\",INDEX(WS,ROWS($A$1773:$A1809)))+1,32))&T(NOW())","v":""},"","",null,"",null,"",null,"",null,null,"","",null,"",null,"",null,"",null,null,"","",null,"",null,"",null,"",null,null,"","",null,"",null,"",null,"",null,null,"","",null,"",null,"",null,"",null,null,"","",null,"",null,"",null,"",null,null,"","",null,"",null,"",null,"",null,null,"","",null,"",null,"",null,"",null,null,"","",null,"",null,"",null,"",null,null,"","",null,"",null,"",null,"",null,null,"","",null,"",null,"",null,"",null,null,"","",null,"",null,"",null,"",null,null,"","",null,"",null,"",null,"",null,null,"","",null,"",null,"",null,"",null,null,"","",null,"",null,"",null,"",null,null,"","",null,"",null,"",null,"",null,null,"","",null,"",null,"",null,""]
[38,{"$f":"IF(ISERROR(INDEX(WS,ROWS($A$1773:$A1810))),\"\",MID(INDEX(WS,ROWS($A$1773:$A1810)), FIND(\"]\",INDEX(WS,ROWS($A$1773:$A1810)))+1,32))&T(NOW())","v":""},"","",null,"",null,"",null,"",null,null,"","",null,"",null,"",null,"",null,null,"","",null,"",null,"",null,"",null,null,"","",null,"",null,"",null,"",null,null,"","",null,"",null,"",null,"",null,null,"","",null,"",null,"",null,"",null,null,"","",null,"",null,"",null,"",null,null,"","",null,"",null,"",null,"",null,null,"","",null,"",null,"",null,"",null,null,"","",null,"",null,"",null,"",null,null,"","",null,"",null,"",null,"",null,null,"","",null,"",null,"",null,"",null,null,"","",null,"",null,"",null,"",null,null,"","",null,"",null,"",null,"",null,null,"","",null,"",null,"",null,"",null,null,"","",null,"",null,"",null,"",null,null,"","",null,"",null,"",null,""]
[39,{"$f":"IF(ISERROR(INDEX(WS,ROWS($A$1773:$A1811))),\"\",MID(INDEX(WS,ROWS($A$1773:$A1811)), FIND(\"]\",INDEX(WS,ROWS($A$1773:$A1811)))+1,32))&T(NOW())","v":""},"","",null,"",null,"",null,"",null,null,"","",null,"",null,"",null,"",null,null,"","",null,"",null,"",null,"",null,null,"","",null,"",null,"",null,"",null,null,"","",null,"",null,"",null,"",null,null,"","",null,"",null,"",null,"",null,null,"","",null,"",null,"",null,"",null,null,"","",null,"",null,"",null,"",null,null,"","",null,"",null,"",null,"",null,null,"","",null,"",null,"",null,"",null,null,"","",null,"",null,"",null,"",null,null,"","",null,"",null,"",null,"",null,null,"","",null,"",null,"",null,"",null,null,"","",null,"",null,"",null,"",null,null,"","",null,"",null,"",null,"",null,null,"","",null,"",null,"",null,"",null,null,"","",null,"",null,"",null,""]
[40,{"$f":"IF(ISERROR(INDEX(WS,ROWS($A$1773:$A1812))),\"\",MID(INDEX(WS,ROWS($A$1773:$A1812)), FIND(\"]\",INDEX(WS,ROWS($A$1773:$A1812)))+1,32))&T(NOW())","v":""},"","",null,"",null,"",null,"",null,null,"","",null,"",null,"",null,"",null,null,"","",null,"",null,"",null,"",null,null,"","",null,"",null,"",null,"",null,null,"","",null,"",null,"",null,"",null,null,"","",null,"",null,"",null,"",null,null,"","",null,"",null,"",null,"",null,null,"","",null,"",null,"",null,"",null,null,"","",null,"",null,"",null,"",null,null,"","",null,"",null,"",null,"",null,null,"","",null,"",null,"",null,"",null,null,"","",null,"",null,"",null,"",null,null,"","",null,"",null,"",null,"",null,null,"","",null,"",null,"",null,"",null,null,"","",null,"",null,"",null,"",null,null,"","",null,"",null,"",null,"",null,null,"","",null,"",null,"",null,""]
[41,{"$f":"IF(ISERROR(INDEX(WS,ROWS($A$1773:$A1813))),\"\",MID(INDEX(WS,ROWS($A$1773:$A1813)), FIND(\"]\",INDEX(WS,ROWS($A$1773:$A1813)))+1,32))&T(NOW())","v":""},"","",null,"",null,"",null,"",null,null,"","",null,"",null,"",null,"",null,null,"","",null,"",null,"",null,"",null,null,"","",null,"",null,"",null,"",null,null,"","",null,"",null,"",null,"",null,null,"","",null,"",null,"",null,"",null,null,"","",null,"",null,"",null,"",null,null,"","",null,"",null,"",null,"",null,null,"","",null,"",null,"",null,"",null,null,"","",null,"",null,"",null,"",null,null,"","",null,"",null,"",null,"",null,null,"","",null,"",null,"",null,"",null,null,"","",null,"",null,"",null,"",null,null,"","",null,"",null,"",null,"",null,null,"","",null,"",null,"",null,"",null,null,"","",null,"",null,"",null,"",null,null,"","",null,"",null,"",null,""]
[42,{"$f":"IF(ISERROR(INDEX(WS,ROWS($A$1773:$A1814))),\"\",MID(INDEX(WS,ROWS($A$1773:$A1814)), FIND(\"]\",INDEX(WS,ROWS($A$1773:$A1814)))+1,32))&T(NOW())","v":""},"","",null,"",null,"",null,"",null,null,"","",null,"",null,"",null,"",null,null,"","",null,"",null,"",null,"",null,null,"","",null,"",null,"",null,"",null,null,"","",null,"",null,"",null,"",null,null,"","",null,"",null,"",null,"",null,null,"","",null,"",null,"",null,"",null,null,"","",null,"",null,"",null,"",null,null,"","",null,"",null,"",null,"",null,null,"","",null,"",null,"",null,"",null,null,"","",null,"",null,"",null,"",null,null,"","",null,"",null,"",null,"",null,null,"","",null,"",null,"",null,"",null,null,"","",null,"",null,"",null,"",null,null,"","",null,"",null,"",null,"",null,null,"","",null,"",null,"",null,"",null,null,"","",null,"",null,"",null,""]
[43,{"$f":"IF(ISERROR(INDEX(WS,ROWS($A$1773:$A1815))),\"\",MID(INDEX(WS,ROWS($A$1773:$A1815)), FIND(\"]\",INDEX(WS,ROWS($A$1773:$A1815)))+1,32))&T(NOW())","v":""},"","",null,"",null,"",null,"",null,null,"","",null,"",null,"",null,"",null,null,"","",null,"",null,"",null,"",null,null,"","",null,"",null,"",null,"",null,null,"","",null,"",null,"",null,"",null,null,"","",null,"",null,"",null,"",null,null,"","",null,"",null,"",null,"",null,null,"","",null,"",null,"",null,"",null,null,"","",null,"",null,"",null,"",null,null,"","",null,"",null,"",null,"",null,null,"","",null,"",null,"",null,"",null,null,"","",null,"",null,"",null,"",null,null,"","",null,"",null,"",null,"",null,null,"","",null,"",null,"",null,"",null,null,"","",null,"",null,"",null,"",null,null,"","",null,"",null,"",null,"",null,null,"","",null,"",null,"",null,""]
[44,{"$f":"IF(ISERROR(INDEX(WS,ROWS($A$1773:$A1816))),\"\",MID(INDEX(WS,ROWS($A$1773:$A1816)), FIND(\"]\",INDEX(WS,ROWS($A$1773:$A1816)))+1,32))&T(NOW())","v":""},"","",null,"",null,"",null,"",null,null,"","",null,"",null,"",null,"",null,null,"","",null,"",null,"",null,"",null,null,"","",null,"",null,"",null,"",null,null,"","",null,"",null,"",null,"",null,null,"","",null,"",null,"",null,"",null,null,"","",null,"",null,"",null,"",null,null,"","",null,"",null,"",null,"",null,null,"","",null,"",null,"",null,"",null,null,"","",null,"",null,"",null,"",null,null,"","",null,"",null,"",null,"",null,null,"","",null,"",null,"",null,"",null,null,"","",null,"",null,"",null,"",null,null,"","",null,"",null,"",null,"",null,null,"","",null,"",null,"",null,"",null,null,"","",null,"",null,"",null,"",null,null,"","",null,"",null,"",null,""]
[45,{"$f":"IF(ISERROR(INDEX(WS,ROWS($A$1773:$A1817))),\"\",MID(INDEX(WS,ROWS($A$1773:$A1817)), FIND(\"]\",INDEX(WS,ROWS($A$1773:$A1817)))+1,32))&T(NOW())","v":""},"","",null,"",null,"",null,"",null,null,"","",null,"",null,"",null,"",null,null,"","",null,"",null,"",null,"",null,null,"","",null,"",null,"",null,"",null,null,"","",null,"",null,"",null,"",null,null,"","",null,"",null,"",null,"",null,null,"","",null,"",null,"",null,"",null,null,"","",null,"",null,"",null,"",null,null,"","",null,"",null,"",null,"",null,null,"","",null,"",null,"",null,"",null,null,"","",null,"",null,"",null,"",null,null,"","",null,"",null,"",null,"",null,null,"","",null,"",null,"",null,"",null,null,"","",null,"",null,"",null,"",null,null,"","",null,"",null,"",null,"",null,null,"","",null,"",null,"",null,"",null,null,"","",null,"",null,"",null,""]
[46,{"$f":"IF(ISERROR(INDEX(WS,ROWS($A$1773:$A1818))),\"\",MID(INDEX(WS,ROWS($A$1773:$A1818)), FIND(\"]\",INDEX(WS,ROWS($A$1773:$A1818)))+1,32))&T(NOW())","v":""},"","",null,"",null,"",null,"",null,null,"","",null,"",null,"",null,"",null,null,"","",null,"",null,"",null,"",null,null,"","",null,"",null,"",null,"",null,null,"","",null,"",null,"",null,"",null,null,"","",null,"",null,"",null,"",null,null,"","",null,"",null,"",null,"",null,null,"","",null,"",null,"",null,"",null,null,"","",null,"",null,"",null,"",null,null,"","",null,"",null,"",null,"",null,null,"","",null,"",null,"",null,"",null,null,"","",null,"",null,"",null,"",null,null,"","",null,"",null,"",null,"",null,null,"","",null,"",null,"",null,"",null,null,"","",null,"",null,"",null,"",null,null,"","",null,"",null,"",null,"",null,null,"","",null,"",null,"",null,""]
[47,{"$f":"IF(ISERROR(INDEX(WS,ROWS($A$1773:$A1819))),\"\",MID(INDEX(WS,ROWS($A$1773:$A1819)), FIND(\"]\",INDEX(WS,ROWS($A$1773:$A1819)))+1,32))&T(NOW())","v":""},"","",null,"",null,"",null,"",null,null,"","",null,"",null,"",null,"",null,null,"","",null,"",null,"",null,"",null,null,"","",null,"",null,"",null,"",null,null,"","",null,"",null,"",null,"",null,null,"","",null,"",null,"",null,"",null,null,"","",null,"",null,"",null,"",null,null,"","",null,"",null,"",null,"",null,null,"","",null,"",null,"",null,"",null,null,"","",null,"",null,"",null,"",null,null,"","",null,"",null,"",null,"",null,null,"","",null,"",null,"",null,"",null,null,"","",null,"",null,"",null,"",null,null,"","",null,"",null,"",null,"",null,null,"","",null,"",null,"",null,"",null,null,"","",null,"",null,"",null,"",null,null,"","",null,"",null,"",null,""]
[48,{"$f":"IF(ISERROR(INDEX(WS,ROWS($A$1773:$A1820))),\"\",MID(INDEX(WS,ROWS($A$1773:$A1820)), FIND(\"]\",INDEX(WS,ROWS($A$1773:$A1820)))+1,32))&T(NOW())","v":""},"","",null,"",null,"",null,"",null,null,"","",null,"",null,"",null,"",null,null,"","",null,"",null,"",null,"",null,null,"","",null,"",null,"",null,"",null,null,"","",null,"",null,"",null,"",null,null,"","",null,"",null,"",null,"",null,null,"","",null,"",null,"",null,"",null,null,"","",null,"",null,"",null,"",null,null,"","",null,"",null,"",null,"",null,null,"","",null,"",null,"",null,"",null,null,"","",null,"",null,"",null,"",null,null,"","",null,"",null,"",null,"",null,null,"","",null,"",null,"",null,"",null,null,"","",null,"",null,"",null,"",null,null,"","",null,"",null,"",null,"",null,null,"","",null,"",null,"",null,"",null,null,"","",null,"",null,"",null,""]
[49,{"$f":"IF(ISERROR(INDEX(WS,ROWS($A$1773:$A1821))),\"\",MID(INDEX(WS,ROWS($A$1773:$A1821)), FIND(\"]\",INDEX(WS,ROWS($A$1773:$A1821)))+1,32))&T(NOW())","v":""},"","",null,"",null,"",null,"",null,null,"","",null,"",null,"",null,"",null,null,"","",null,"",null,"",null,"",null,null,"","",null,"",null,"",null,"",null,null,"","",null,"",null,"",null,"",null,null,"","",null,"",null,"",null,"",null,null,"","",null,"",null,"",null,"",null,null,"","",null,"",null,"",null,"",null,null,"","",null,"",null,"",null,"",null,null,"","",null,"",null,"",null,"",null,null,"","",null,"",null,"",null,"",null,null,"","",null,"",null,"",null,"",null,null,"","",null,"",null,"",null,"",null,null,"","",null,"",null,"",null,"",null,null,"","",null,"",null,"",null,"",null,null,"","",null,"",null,"",null,"",null,null,"","",null,"",null,"",null,""]
[50,{"$f":"IF(ISERROR(INDEX(WS,ROWS($A$1773:$A1822))),\"\",MID(INDEX(WS,ROWS($A$1773:$A1822)), FIND(\"]\",INDEX(WS,ROWS($A$1773:$A1822)))+1,32))&T(NOW())","v":""},"","",null,"",null,"",null,"",null,null,"","",null,"",null,"",null,"",null,null,"","",null,"",null,"",null,"",null,null,"","",null,"",null,"",null,"",null,null,"","",null,"",null,"",null,"",null,null,"","",null,"",null,"",null,"",null,null,"","",null,"",null,"",null,"",null,null,"","",null,"",null,"",null,"",null,null,"","",null,"",null,"",null,"",null,null,"","",null,"",null,"",null,"",null,null,"","",null,"",null,"",null,"",null,null,"","",null,"",null,"",null,"",null,null,"","",null,"",null,"",null,"",null,null,"","",null,"",null,"",null,"",null,null,"","",null,"",null,"",null,"",null,null,"","",null,"",null,"",null,"",null,null,"","",null,"",null,"",null,""]
[51,{"$f":"IF(ISERROR(INDEX(WS,ROWS($A$1773:$A1823))),\"\",MID(INDEX(WS,ROWS($A$1773:$A1823)), FIND(\"]\",INDEX(WS,ROWS($A$1773:$A1823)))+1,32))&T(NOW())","v":""},"","",null,"",null,"",null,"",null,null,"","",null,"",null,"",null,"",null,null,"","",null,"",null,"",null,"",null,null,"","",null,"",null,"",null,"",null,null,"","",null,"",null,"",null,"",null,null,"","",null,"",null,"",null,"",null,null,"","",null,"",null,"",null,"",null,null,"","",null,"",null,"",null,"",null,null,"","",null,"",null,"",null,"",null,null,"","",null,"",null,"",null,"",null,null,"","",null,"",null,"",null,"",null,null,"","",null,"",null,"",null,"",null,null,"","",null,"",null,"",null,"",null,null,"","",null,"",null,"",null,"",null,null,"","",null,"",null,"",null,"",null,null,"","",null,"",null,"",null,"",null,null,"","",null,"",null,"",null,""]
[52,{"$f":"IF(ISERROR(INDEX(WS,ROWS($A$1773:$A1824))),\"\",MID(INDEX(WS,ROWS($A$1773:$A1824)), FIND(\"]\",INDEX(WS,ROWS($A$1773:$A1824)))+1,32))&T(NOW())","v":""},"","",null,"",null,"",null,"",null,null,"","",null,"",null,"",null,"",null,null,"","",null,"",null,"",null,"",null,null,"","",null,"",null,"",null,"",null,null,"","",null,"",null,"",null,"",null,null,"","",null,"",null,"",null,"",null,null,"","",null,"",null,"",null,"",null,null,"","",null,"",null,"",null,"",null,null,"","",null,"",null,"",null,"",null,null,"","",null,"",null,"",null,"",null,null,"","",null,"",null,"",null,"",null,null,"","",null,"",null,"",null,"",null,null,"","",null,"",null,"",null,"",null,null,"","",null,"",null,"",null,"",null,null,"","",null,"",null,"",null,"",null,null,"","",null,"",null,"",null,"",null,null,"","",null,"",null,"",null,""]
[53,{"$f":"IF(ISERROR(INDEX(WS,ROWS($A$1773:$A1825))),\"\",MID(INDEX(WS,ROWS($A$1773:$A1825)), FIND(\"]\",INDEX(WS,ROWS($A$1773:$A1825)))+1,32))&T(NOW())","v":""},"","",null,"",null,"",null,"",null,null,"","",null,"",null,"",null,"",null,null,"","",null,"",null,"",null,"",null,null,"","",null,"",null,"",null,"",null,null,"","",null,"",null,"",null,"",null,null,"","",null,"",null,"",null,"",null,null,"","",null,"",null,"",null,"",null,null,"","",null,"",null,"",null,"",null,null,"","",null,"",null,"",null,"",null,null,"","",null,"",null,"",null,"",null,null,"","",null,"",null,"",null,"",null,null,"","",null,"",null,"",null,"",null,null,"","",null,"",null,"",null,"",null,null,"","",null,"",null,"",null,"",null,null,"","",null,"",null,"",null,"",null,null,"","",null,"",null,"",null,"",null,null,"","",null,"",null,"",null,""]
[54,{"$f":"IF(ISERROR(INDEX(WS,ROWS($A$1773:$A1826))),\"\",MID(INDEX(WS,ROWS($A$1773:$A1826)), FIND(\"]\",INDEX(WS,ROWS($A$1773:$A1826)))+1,32))&T(NOW())","v":""},"","",null,"",null,"",null,"",null,null,"","",null,"",null,"",null,"",null,null,"","",null,"",null,"",null,"",null,null,"","",null,"",null,"",null,"",null,null,"","",null,"",null,"",null,"",null,null,"","",null,"",null,"",null,"",null,null,"","",null,"",null,"",null,"",null,null,"","",null,"",null,"",null,"",null,null,"","",null,"",null,"",null,"",null,null,"","",null,"",null,"",null,"",null,null,"","",null,"",null,"",null,"",null,null,"","",null,"",null,"",null,"",null,null,"","",null,"",null,"",null,"",null,null,"","",null,"",null,"",null,"",null,null,"","",null,"",null,"",null,"",null,null,"","",null,"",null,"",null,"",null,null,"","",null,"",null,"",null,""]
[55,{"$f":"IF(ISERROR(INDEX(WS,ROWS($A$1773:$A1827))),\"\",MID(INDEX(WS,ROWS($A$1773:$A1827)), FIND(\"]\",INDEX(WS,ROWS($A$1773:$A1827)))+1,32))&T(NOW())","v":""},"","",null,"",null,"",null,"",null,null,"","",null,"",null,"",null,"",null,null,"","",null,"",null,"",null,"",null,null,"","",null,"",null,"",null,"",null,null,"","",null,"",null,"",null,"",null,null,"","",null,"",null,"",null,"",null,null,"","",null,"",null,"",null,"",null,null,"","",null,"",null,"",null,"",null,null,"","",null,"",null,"",null,"",null,null,"","",null,"",null,"",null,"",null,null,"","",null,"",null,"",null,"",null,null,"","",null,"",null,"",null,"",null,null,"","",null,"",null,"",null,"",null,null,"","",null,"",null,"",null,"",null,null,"","",null,"",null,"",null,"",null,null,"","",null,"",null,"",null,"",null,null,"","",null,"",null,"",null,""]
[56,{"$f":"IF(ISERROR(INDEX(WS,ROWS($A$1773:$A1828))),\"\",MID(INDEX(WS,ROWS($A$1773:$A1828)), FIND(\"]\",INDEX(WS,ROWS($A$1773:$A1828)))+1,32))&T(NOW())","v":""},"","",null,"",null,"",null,"",null,null,"","",null,"",null,"",null,"",null,null,"","",null,"",null,"",null,"",null,null,"","",null,"",null,"",null,"",null,null,"","",null,"",null,"",null,"",null,null,"","",null,"",null,"",null,"",null,null,"","",null,"",null,"",null,"",null,null,"","",null,"",null,"",null,"",null,null,"","",null,"",null,"",null,"",null,null,"","",null,"",null,"",null,"",null,null,"","",null,"",null,"",null,"",null,null,"","",null,"",null,"",null,"",null,null,"","",null,"",null,"",null,"",null,null,"","",null,"",null,"",null,"",null,null,"","",null,"",null,"",null,"",null,null,"","",null,"",null,"",null,"",null,null,"","",null,"",null,"",null,""]
[57,{"$f":"IF(ISERROR(INDEX(WS,ROWS($A$1773:$A1829))),\"\",MID(INDEX(WS,ROWS($A$1773:$A1829)), FIND(\"]\",INDEX(WS,ROWS($A$1773:$A1829)))+1,32))&T(NOW())","v":""},"","",null,"",null,"",null,"",null,null,"","",null,"",null,"",null,"",null,null,"","",null,"",null,"",null,"",null,null,"","",null,"",null,"",null,"",null,null,"","",null,"",null,"",null,"",null,null,"","",null,"",null,"",null,"",null,null,"","",null,"",null,"",null,"",null,null,"","",null,"",null,"",null,"",null,null,"","",null,"",null,"",null,"",null,null,"","",null,"",null,"",null,"",null,null,"","",null,"",null,"",null,"",null,null,"","",null,"",null,"",null,"",null,null,"","",null,"",null,"",null,"",null,null,"","",null,"",null,"",null,"",null,null,"","",null,"",null,"",null,"",null,null,"","",null,"",null,"",null,"",null,null,"","",null,"",null,"",null,""]
[58,{"$f":"IF(ISERROR(INDEX(WS,ROWS($A$1773:$A1830))),\"\",MID(INDEX(WS,ROWS($A$1773:$A1830)), FIND(\"]\",INDEX(WS,ROWS($A$1773:$A1830)))+1,32))&T(NOW())","v":""},"","",null,"",null,"",null,"",null,null,"","",null,"",null,"",null,"",null,null,"","",null,"",null,"",null,"",null,null,"","",null,"",null,"",null,"",null,null,"","",null,"",null,"",null,"",null,null,"","",null,"",null,"",null,"",null,null,"","",null,"",null,"",null,"",null,null,"","",null,"",null,"",null,"",null,null,"","",null,"",null,"",null,"",null,null,"","",null,"",null,"",null,"",null,null,"","",null,"",null,"",null,"",null,null,"","",null,"",null,"",null,"",null,null,"","",null,"",null,"",null,"",null,null,"","",null,"",null,"",null,"",null,null,"","",null,"",null,"",null,"",null,null,"","",null,"",null,"",null,"",null,null,"","",null,"",null,"",null,""]
[59,{"$f":"IF(ISERROR(INDEX(WS,ROWS($A$1773:$A1831))),\"\",MID(INDEX(WS,ROWS($A$1773:$A1831)), FIND(\"]\",INDEX(WS,ROWS($A$1773:$A1831)))+1,32))&T(NOW())","v":""},"","",null,"",null,"",null,"",null,null,"","",null,"",null,"",null,"",null,null,"","",null,"",null,"",null,"",null,null,"","",null,"",null,"",null,"",null,null,"","",null,"",null,"",null,"",null,null,"","",null,"",null,"",null,"",null,null,"","",null,"",null,"",null,"",null,null,"","",null,"",null,"",null,"",null,null,"","",null,"",null,"",null,"",null,null,"","",null,"",null,"",null,"",null,null,"","",null,"",null,"",null,"",null,null,"","",null,"",null,"",null,"",null,null,"","",null,"",null,"",null,"",null,null,"","",null,"",null,"",null,"",null,null,"","",null,"",null,"",null,"",null,null,"","",null,"",null,"",null,"",null,null,"","",null,"",null,"",null,""]
[60,{"$f":"IF(ISERROR(INDEX(WS,ROWS($A$1773:$A1832))),\"\",MID(INDEX(WS,ROWS($A$1773:$A1832)), FIND(\"]\",INDEX(WS,ROWS($A$1773:$A1832)))+1,32))&T(NOW())","v":""},"","",null,"",null,"",null,"",null,null,"","",null,"",null,"",null,"",null,null,"","",null,"",null,"",null,"",null,null,"","",null,"",null,"",null,"",null,null,"","",null,"",null,"",null,"",null,null,"","",null,"",null,"",null,"",null,null,"","",null,"",null,"",null,"",null,null,"","",null,"",null,"",null,"",null,null,"","",null,"",null,"",null,"",null,null,"","",null,"",null,"",null,"",null,null,"","",null,"",null,"",null,"",null,null,"","",null,"",null,"",null,"",null,null,"","",null,"",null,"",null,"",null,null,"","",null,"",null,"",null,"",null,null,"","",null,"",null,"",null,"",null,null,"","",null,"",null,"",null,"",null,null,"","",null,"",null,"",null,""]
[61,{"$f":"IF(ISERROR(INDEX(WS,ROWS($A$1773:$A1833))),\"\",MID(INDEX(WS,ROWS($A$1773:$A1833)), FIND(\"]\",INDEX(WS,ROWS($A$1773:$A1833)))+1,32))&T(NOW())","v":""},"","",null,"",null,"",null,"",null,null,"","",null,"",null,"",null,"",null,null,"","",null,"",null,"",null,"",null,null,"","",null,"",null,"",null,"",null,null,"","",null,"",null,"",null,"",null,null,"","",null,"",null,"",null,"",null,null,"","",null,"",null,"",null,"",null,null,"","",null,"",null,"",null,"",null,null,"","",null,"",null,"",null,"",null,null,"","",null,"",null,"",null,"",null,null,"","",null,"",null,"",null,"",null,null,"","",null,"",null,"",null,"",null,null,"","",null,"",null,"",null,"",null,null,"","",null,"",null,"",null,"",null,null,"","",null,"",null,"",null,"",null,null,"","",null,"",null,"",null,"",null,null,"","",null,"",null,"",null,""]
[62,{"$f":"IF(ISERROR(INDEX(WS,ROWS($A$1773:$A1834))),\"\",MID(INDEX(WS,ROWS($A$1773:$A1834)), FIND(\"]\",INDEX(WS,ROWS($A$1773:$A1834)))+1,32))&T(NOW())","v":""},"","",null,"",null,"",null,"",null,null,"","",null,"",null,"",null,"",null,null,"","",null,"",null,"",null,"",null,null,"","",null,"",null,"",null,"",null,null,"","",null,"",null,"",null,"",null,null,"","",null,"",null,"",null,"",null,null,"","",null,"",null,"",null,"",null,null,"","",null,"",null,"",null,"",null,null,"","",null,"",null,"",null,"",null,null,"","",null,"",null,"",null,"",null,null,"","",null,"",null,"",null,"",null,null,"","",null,"",null,"",null,"",null,null,"","",null,"",null,"",null,"",null,null,"","",null,"",null,"",null,"",null,null,"","",null,"",null,"",null,"",null,null,"","",null,"",null,"",null,"",null,null,"","",null,"",null,"",null,""]
[63,{"$f":"IF(ISERROR(INDEX(WS,ROWS($A$1773:$A1835))),\"\",MID(INDEX(WS,ROWS($A$1773:$A1835)), FIND(\"]\",INDEX(WS,ROWS($A$1773:$A1835)))+1,32))&T(NOW())","v":""},"","",null,"",null,"",null,"",null,null,"","",null,"",null,"",null,"",null,null,"","",null,"",null,"",null,"",null,null,"","",null,"",null,"",null,"",null,null,"","",null,"",null,"",null,"",null,null,"","",null,"",null,"",null,"",null,null,"","",null,"",null,"",null,"",null,null,"","",null,"",null,"",null,"",null,null,"","",null,"",null,"",null,"",null,null,"","",null,"",null,"",null,"",null,null,"","",null,"",null,"",null,"",null,null,"","",null,"",null,"",null,"",null,null,"","",null,"",null,"",null,"",null,null,"","",null,"",null,"",null,"",null,null,"","",null,"",null,"",null,"",null,null,"","",null,"",null,"",null,"",null,null,"","",null,"",null,"",null,""]
[64,{"$f":"IF(ISERROR(INDEX(WS,ROWS($A$1773:$A1836))),\"\",MID(INDEX(WS,ROWS($A$1773:$A1836)), FIND(\"]\",INDEX(WS,ROWS($A$1773:$A1836)))+1,32))&T(NOW())","v":""},"","",null,"",null,"",null,"",null,null,"","",null,"",null,"",null,"",null,null,"","",null,"",null,"",null,"",null,null,"","",null,"",null,"",null,"",null,null,"","",null,"",null,"",null,"",null,null,"","",null,"",null,"",null,"",null,null,"","",null,"",null,"",null,"",null,null,"","",null,"",null,"",null,"",null,null,"","",null,"",null,"",null,"",null,null,"","",null,"",null,"",null,"",null,null,"","",null,"",null,"",null,"",null,null,"","",null,"",null,"",null,"",null,null,"","",null,"",null,"",null,"",null,null,"","",null,"",null,"",null,"",null,null,"","",null,"",null,"",null,"",null,null,"","",null,"",null,"",null,"",null,null,"","",null,"",null,"",null,""]
[65,{"$f":"IF(ISERROR(INDEX(WS,ROWS($A$1773:$A1837))),\"\",MID(INDEX(WS,ROWS($A$1773:$A1837)), FIND(\"]\",INDEX(WS,ROWS($A$1773:$A1837)))+1,32))&T(NOW())","v":""},{"$f":"IF($B1837<>\"\",INDIRECT(\"'\"&$B1837&\"'\"&\"!y3\"),\"\")","v":""},"",null,"",null,"",null,"",null,null,"","",null,"",null,"",null,"",null,null,"","",null,"",null,"",null,"",null,null,"","",null,"",null,"",null,"",null,null,"","",null,"",null,"",null,"",null,null,"","",null,"",null,"",null,"",null,null,"","",null,"",null,"",null,"",null,null,"","",null,"",null,"",null,"",null,null,"","",null,"",null,"",null,"",null,null,"","",null,"",null,"",null,"",null,null,"","",null,"",null,"",null,"",null,null,"","",null,"",null,"",null,"",null,null,"","",null,"",null,"",null,"",null,null,"","",null,"",null,"",null,"",null,null,"","",null,"",null,"",null,"",null,null,"","",null,"",null,"",null,"",null,null,"","",null,"",null,"",null,""]
[66,{"$f":"IF(ISERROR(INDEX(WS,ROWS($A$1773:$A1838))),\"\",MID(INDEX(WS,ROWS($A$1773:$A1838)), FIND(\"]\",INDEX(WS,ROWS($A$1773:$A1838)))+1,32))&T(NOW())","v":""},"",{"$f":"IF($B1838<>\"\",INDIRECT(\"'\"&$B1838&\"'\"&\"!z3\"),\"\")","v":""},null,{"$f":"IF($B1838<>\"\",INDIRECT(\"'\"&$B1838&\"'\"&\"!ab3\"),\"\")","v":""},null,{"$f":"IF($B1838<>\"\",INDIRECT(\"'\"&$B1838&\"'\"&\"!ad3\"),\"\")","v":""},null,{"$f":"IF($B1838<>\"\",INDIRECT(\"'\"&$B1838&\"'\"&\"!af3\"),\"\")","v":""},null,null,{"$f":"IF($B1838<>\"\",INDIRECT(\"'\"&$B1838&\"'\"&\"!y4\"),\"\")","v":""},{"$f":"IF($B1838<>\"\",INDIRECT(\"'\"&$B1838&\"'\"&\"!z4\"),\"\")","v":""},null,{"$f":"IF($B1838<>\"\",INDIRECT(\"'\"&$B1838&\"'\"&\"!ab4\"),\"\")","v":""},null,{"$f":"IF($B1838<>\"\",INDIRECT(\"'\"&$B1838&\"'\"&\"!ad4\"),\"\")","v":""},null,{"$f":"IF($B1838<>\"\",INDIRECT(\"'\"&$B1838&\"'\"&\"!af4\"),\"\")","v":""},null,null,{"$f":"IF($B1838<>\"\",INDIRECT(\"'\"&$B1838&\"'\"&\"!y5\"),\"\")","v":""},{"$f":"IF($B1838<>\"\",INDIRECT(\"'\"&$B1838&\"'\"&\"!z5\"),\"\")","v":""},null,{"$f":"IF($B1838<>\"\",INDIRECT(\"'\"&$B1838&\"'\"&\"!ab5\"),\"\")","v":""},null,{"$f":"IF($B1838<>\"\",INDIRECT(\"'\"&$B1838&\"'\"&\"!ad5\"),\"\")","v":""},null,{"$f":"IF($B1838<>\"\",INDIRECT(\"'\"&$B1838&\"'\"&\"!af5\"),\"\")","v":""},null,null,{"$f":"IF($B1838<>\"\",INDIRECT(\"'\"&$B1838&\"'\"&\"!y6\"),\"\")","v":""},{"$f":"IF($B1838<>\"\",INDIRECT(\"'\"&$B1838&\"'\"&\"!z6\"),\"\")","v":""},null,{"$f":"IF($B1838<>\"\",INDIRECT(\"'\"&$B1838&\"'\"&\"!ab6\"),\"\")","v":""},null,{"$f":"IF($B1838<>\"\",INDIRECT(\"'\"&$B1838&\"'\"&\"!ad6\"),\"\")","v":""},null,{"$f":"IF($B1838<>\"\",INDIRECT(\"'\"&$B1838&\"'\"&\"!af6\"),\"\")","v":""},null,null,{"$f":"IF($B1838<>\"\",INDIRECT(\"'\"&$B1838&\"'\"&\"!y7\"),\"\")","v":""},{"$f":"IF($B1838<>\"\",INDIRECT(\"'\"&$B1838&\"'\"&\"!z7\"),\"\")","v":""},null,{"$f":"IF($B1838<>\"\",INDIRECT(\"'\"&$B1838&\"'\"&\"!ab7\"),\"\")","v":""},null,{"$f":"IF($B1838<>\"\",INDIRECT(\"'\"&$B1838&\"'\"&\"!ad7\"),\"\")","v":""},null,{"$f":"IF($B1838<>\"\",INDIRECT(\"'\"&$B1838&\"'\"&\"!af7\"),\"\")","v":""},null,null,{"$f":"IF($B1838<>\"\",INDIRECT(\"'\"&$B1838&\"'\"&\"!y8\"),\"\")","v":""},{"$f":"IF($B1838<>\"\",INDIRECT(\"'\"&$B1838&\"'\"&\"!z8\"),\"\")","v":""},null,{"$f":"IF($B1838<>\"\",INDIRECT(\"'\"&$B1838&\"'\"&\"!ab8\"),\"\")","v":""},null,{"$f":"IF($B1838<>\"\",INDIRECT(\"'\"&$B1838&\"'\"&\"!ad8\"),\"\")","v":""},null,{"$f":"IF($B1838<>\"\",INDIRECT(\"'\"&$B1838&\"'\"&\"!af8\"),\"\")","v":""},null,null,{"$f":"IF($B1838<>\"\",INDIRECT(\"'\"&$B1838&\"'\"&\"!y9\"),\"\")","v":""},{"$f":"IF($B1838<>\"\",INDIRECT(\"'\"&$B1838&\"'\"&\"!z9\"),\"\")","v":""},null,{"$f":"IF($B1838<>\"\",INDIRECT(\"'\"&$B1838&\"'\"&\"!ab9\"),\"\")","v":""},null,{"$f":"IF($B1838<>\"\",INDIRECT(\"'\"&$B1838&\"'\"&\"!ad9\"),\"\")","v":""},null,{"$f":"IF($B1838<>\"\",INDIRECT(\"'\"&$B1838&\"'\"&\"!af9\"),\"\")","v":""},null,null,{"$f":"IF($B1838<>\"\",INDIRECT(\"'\"&$B1838&\"'\"&\"!y10\"),\"\")","v":""},{"$f":"IF($B1838<>\"\",INDIRECT(\"'\"&$B1838&\"'\"&\"!z10\"),\"\")","v":""},null,{"$f":"IF($B1838<>\"\",INDIRECT(\"'\"&$B1838&\"'\"&\"!ab10\"),\"\")","v":""},null,{"$f":"IF($B1838<>\"\",INDIRECT(\"'\"&$B1838&\"'\"&\"!ad10\"),\"\")","v":""},null,{"$f":"IF($B1838<>\"\",INDIRECT(\"'\"&$B1838&\"'\"&\"!af10\"),\"\")","v":""},null,null,{"$f":"IF($B1838<>\"\",INDIRECT(\"'\"&$B1838&\"'\"&\"!y11\"),\"\")","v":""},{"$f":"IF($B1838<>\"\",INDIRECT(\"'\"&$B1838&\"'\"&\"!z11\"),\"\")","v":""},null,{"$f":"IF($B1838<>\"\",INDIRECT(\"'\"&$B1838&\"'\"&\"!ab11\"),\"\")","v":""},null,{"$f":"IF($B1838<>\"\",INDIRECT(\"'\"&$B1838&\"'\"&\"!ad11\"),\"\")","v":""},null,{"$f":"IF($B1838<>\"\",INDIRECT(\"'\"&$B1838&\"'\"&\"!af11\"),\"\")","v":""},null,null,{"$f":"IF($B1838<>\"\",INDIRECT(\"'\"&$B1838&\"'\"&\"!y12\"),\"\")","v":""},{"$f":"IF($B1838<>\"\",INDIRECT(\"'\"&$B1838&\"'\"&\"!z12\"),\"\")","v":""},null,{"$f":"IF($B1838<>\"\",INDIRECT(\"'\"&$B1838&\"'\"&\"!ab12\"),\"\")","v":""},null,{"$f":"IF($B1838<>\"\",INDIRECT(\"'\"&$B1838&\"'\"&\"!ad12\"),\"\")","v":""},null,{"$f":"IF($B1838<>\"\",INDIRECT(\"'\"&$B1838&\"'\"&\"!af12\"),\"\")","v":""},null,null,{"$f":"IF($B1838<>\"\",INDIRECT(\"'\"&$B1838&\"'\"&\"!y13\"),\"\")","v":""},{"$f":"IF($B1838<>\"\",INDIRECT(\"'\"&$B1838&\"'\"&\"!z13\"),\"\")","v":""},null,{"$f":"IF($B1838<>\"\",INDIRECT(\"'\"&$B1838&\"'\"&\"!ab13\"),\"\")","v":""},null,{"$f":"IF($B1838<>\"\",INDIRECT(\"'\"&$B1838&\"'\"&\"!ad13\"),\"\")","v":""},null,{"$f":"IF($B1838<>\"\",INDIRECT(\"'\"&$B1838&\"'\"&\"!af13\"),\"\")","v":""},null,null,{"$f":"IF($B1838<>\"\",INDIRECT(\"'\"&$B1838&\"'\"&\"!y14\"),\"\")","v":""},{"$f":"IF($B1838<>\"\",INDIRECT(\"'\"&$B1838&\"'\"&\"!z14\"),\"\")","v":""},null,{"$f":"IF($B1838<>\"\",INDIRECT(\"'\"&$B1838&\"'\"&\"!ab14\"),\"\")","v":""},null,{"$f":"IF($B1838<>\"\",INDIRECT(\"'\"&$B1838&\"'\"&\"!ad14\"),\"\")","v":""},null,{"$f":"IF($B1838<>\"\",INDIRECT(\"'\"&$B1838&\"'\"&\"!af14\"),\"\")","v":""},null,null,{"$f":"IF($B1838<>\"\",INDIRECT(\"'\"&$B1838&\"'\"&\"!y15\"),\"\")","v":""},{"$f":"IF($B1838<>\"\",INDIRECT(\"'\"&$B1838&\"'\"&\"!z15\"),\"\")","v":""},null,{"$f":"IF($B1838<>\"\",INDIRECT(\"'\"&$B1838&\"'\"&\"!ab15\"),\"\")","v":""},null,{"$f":"IF($B1838<>\"\",INDIRECT(\"'\"&$B1838&\"'\"&\"!ad15\"),\"\")","v":""},null,{"$f":"IF($B1838<>\"\",INDIRECT(\"'\"&$B1838&\"'\"&\"!af15\"),\"\")","v":""},null,null,{"$f":"IF($B1838<>\"\",INDIRECT(\"'\"&$B1838&\"'\"&\"!y16\"),\"\")","v":""},{"$f":"IF($B1838<>\"\",INDIRECT(\"'\"&$B1838&\"'\"&\"!z16\"),\"\")","v":""},null,{"$f":"IF($B1838<>\"\",INDIRECT(\"'\"&$B1838&\"'\"&\"!ab16\"),\"\")","v":""},null,{"$f":"IF($B1838<>\"\",INDIRECT(\"'\"&$B1838&\"'\"&\"!ad16\"),\"\")","v":""},null,{"$f":"IF($B1838<>\"\",INDIRECT(\"'\"&$B1838&\"'\"&\"!af16\"),\"\")","v":""},null,null,{"$f":"IF($B1838<>\"\",INDIRECT(\"'\"&$B1838&\"'\"&\"!y17\"),\"\")","v":""},{"$f":"IF($B1838<>\"\",INDIRECT(\"'\"&$B1838&\"'\"&\"!z17\"),\"\")","v":""},null,{"$f":"IF($B1838<>\"\",INDIRECT(\"'\"&$B1838&\"'\"&\"!ab17\"),\"\")","v":""},null,{"$f":"IF($B1838<>\"\",INDIRECT(\"'\"&$B1838&\"'\"&\"!ad17\"),\"\")","v":""},null,{"$f":"IF($B1838<>\"\",INDIRECT(\"'\"&$B1838&\"'\"&\"!af17\"),\"\")","v":""},null,null,{"$f":"IF($B1838<>\"\",INDIRECT(\"'\"&$B1838&\"'\"&\"!y18\"),\"\")","v":""},{"$f":"IF($B1838<>\"\",INDIRECT(\"'\"&$B1838&\"'\"&\"!z18\"),\"\")","v":""},null,{"$f":"IF($B1838<>\"\",INDIRECT(\"'\"&$B1838&\"'\"&\"!ab18\"),\"\")","v":""},null,{"$f":"IF($B1838<>\"\",INDIRECT(\"'\"&$B1838&\"'\"&\"!ad18\"),\"\")","v":""},null,{"$f":"IF($B1838<>\"\",INDIRECT(\"'\"&$B1838&\"'\"&\"!af18\"),\"\")","v":""},null,null,{"$f":"IF($B1838<>\"\",INDIRECT(\"'\"&$B1838&\"'\"&\"!y19\"),\"\")","v":""},{"$f":"IF($B1838<>\"\",INDIRECT(\"'\"&$B1838&\"'\"&\"!z19\"),\"\")","v":""},null,{"$f":"IF($B1838<>\"\",INDIRECT(\"'\"&$B1838&\"'\"&\"!ab19\"),\"\")","v":""},null,{"$f":"IF($B1838<>\"\",INDIRECT(\"'\"&$B1838&\"'\"&\"!ad19\"),\"\")","v":""},null,{"$f":"IF($B1838<>\"\",INDIRECT(\"'\"&$B1838&\"'\"&\"!af19\"),\"\")","v":""}]
[67,{"$f":"IF(ISERROR(INDEX(WS,ROWS($A$1773:$A1839))),\"\",MID(INDEX(WS,ROWS($A$1773:$A1839)), FIND(\"]\",INDEX(WS,ROWS($A$1773:$A1839)))+1,32))&T(NOW())","v":""},"","",null,"",null,"",null,"",null,null,"","",null,"",null,"",null,"",null,null,"","",null,"",null,"",null,"",null,null,"","",null,"",null,"",null,"",null,null,"","",null,"",null,"",null,"",null,null,"","",null,"",null,"",null,"",null,null,"","",null,"",null,"",null,"",null,null,"","",null,"",null,"",null,"",null,null,"","",null,"",null,"",null,"",null,null,"","",null,"",null,"",null,"",null,null,"","",null,"",null,"",null,"",null,null,"","",null,"",null,"",null,"",null,null,"","",null,"",null,"",null,"",null,null,"","",null,"",null,"",null,"",null,null,"","",null,"",null,"",null,"",null,null,"","",null,"",null,"",null,"",null,null,"","",null,"",null,"",null,""]
[68,{"$f":"IF(ISERROR(INDEX(WS,ROWS($A$1773:$A1840))),\"\",MID(INDEX(WS,ROWS($A$1773:$A1840)), FIND(\"]\",INDEX(WS,ROWS($A$1773:$A1840)))+1,32))&T(NOW())","v":""},"","",null,"",null,"",null,"",null,null,"","",null,"",null,"",null,"",null,null,"","",null,"",null,"",null,"",null,null,"","",null,"",null,"",null,"",null,null,"","",null,"",null,"",null,"",null,null,"","",null,"",null,"",null,"",null,null,"","",null,"",null,"",null,"",null,null,"","",null,"",null,"",null,"",null,null,"","",null,"",null,"",null,"",null,null,"","",null,"",null,"",null,"",null,null,"","",null,"",null,"",null,"",null,null,"","",null,"",null,"",null,"",null,null,"","",null,"",null,"",null,"",null,null,"","",null,"",null,"",null,"",null,null,"","",null,"",null,"",null,"",null,null,"","",null,"",null,"",null,"",null,null,"","",null,"",null,"",null,""]
[69,{"$f":"IF(ISERROR(INDEX(WS,ROWS($A$1773:$A1841))),\"\",MID(INDEX(WS,ROWS($A$1773:$A1841)), FIND(\"]\",INDEX(WS,ROWS($A$1773:$A1841)))+1,32))&T(NOW())","v":""},"","",null,"",null,"",null,"",null,null,"","",null,"",null,"",null,"",null,null,"","",null,"",null,"",null,"",null,null,"","",null,"",null,"",null,"",null,null,"","",null,"",null,"",null,"",null,null,"","",null,"",null,"",null,"",null,null,"","",null,"",null,"",null,"",null,null,"","",null,"",null,"",null,"",null,null,"","",null,"",null,"",null,"",null,null,"","",null,"",null,"",null,"",null,null,"","",null,"",null,"",null,"",null,null,"","",null,"",null,"",null,"",null,null,"","",null,"",null,"",null,"",null,null,"","",null,"",null,"",null,"",null,null,"","",null,"",null,"",null,"",null,null,"","",null,"",null,"",null,"",null,null,"","",null,"",null,"",null,""]
[70,{"$f":"IF(ISERROR(INDEX(WS,ROWS($A$1773:$A1842))),\"\",MID(INDEX(WS,ROWS($A$1773:$A1842)), FIND(\"]\",INDEX(WS,ROWS($A$1773:$A1842)))+1,32))&T(NOW())","v":""},"","",null,"",null,"",null,"",null,null,"","",null,"",null,"",null,"",null,null,"","",null,"",null,"",null,"",null,null,"","",null,"",null,"",null,"",null,null,"","",null,"",null,"",null,"",null,null,"","",null,"",null,"",null,"",null,null,"","",null,"",null,"",null,"",null,null,"","",null,"",null,"",null,"",null,null,"","",null,"",null,"",null,"",null,null,"","",null,"",null,"",null,"",null,null,"","",null,"",null,"",null,"",null,null,"","",null,"",null,"",null,"",null,null,"","",null,"",null,"",null,"",null,null,"","",null,"",null,"",null,"",null,null,"","",null,"",null,"",null,"",null,null,"","",null,"",null,"",null,"",null,null,"","",null,"",null,"",null,""]
[71,{"$f":"IF(ISERROR(INDEX(WS,ROWS($A$1773:$A1843))),\"\",MID(INDEX(WS,ROWS($A$1773:$A1843)), FIND(\"]\",INDEX(WS,ROWS($A$1773:$A1843)))+1,32))&T(NOW())","v":""},"","",null,"",null,"",null,"",null,null,"","",null,"",null,"",null,"",null,null,"","",null,"",null,"",null,"",null,null,"","",null,"",null,"",null,"",null,null,"","",null,"",null,"",null,"",null,null,"","",null,"",null,"",null,"",null,null,"","",null,"",null,"",null,"",null,null,"","",null,"",null,"",null,"",null,null,"","",null,"",null,"",null,"",null,null,"","",null,"",null,"",null,"",null,null,"","",null,"",null,"",null,"",null,null,"","",null,"",null,"",null,"",null,null,"","",null,"",null,"",null,"",null,null,"","",null,"",null,"",null,"",null,null,"","",null,"",null,"",null,"",null,null,"","",null,"",null,"",null,"",null,null,"","",null,"",null,"",null,""]
[72,{"$f":"IF(ISERROR(INDEX(WS,ROWS($A$1773:$A1844))),\"\",MID(INDEX(WS,ROWS($A$1773:$A1844)), FIND(\"]\",INDEX(WS,ROWS($A$1773:$A1844)))+1,32))&T(NOW())","v":""},"","",null,"",null,"",null,"",null,null,"","",null,"",null,"",null,"",null,null,"","",null,"",null,"",null,"",null,null,"","",null,"",null,"",null,"",null,null,"","",null,"",null,"",null,"",null,null,"","",null,"",null,"",null,"",null,null,"","",null,"",null,"",null,"",null,null,"","",null,"",null,"",null,"",null,null,"","",null,"",null,"",null,"",null,null,"","",null,"",null,"",null,"",null,null,"","",null,"",null,"",null,"",null,null,"","",null,"",null,"",null,"",null,null,"","",null,"",null,"",null,"",null,null,"","",null,"",null,"",null,"",null,null,"","",null,"",null,"",null,"",null,null,"","",null,"",null,"",null,"",null,null,"","",null,"",null,"",null,""]
[73,{"$f":"IF(ISERROR(INDEX(WS,ROWS($A$1773:$A1845))),\"\",MID(INDEX(WS,ROWS($A$1773:$A1845)), FIND(\"]\",INDEX(WS,ROWS($A$1773:$A1845)))+1,32))&T(NOW())","v":""},"","",null,"",null,"",null,"",null,null,"","",null,"",null,"",null,"",null,null,"","",null,"",null,"",null,"",null,null,"","",null,"",null,"",null,"",null,null,"","",null,"",null,"",null,"",null,null,"","",null,"",null,"",null,"",null,null,"","",null,"",null,"",null,"",null,null,"","",null,"",null,"",null,"",null,null,"","",null,"",null,"",null,"",null,null,"","",null,"",null,"",null,"",null,null,"","",null,"",null,"",null,"",null,null,"","",null,"",null,"",null,"",null,null,"","",null,"",null,"",null,"",null,null,"","",null,"",null,"",null,"",null,null,"","",null,"",null,"",null,"",null,null,"","",null,"",null,"",null,"",null,null,"","",null,"",null,"",null,""]
[74,{"$f":"IF(ISERROR(INDEX(WS,ROWS($A$1773:$A1846))),\"\",MID(INDEX(WS,ROWS($A$1773:$A1846)), FIND(\"]\",INDEX(WS,ROWS($A$1773:$A1846)))+1,32))&T(NOW())","v":""},"","",null,"",null,"",null,"",null,null,"","",null,"",null,"",null,"",null,null,"","",null,"",null,"",null,"",null,null,"","",null,"",null,"",null,"",null,null,"","",null,"",null,"",null,"",null,null,"","",null,"",null,"",null,"",null,null,"","",null,"",null,"",null,"",null,null,"","",null,"",null,"",null,"",null,null,"","",null,"",null,"",null,"",null,null,"","",null,"",null,"",null,"",null,null,"","",null,"",null,"",null,"",null,null,"","",null,"",null,"",null,"",null,null,"","",null,"",null,"",null,"",null,null,"","",null,"",null,"",null,"",null,null,"","",null,"",null,"",null,"",null,null,"","",null,"",null,"",null,"",null,null,"","",null,"",null,"",null,""]
[75,{"$f":"IF(ISERROR(INDEX(WS,ROWS($A$1773:$A1847))),\"\",MID(INDEX(WS,ROWS($A$1773:$A1847)), FIND(\"]\",INDEX(WS,ROWS($A$1773:$A1847)))+1,32))&T(NOW())","v":""},"","",null,"",null,"",null,"",null,null,"","",null,"",null,"",null,"",null,null,"","",null,"",null,"",null,"",null,null,"","",null,"",null,"",null,"",null,null,"","",null,"",null,"",null,"",null,null,"","",null,"",null,"",null,"",null,null,"","",null,"",null,"",null,"",null,null,"","",null,"",null,"",null,"",null,null,"","",null,"",null,"",null,"",null,null,"","",null,"",null,"",null,"",null,null,"","",null,"",null,"",null,"",null,null,"","",null,"",null,"",null,"",null,null,"","",null,"",null,"",null,"",null,null,"","",null,"",null,"",null,"",null,null,"","",null,"",null,"",null,"",null,null,"","",null,"",null,"",null,"",null,null,"","",null,"",null,"",null,""]
[76,{"$f":"IF(ISERROR(INDEX(WS,ROWS($A$1773:$A1848))),\"\",MID(INDEX(WS,ROWS($A$1773:$A1848)), FIND(\"]\",INDEX(WS,ROWS($A$1773:$A1848)))+1,32))&T(NOW())","v":""},"","",null,"",null,"",null,"",null,null,"","",null,"",null,"",null,"",null,null,"","",null,"",null,"",null,"",null,null,"","",null,"",null,"",null,"",null,null,"","",null,"",null,"",null,"",null,null,"","",null,"",null,"",null,"",null,null,"","",null,"",null,"",null,"",null,null,"","",null,"",null,"",null,"",null,null,"","",null,"",null,"",null,"",null,null,"","",null,"",null,"",null,"",null,null,"","",null,"",null,"",null,"",null,null,"","",null,"",null,"",null,"",null,null,"","",null,"",null,"",null,"",null,null,"","",null,"",null,"",null,"",null,null,"","",null,"",null,"",null,"",null,null,"","",null,"",null,"",null,"",null,null,"","",null,"",null,"",null,""]
[77,{"$f":"IF(ISERROR(INDEX(WS,ROWS($A$1773:$A1849))),\"\",MID(INDEX(WS,ROWS($A$1773:$A1849)), FIND(\"]\",INDEX(WS,ROWS($A$1773:$A1849)))+1,32))&T(NOW())","v":""},"","",null,"",null,"",null,"",null,null,"","",null,"",null,"",null,"",null,null,"","",null,"",null,"",null,"",null,null,"","",null,"",null,"",null,"",null,null,"","",null,"",null,"",null,"",null,null,"","",null,"",null,"",null,"",null,null,"","",null,"",null,"",null,"",null,null,"","",null,"",null,"",null,"",null,null,"","",null,"",null,"",null,"",null,null,"","",null,"",null,"",null,"",null,null,"","",null,"",null,"",null,"",null,null,"","",null,"",null,"",null,"",null,null,"","",null,"",null,"",null,"",null,null,"","",null,"",null,"",null,"",null,null,"","",null,"",null,"",null,"",null,null,"","",null,"",null,"",null,"",null,null,"","",null,"",null,"",null,""]
[78,{"$f":"IF(ISERROR(INDEX(WS,ROWS($A$1773:$A1850))),\"\",MID(INDEX(WS,ROWS($A$1773:$A1850)), FIND(\"]\",INDEX(WS,ROWS($A$1773:$A1850)))+1,32))&T(NOW())","v":""},"","",null,"",null,"",null,"",null,null,"","",null,"",null,"",null,"",null,null,"","",null,"",null,"",null,"",null,null,"","",null,"",null,"",null,"",null,null,"","",null,"",null,"",null,"",null,null,"","",null,"",null,"",null,"",null,null,"","",null,"",null,"",null,"",null,null,"","",null,"",null,"",null,"",null,null,"","",null,"",null,"",null,"",null,null,"","",null,"",null,"",null,"",null,null,"","",null,"",null,"",null,"",null,null,"","",null,"",null,"",null,"",null,null,"","",null,"",null,"",null,"",null,null,"","",null,"",null,"",null,"",null,null,"","",null,"",null,"",null,"",null,null,"","",null,"",null,"",null,"",null,null,"","",null,"",null,"",null,""]
[79,{"$f":"IF(ISERROR(INDEX(WS,ROWS($A$1773:$A1851))),\"\",MID(INDEX(WS,ROWS($A$1773:$A1851)), FIND(\"]\",INDEX(WS,ROWS($A$1773:$A1851)))+1,32))&T(NOW())","v":""},"","",null,"",null,"",null,"",null,null,"","",null,"",null,"",null,"",null,null,"","",null,"",null,"",null,"",null,null,"","",null,"",null,"",null,"",null,null,"","",null,"",null,"",null,"",null,null,"","",null,"",null,"",null,"",null,null,"","",null,"",null,"",null,"",null,null,"","",null,"",null,"",null,"",null,null,"","",null,"",null,"",null,"",null,null,"","",null,"",null,"",null,"",null,null,"","",null,"",null,"",null,"",null,null,"","",null,"",null,"",null,"",null,null,"","",null,"",null,"",null,"",null,null,"","",null,"",null,"",null,"",null,null,"","",null,"",null,"",null,"",null,null,"","",null,"",null,"",null,"",null,null,"","",null,"",null,"",null,""]
[80,{"$f":"IF(ISERROR(INDEX(WS,ROWS($A$1773:$A1852))),\"\",MID(INDEX(WS,ROWS($A$1773:$A1852)), FIND(\"]\",INDEX(WS,ROWS($A$1773:$A1852)))+1,32))&T(NOW())","v":""},"","",null,"",null,"",null,"",null,null,"","",null,"",null,"",null,"",null,null,"","",null,"",null,"",null,"",null,null,"","",null,"",null,"",null,"",null,null,"","",null,"",null,"",null,"",null,null,"","",null,"",null,"",null,"",null,null,"","",null,"",null,"",null,"",null,null,"","",null,"",null,"",null,"",null,null,"","",null,"",null,"",null,"",null,null,"","",null,"",null,"",null,"",null,null,"","",null,"",null,"",null,"",null,null,"","",null,"",null,"",null,"",null,null,"","",null,"",null,"",null,"",null,null,"","",null,"",null,"",null,"",null,null,"","",null,"",null,"",null,"",null,null,"","",null,"",null,"",null,"",null,null,"","",null,"",null,"",null,""]
[81,{"$f":"IF(ISERROR(INDEX(WS,ROWS($A$1773:$A1853))),\"\",MID(INDEX(WS,ROWS($A$1773:$A1853)), FIND(\"]\",INDEX(WS,ROWS($A$1773:$A1853)))+1,32))&T(NOW())","v":""},"","",null,"",null,"",null,"",null,null,"","",null,"",null,"",null,"",null,null,"","",null,"",null,"",null,"",null,null,"","",null,"",null,"",null,"",null,null,"","",null,"",null,"",null,"",null,null,"","",null,"",null,"",null,"",null,null,"","",null,"",null,"",null,"",null,null,"","",null,"",null,"",null,"",null,null,"","",null,"",null,"",null,"",null,null,"","",null,"",null,"",null,"",null,null,"","",null,"",null,"",null,"",null,null,"","",null,"",null,"",null,"",null,null,"","",null,"",null,"",null,"",null,null,"","",null,"",null,"",null,"",null,null,"","",null,"",null,"",null,"",null,null,"","",null,"",null,"",null,"",null,null,"","",null,"",null,"",null,""]
[82,{"$f":"IF(ISERROR(INDEX(WS,ROWS($A$1773:$A1854))),\"\",MID(INDEX(WS,ROWS($A$1773:$A1854)), FIND(\"]\",INDEX(WS,ROWS($A$1773:$A1854)))+1,32))&T(NOW())","v":""},"","",null,"",null,"",null,"",null,null,"","",null,"",null,"",null,"",null,null,"","",null,"",null,"",null,"",null,null,"","",null,"",null,"",null,"",null,null,"","",null,"",null,"",null,"",null,null,"","",null,"",null,"",null,"",null,null,"","",null,"",null,"",null,"",null,null,"","",null,"",null,"",null,"",null,null,"","",null,"",null,"",null,"",null,null,"","",null,"",null,"",null,"",null,null,"","",null,"",null,"",null,"",null,null,"","",null,"",null,"",null,"",null,null,"","",null,"",null,"",null,"",null,null,"","",null,"",null,"",null,"",null,null,"","",null,"",null,"",null,"",null,null,"","",null,"",null,"",null,"",null,null,"","",null,"",null,"",null,""]
[83,{"$f":"IF(ISERROR(INDEX(WS,ROWS($A$1773:$A1855))),\"\",MID(INDEX(WS,ROWS($A$1773:$A1855)), FIND(\"]\",INDEX(WS,ROWS($A$1773:$A1855)))+1,32))&T(NOW())","v":""},"","",null,"",null,"",null,"",null,null,"","",null,"",null,"",null,"",null,null,"","",null,"",null,"",null,"",null,null,"","",null,"",null,"",null,"",null,null,"","",null,"",null,"",null,"",null,null,"","",null,"",null,"",null,"",null,null,"","",null,"",null,"",null,"",null,null,"","",null,"",null,"",null,"",null,null,"","",null,"",null,"",null,"",null,null,"","",null,"",null,"",null,"",null,null,"","",null,"",null,"",null,"",null,null,"","",null,"",null,"",null,"",null,null,"","",null,"",null,"",null,"",null,null,"","",null,"",null,"",null,"",null,null,"","",null,"",null,"",null,"",null,null,"","",null,"",null,"",null,"",null,null,"","",null,"",null,"",null,""]
[84,{"$f":"IF(ISERROR(INDEX(WS,ROWS($A$1773:$A1856))),\"\",MID(INDEX(WS,ROWS($A$1773:$A1856)), FIND(\"]\",INDEX(WS,ROWS($A$1773:$A1856)))+1,32))&T(NOW())","v":""},"","",null,"",null,"",null,"",null,null,"","",null,"",null,"",null,"",null,null,"","",null,"",null,"",null,"",null,null,"","",null,"",null,"",null,"",null,null,"","",null,"",null,"",null,"",null,null,"","",null,"",null,"",null,"",null,null,"","",null,"",null,"",null,"",null,null,"","",null,"",null,"",null,"",null,null,"","",null,"",null,"",null,"",null,null,"","",null,"",null,"",null,"",null,null,"","",null,"",null,"",null,"",null,null,"","",null,"",null,"",null,"",null,null,"","",null,"",null,"",null,"",null,null,"","",null,"",null,"",null,"",null,null,"","",null,"",null,"",null,"",null,null,"","",null,"",null,"",null,"",null,null,"","",null,"",null,"",null,""]
[85,{"$f":"IF(ISERROR(INDEX(WS,ROWS($A$1773:$A1857))),\"\",MID(INDEX(WS,ROWS($A$1773:$A1857)), FIND(\"]\",INDEX(WS,ROWS($A$1773:$A1857)))+1,32))&T(NOW())","v":""},"","",null,"",null,"",null,"",null,null,"","",null,"",null,"",null,"",null,null,"","",null,"",null,"",null,"",null,null,"","",null,"",null,"",null,"",null,null,"","",null,"",null,"",null,"",null,null,"","",null,"",null,"",null,"",null,null,"","",null,"",null,"",null,"",null,null,"","",null,"",null,"",null,"",null,null,"","",null,"",null,"",null,"",null,null,"","",null,"",null,"",null,"",null,null,"","",null,"",null,"",null,"",null,null,"","",null,"",null,"",null,"",null,null,"","",null,"",null,"",null,"",null,null,"","",null,"",null,"",null,"",null,null,"","",null,"",null,"",null,"",null,null,"","",null,"",null,"",null,"",null,null,"","",null,"",null,"",null,""]
[86,{"$f":"IF(ISERROR(INDEX(WS,ROWS($A$1773:$A1858))),\"\",MID(INDEX(WS,ROWS($A$1773:$A1858)), FIND(\"]\",INDEX(WS,ROWS($A$1773:$A1858)))+1,32))&T(NOW())","v":""},"","",null,"",null,"",null,"",null,null,"","",null,"",null,"",null,"",null,null,"","",null,"",null,"",null,"",null,null,"","",null,"",null,"",null,"",null,null,"","",null,"",null,"",null,"",null,null,"","",null,"",null,"",null,"",null,null,"","",null,"",null,"",null,"",null,null,"","",null,"",null,"",null,"",null,null,"","",null,"",null,"",null,"",null,null,"","",null,"",null,"",null,"",null,null,"","",null,"",null,"",null,"",null,null,"","",null,"",null,"",null,"",null,null,"","",null,"",null,"",null,"",null,null,"","",null,"",null,"",null,"",null,null,"","",null,"",null,"",null,"",null,null,"","",null,"",null,"",null,"",null,null,"","",null,"",null,"",null,""]
[87,{"$f":"IF(ISERROR(INDEX(WS,ROWS($A$1773:$A1859))),\"\",MID(INDEX(WS,ROWS($A$1773:$A1859)), FIND(\"]\",INDEX(WS,ROWS($A$1773:$A1859)))+1,32))&T(NOW())","v":""},"","",null,"",null,"",null,"",null,null,"","",null,"",null,"",null,"",null,null,"","",null,"",null,"",null,"",null,null,"","",null,"",null,"",null,"",null,null,"","",null,"",null,"",null,"",null,null,"","",null,"",null,"",null,"",null,null,"","",null,"",null,"",null,"",null,null,"","",null,"",null,"",null,"",null,null,"","",null,"",null,"",null,"",null,null,"","",null,"",null,"",null,"",null,null,"","",null,"",null,"",null,"",null,null,"","",null,"",null,"",null,"",null,null,"","",null,"",null,"",null,"",null,null,"","",null,"",null,"",null,"",null,null,"","",null,"",null,"",null,"",null,null,"","",null,"",null,"",null,"",null,null,"","",null,"",null,"",null,""]
[88,{"$f":"IF(ISERROR(INDEX(WS,ROWS($A$1773:$A1860))),\"\",MID(INDEX(WS,ROWS($A$1773:$A1860)), FIND(\"]\",INDEX(WS,ROWS($A$1773:$A1860)))+1,32))&T(NOW())","v":""},"","",null,"",null,"",null,"",null,null,"","",null,"",null,"",null,"",null,null,"","",null,"",null,"",null,"",null,null,"","",null,"",null,"",null,"",null,null,"","",null,"",null,"",null,"",null,null,"","",null,"",null,"",null,"",null,null,"","",null,"",null,"",null,"",null,null,"","",null,"",null,"",null,"",null,null,"","",null,"",null,"",null,"",null,null,"","",null,"",null,"",null,"",null,null,"","",null,"",null,"",null,"",null,null,"","",null,"",null,"",null,"",null,null,"","",null,"",null,"",null,"",null,null,"","",null,"",null,"",null,"",null,null,"","",null,"",null,"",null,"",null,null,"","",null,"",null,"",null,"",null,null,"","",null,"",null,"",null,""]
[89,{"$f":"IF(ISERROR(INDEX(WS,ROWS($A$1773:$A1861))),\"\",MID(INDEX(WS,ROWS($A$1773:$A1861)), FIND(\"]\",INDEX(WS,ROWS($A$1773:$A1861)))+1,32))&T(NOW())","v":""},"","",null,"",null,"",null,"",null,null,"","",null,"",null,"",null,"",null,null,"","",null,"",null,"",null,"",null,null,"","",null,"",null,"",null,"",null,null,"","",null,"",null,"",null,"",null,null,"","",null,"",null,"",null,"",null,null,"","",null,"",null,"",null,"",null,null,"","",null,"",null,"",null,"",null,null,"","",null,"",null,"",null,"",null,null,"","",null,"",null,"",null,"",null,null,"","",null,"",null,"",null,"",null,null,"","",null,"",null,"",null,"",null,null,"","",null,"",null,"",null,"",null,null,"","",null,"",null,"",null,"",null,null,"","",null,"",null,"",null,"",null,null,"","",null,"",null,"",null,"",null,null,"","",null,"",null,"",null,""]
[90,{"$f":"IF(ISERROR(INDEX(WS,ROWS($A$1773:$A1862))),\"\",MID(INDEX(WS,ROWS($A$1773:$A1862)), FIND(\"]\",INDEX(WS,ROWS($A$1773:$A1862)))+1,32))&T(NOW())","v":""},"","",null,"",null,"",null,"",null,null,"","",null,"",null,"",null,"",null,null,"","",null,"",null,"",null,"",null,null,"","",null,"",null,"",null,"",null,null,"","",null,"",null,"",null,"",null,null,"","",null,"",null,"",null,"",null,null,"","",null,"",null,"",null,"",null,null,"","",null,"",null,"",null,"",null,null,"","",null,"",null,"",null,"",null,null,"","",null,"",null,"",null,"",null,null,"","",null,"",null,"",null,"",null,null,"","",null,"",null,"",null,"",null,null,"","",null,"",null,"",null,"",null,null,"","",null,"",null,"",null,"",null,null,"","",null,"",null,"",null,"",null,null,"","",null,"",null,"",null,"",null,null,"","",null,"",null,"",null,""]
[91,{"$f":"IF(ISERROR(INDEX(WS,ROWS($A$1773:$A1863))),\"\",MID(INDEX(WS,ROWS($A$1773:$A1863)), FIND(\"]\",INDEX(WS,ROWS($A$1773:$A1863)))+1,32))&T(NOW())","v":""},"","",null,"",null,"",null,"",null,null,"","",null,"",null,"",null,"",null,null,"","",null,"",null,"",null,"",null,null,"","",null,"",null,"",null,"",null,null,"","",null,"",null,"",null,"",null,null,"","",null,"",null,"",null,"",null,null,"","",null,"",null,"",null,"",null,null,"","",null,"",null,"",null,"",null,null,"","",null,"",null,"",null,"",null,null,"","",null,"",null,"",null,"",null,null,"","",null,"",null,"",null,"",null,null,"","",null,"",null,"",null,"",null,null,"","",null,"",null,"",null,"",null,null,"","",null,"",null,"",null,"",null,null,"","",null,"",null,"",null,"",null,null,"","",null,"",null,"",null,"",null,null,"","",null,"",null,"",null,""]
[92,{"$f":"IF(ISERROR(INDEX(WS,ROWS($A$1773:$A1864))),\"\",MID(INDEX(WS,ROWS($A$1773:$A1864)), FIND(\"]\",INDEX(WS,ROWS($A$1773:$A1864)))+1,32))&T(NOW())","v":""},"","",null,"",null,"",null,"",null,null,"","",null,"",null,"",null,"",null,null,"","",null,"",null,"",null,"",null,null,"","",null,"",null,"",null,"",null,null,"","",null,"",null,"",null,"",null,null,"","",null,"",null,"",null,"",null,null,"","",null,"",null,"",null,"",null,null,"","",null,"",null,"",null,"",null,null,"","",null,"",null,"",null,"",null,null,"","",null,"",null,"",null,"",null,null,"","",null,"",null,"",null,"",null,null,"","",null,"",null,"",null,"",null,null,"","",null,"",null,"",null,"",null,null,"","",null,"",null,"",null,"",null,null,"","",null,"",null,"",null,"",null,null,"","",null,"",null,"",null,"",null,null,"","",null,"",null,"",null,""]
[93,{"$f":"IF(ISERROR(INDEX(WS,ROWS($A$1773:$A1865))),\"\",MID(INDEX(WS,ROWS($A$1773:$A1865)), FIND(\"]\",INDEX(WS,ROWS($A$1773:$A1865)))+1,32))&T(NOW())","v":""},"","",null,"",null,"",null,"",null,null,"","",null,"",null,"",null,"",null,null,"","",null,"",null,"",null,"",null,null,"","",null,"",null,"",null,"",null,null,"","",null,"",null,"",null,"",null,null,"","",null,"",null,"",null,"",null,null,"","",null,"",null,"",null,"",null,null,"","",null,"",null,"",null,"",null,null,"","",null,"",null,"",null,"",null,null,"","",null,"",null,"",null,"",null,null,"","",null,"",null,"",null,"",null,null,"","",null,"",null,"",null,"",null,null,"","",null,"",null,"",null,"",null,null,"","",null,"",null,"",null,"",null,null,"","",null,"",null,"",null,"",null,null,"","",null,"",null,"",null,"",null,null,"","",null,"",null,"",null,""]
[94,{"$f":"IF(ISERROR(INDEX(WS,ROWS($A$1773:$A1866))),\"\",MID(INDEX(WS,ROWS($A$1773:$A1866)), FIND(\"]\",INDEX(WS,ROWS($A$1773:$A1866)))+1,32))&T(NOW())","v":""},"","",null,"",null,"",null,"",null,null,"","",null,"",null,"",null,"",null,null,"","",null,"",null,"",null,"",null,null,"","",null,"",null,"",null,"",null,null,"","",null,"",null,"",null,"",null,null,"","",null,"",null,"",null,"",null,null,"","",null,"",null,"",null,"",null,null,"","",null,"",null,"",null,"",null,null,"","",null,"",null,"",null,"",null,null,"","",null,"",null,"",null,"",null,null,"","",null,"",null,"",null,"",null,null,"","",null,"",null,"",null,"",null,null,"","",null,"",null,"",null,"",null,null,"","",null,"",null,"",null,"",null,null,"","",null,"",null,"",null,"",null,null,"","",null,"",null,"",null,"",null,null,"","",null,"",null,"",null,""]
[95,{"$f":"IF(ISERROR(INDEX(WS,ROWS($A$1773:$A1867))),\"\",MID(INDEX(WS,ROWS($A$1773:$A1867)), FIND(\"]\",INDEX(WS,ROWS($A$1773:$A1867)))+1,32))&T(NOW())","v":""},"","",null,"",null,"",null,"",null,null,"","",null,"",null,"",null,"",null,null,"","",null,"",null,"",null,"",null,null,"","",null,"",null,"",null,"",null,null,"","",null,"",null,"",null,"",null,null,"","",null,"",null,"",null,"",null,null,"","",null,"",null,"",null,"",null,null,"","",null,"",null,"",null,"",null,null,"","",null,"",null,"",null,"",null,null,"","",null,"",null,"",null,"",null,null,"","",null,"",null,"",null,"",null,null,"","",null,"",null,"",null,"",null,null,"","",null,"",null,"",null,"",null,null,"","",null,"",null,"",null,"",null,null,"","",null,"",null,"",null,"",null,null,"","",null,"",null,"",null,"",null,null,"","",null,"",null,"",null,""]
[96,{"$f":"IF(ISERROR(INDEX(WS,ROWS($A$1773:$A1868))),\"\",MID(INDEX(WS,ROWS($A$1773:$A1868)), FIND(\"]\",INDEX(WS,ROWS($A$1773:$A1868)))+1,32))&T(NOW())","v":""},"","",null,"",null,"",null,"",null,null,"","",null,"",null,"",null,"",null,null,"","",null,"",null,"",null,"",null,null,"","",null,"",null,"",null,"",null,null,"","",null,"",null,"",null,"",null,null,"","",null,"",null,"",null,"",null,null,"","",null,"",null,"",null,"",null,null,"","",null,"",null,"",null,"",null,null,"","",null,"",null,"",null,"",null,null,"","",null,"",null,"",null,"",null,null,"","",null,"",null,"",null,"",null,null,"","",null,"",null,"",null,"",null,null,"","",null,"",null,"",null,"",null,null,"","",null,"",null,"",null,"",null,null,"","",null,"",null,"",null,"",null,null,"","",null,"",null,"",null,"",null,null,"","",null,"",null,"",null,""]
[97,{"$f":"IF(ISERROR(INDEX(WS,ROWS($A$1773:$A1869))),\"\",MID(INDEX(WS,ROWS($A$1773:$A1869)), FIND(\"]\",INDEX(WS,ROWS($A$1773:$A1869)))+1,32))&T(NOW())","v":""},"","",null,"",null,"",null,"",null,null,"","",null,"",null,"",null,"",null,null,"","",null,"",null,"",null,"",null,null,"","",null,"",null,"",null,"",null,null,"","",null,"",null,"",null,"",null,null,"","",null,"",null,"",null,"",null,null,"","",null,"",null,"",null,"",null,null,"","",null,"",null,"",null,"",null,null,"","",null,"",null,"",null,"",null,null,"","",null,"",null,"",null,"",null,null,"","",null,"",null,"",null,"",null,null,"","",null,"",null,"",null,"",null,null,"","",null,"",null,"",null,"",null,null,"","",null,"",null,"",null,"",null,null,"","",null,"",null,"",null,"",null,null,"","",null,"",null,"",null,"",null,null,"","",null,"",null,"",null,""]
[98,{"$f":"IF(ISERROR(INDEX(WS,ROWS($A$1773:$A1870))),\"\",MID(INDEX(WS,ROWS($A$1773:$A1870)), FIND(\"]\",INDEX(WS,ROWS($A$1773:$A1870)))+1,32))&T(NOW())","v":""},"","",null,"",null,"",null,"",null,null,"","",null,"",null,"",null,"",null,null,"","",null,"",null,"",null,"",null,null,"","",null,"",null,"",null,"",null,null,"","",null,"",null,"",null,"",null,null,"","",null,"",null,"",null,"",null,null,"","",null,"",null,"",null,"",null,null,"","",null,"",null,"",null,"",null,null,"","",null,"",null,"",null,"",null,null,"","",null,"",null,"",null,"",null,null,"","",null,"",null,"",null,"",null,null,"","",null,"",null,"",null,"",null,null,"","",null,"",null,"",null,"",null,null,"","",null,"",null,"",null,"",null,null,"","",null,"",null,"",null,"",null,null,"","",null,"",null,"",null,"",null,null,"","",null,"",null,"",null,""]
[99,{"$f":"IF(ISERROR(INDEX(WS,ROWS($A$1773:$A1871))),\"\",MID(INDEX(WS,ROWS($A$1773:$A1871)), FIND(\"]\",INDEX(WS,ROWS($A$1773:$A1871)))+1,32))&T(NOW())","v":""},"","",null,"",null,"",null,"",null,null,"","",null,"",null,"",null,"",null,null,"","",null,"",null,"",null,"",null,null,"","",null,"",null,"",null,"",null,null,"","",null,"",null,"",null,"",null,null,"","",null,"",null,"",null,"",null,null,"","",null,"",null,"",null,"",null,null,"","",null,"",null,"",null,"",null,null,"","",null,"",null,"",null,"",null,null,"","",null,"",null,"",null,"",null,null,"","",null,"",null,"",null,"",null,null,"","",null,"",null,"",null,"",null,null,"","",null,"",null,"",null,"",null,null,"","",null,"",null,"",null,"",null,null,"","",null,"",null,"",null,"",null,null,"","",null,"",null,"",null,"",null,null,"","",null,"",null,"",null,""]
[100,{"$f":"IF(ISERROR(INDEX(WS,ROWS($A$1773:$A1872))),\"\",MID(INDEX(WS,ROWS($A$1773:$A1872)), FIND(\"]\",INDEX(WS,ROWS($A$1773:$A1872)))+1,32))&T(NOW())","v":""},"","",null,"",null,"",null,"",null,null,"","",null,"",null,"",null,"",null,null,"","",null,"",null,"",null,"",null,null,"","",null,"",null,"",null,"",null,null,"","",null,"",null,"",null,"",null,null,"","",null,"",null,"",null,"",null,null,"","",null,"",null,"",null,"",null,null,"","",null,"",null,"",null,"",null,null,"","",null,"",null,"",null,"",null,null,"","",null,"",null,"",null,"",null,null,"","",null,"",null,"",null,"",null,null,"","",null,"",null,"",null,"",null,null,"","",null,"",null,"",null,"",null,null,"","",null,"",null,"",null,"",null,null,"","",null,"",null,"",null,"",null,null,"","",null,"",null,"",null,"",null,null,"","",null,"",null,"",null,""]